| Back to Multiple platform build/check report for BioC 3.8 |
|
This page was generated on 2019-04-13 11:20:46 -0400 (Sat, 13 Apr 2019).
| Package 805/1649 | Hostname | OS / Arch | INSTALL | BUILD | CHECK | BUILD BIN | ||||||
| iterativeBMAsurv 1.40.0 Ka Yee Yeung
| malbec1 | Linux (Ubuntu 16.04.6 LTS) / x86_64 | OK | OK | OK | |||||||
| tokay1 | Windows Server 2012 R2 Standard / x64 | OK | OK | [ OK ] | OK | |||||||
| merida1 | OS X 10.11.6 El Capitan / x86_64 | OK | OK | OK | OK |
| Package: iterativeBMAsurv |
| Version: 1.40.0 |
| Command: C:\Users\biocbuild\bbs-3.8-bioc\R\bin\R.exe CMD check --force-multiarch --install=check:iterativeBMAsurv.install-out.txt --library=C:\Users\biocbuild\bbs-3.8-bioc\R\library --no-vignettes --timings iterativeBMAsurv_1.40.0.tar.gz |
| StartedAt: 2019-04-13 03:18:26 -0400 (Sat, 13 Apr 2019) |
| EndedAt: 2019-04-13 03:21:46 -0400 (Sat, 13 Apr 2019) |
| EllapsedTime: 199.6 seconds |
| RetCode: 0 |
| Status: OK |
| CheckDir: iterativeBMAsurv.Rcheck |
| Warnings: 0 |
##############################################################################
##############################################################################
###
### Running command:
###
### C:\Users\biocbuild\bbs-3.8-bioc\R\bin\R.exe CMD check --force-multiarch --install=check:iterativeBMAsurv.install-out.txt --library=C:\Users\biocbuild\bbs-3.8-bioc\R\library --no-vignettes --timings iterativeBMAsurv_1.40.0.tar.gz
###
##############################################################################
##############################################################################
* using log directory 'C:/Users/biocbuild/bbs-3.8-bioc/meat/iterativeBMAsurv.Rcheck'
* using R version 3.5.3 (2019-03-11)
* using platform: x86_64-w64-mingw32 (64-bit)
* using session charset: ISO8859-1
* using option '--no-vignettes'
* checking for file 'iterativeBMAsurv/DESCRIPTION' ... OK
* checking extension type ... Package
* this is package 'iterativeBMAsurv' version '1.40.0'
* checking package namespace information ... OK
* checking package dependencies ...Warning: unable to access index for repository https://CRAN.R-project.org/src/contrib:
cannot open URL 'https://CRAN.R-project.org/src/contrib/PACKAGES'
OK
* checking if this is a source package ... OK
* checking if there is a namespace ... OK
* checking for hidden files and directories ... OK
* checking for portable file names ... OK
* checking whether package 'iterativeBMAsurv' can be installed ... OK
* checking installed package size ... OK
* checking package directory ... OK
* checking 'build' directory ... OK
* checking DESCRIPTION meta-information ... NOTE
Package listed in more than one of Depends, Imports, Suggests, Enhances:
'survival'
A package should be listed in only one of these fields.
* checking top-level files ... OK
* checking for left-over files ... OK
* checking index information ... OK
* checking package subdirectories ... OK
* checking R files for non-ASCII characters ... OK
* checking R files for syntax errors ... OK
* loading checks for arch 'i386'
** checking whether the package can be loaded ... OK
** checking whether the package can be loaded with stated dependencies ... OK
** checking whether the package can be unloaded cleanly ... OK
** checking whether the namespace can be loaded with stated dependencies ... OK
** checking whether the namespace can be unloaded cleanly ... OK
* loading checks for arch 'x64'
** checking whether the package can be loaded ... OK
** checking whether the package can be loaded with stated dependencies ... OK
** checking whether the package can be unloaded cleanly ... OK
** checking whether the namespace can be loaded with stated dependencies ... OK
** checking whether the namespace can be unloaded cleanly ... OK
* checking dependencies in R code ... NOTE
Packages in Depends field not imported from:
'BMA' 'leaps' 'splines'
These packages need to be imported from (in the NAMESPACE file)
for when this namespace is loaded but not attached.
* checking S3 generic/method consistency ... OK
* checking replacement functions ... OK
* checking foreign function calls ... OK
* checking R code for possible problems ... NOTE
iterateBMAsurv.train: no visible global function definition for
'bic.surv'
iterateBMAsurv.train.wrapper: no visible global function definition for
'bic.surv'
Undefined global functions or variables:
bic.surv
* checking Rd files ... NOTE
prepare_Rd: predictBicSurv.Rd:46: Dropping empty section \note
prepare_Rd: predictiveAssessCategory.Rd:52: Dropping empty section \note
prepare_Rd: printTopGenes.Rd:49: Dropping empty section \note
prepare_Rd: singleGeneCoxph.Rd:54: Dropping empty section \note
prepare_Rd: testCens.Rd:13-14: Dropping empty section \details
prepare_Rd: testSurv.Rd:13-14: Dropping empty section \details
prepare_Rd: trainCens.Rd:13-14: Dropping empty section \details
prepare_Rd: trainSurv.Rd:13-14: Dropping empty section \details
* checking Rd metadata ... OK
* checking Rd cross-references ... OK
* checking for missing documentation entries ... OK
* checking for code/documentation mismatches ... OK
* checking Rd \usage sections ... OK
* checking Rd contents ... OK
* checking for unstated dependencies in examples ... OK
* checking contents of 'data' directory ... OK
* checking data for non-ASCII characters ... OK
* checking data for ASCII and uncompressed saves ... OK
* checking files in 'vignettes' ... OK
* checking examples ...
** running examples for arch 'i386' ... OK
Examples with CPU or elapsed time > 5s
user system elapsed
imageplot.iterate.bma.surv 12.00 0.04 12.05
iterateBMAsurv.train 6.83 0.02 6.84
predictiveAssessCategory 5.69 0.07 5.78
iterateBMAsurv.train.wrapper 5.50 0.04 5.55
predictBicSurv 5.34 0.04 5.38
** running examples for arch 'x64' ... OK
Examples with CPU or elapsed time > 5s
user system elapsed
imageplot.iterate.bma.surv 12.45 0.02 12.47
predictBicSurv 6.06 0.00 6.06
predictiveAssessCategory 6.05 0.01 6.06
iterateBMAsurv.train.wrapper 5.81 0.02 5.83
iterateBMAsurv.train 5.75 0.01 5.77
* checking for unstated dependencies in vignettes ... OK
* checking package vignettes in 'inst/doc' ... OK
* checking running R code from vignettes ... SKIPPED
* checking re-building of vignette outputs ... SKIPPED
* checking PDF version of manual ... OK
* DONE
Status: 4 NOTEs
See
'C:/Users/biocbuild/bbs-3.8-bioc/meat/iterativeBMAsurv.Rcheck/00check.log'
for details.
iterativeBMAsurv.Rcheck/00install.out
##############################################################################
##############################################################################
###
### Running command:
###
### C:\cygwin\bin\curl.exe -O https://malbec1.bioconductor.org/BBS/3.8/bioc/src/contrib/iterativeBMAsurv_1.40.0.tar.gz && rm -rf iterativeBMAsurv.buildbin-libdir && mkdir iterativeBMAsurv.buildbin-libdir && C:\Users\biocbuild\bbs-3.8-bioc\R\bin\R.exe CMD INSTALL --merge-multiarch --build --library=iterativeBMAsurv.buildbin-libdir iterativeBMAsurv_1.40.0.tar.gz && C:\Users\biocbuild\bbs-3.8-bioc\R\bin\R.exe CMD INSTALL iterativeBMAsurv_1.40.0.zip && rm iterativeBMAsurv_1.40.0.tar.gz iterativeBMAsurv_1.40.0.zip
###
##############################################################################
##############################################################################
% Total % Received % Xferd Average Speed Time Time Time Current
Dload Upload Total Spent Left Speed
0 0 0 0 0 0 0 0 --:--:-- --:--:-- --:--:-- 0
100 58538 100 58538 0 0 1491k 0 --:--:-- --:--:-- --:--:-- 1681k
install for i386
* installing *source* package 'iterativeBMAsurv' ...
** R
** data
** byte-compile and prepare package for lazy loading
** help
*** installing help indices
converting help for package 'iterativeBMAsurv'
finding HTML links ... done
crossVal html
imageplot.iterate.bma.surv html
iterateBMAsurv.train html
iterateBMAsurv.train.predict.assess html
iterateBMAsurv.train.wrapper html
iterativeBMAsurv-internal html
iterativeBMAsurv-package html
predictBicSurv html
predictiveAssessCategory html
printTopGenes html
singleGeneCoxph html
testCens html
testData html
testSurv html
trainCens html
trainData html
trainSurv html
** building package indices
** installing vignettes
** testing if installed package can be loaded
In R CMD INSTALL
install for x64
* installing *source* package 'iterativeBMAsurv' ...
** testing if installed package can be loaded
* MD5 sums
packaged installation of 'iterativeBMAsurv' as iterativeBMAsurv_1.40.0.zip
* DONE (iterativeBMAsurv)
In R CMD INSTALL
In R CMD INSTALL
* installing to library 'C:/Users/biocbuild/bbs-3.8-bioc/R/library'
package 'iterativeBMAsurv' successfully unpacked and MD5 sums checked
In R CMD INSTALL
|
iterativeBMAsurv.Rcheck/examples_i386/iterativeBMAsurv-Ex.timings
|
iterativeBMAsurv.Rcheck/examples_x64/iterativeBMAsurv-Ex.timings
|