| Back to Multiple platform build/check report for BioC 3.8 |
|
This page was generated on 2019-04-13 11:26:33 -0400 (Sat, 13 Apr 2019).
| Package 802/1649 | Hostname | OS / Arch | INSTALL | BUILD | CHECK | BUILD BIN | ||||||
| isomiRs 1.10.1 Lorena Pantano
| malbec1 | Linux (Ubuntu 16.04.6 LTS) / x86_64 | OK | OK | OK | |||||||
| tokay1 | Windows Server 2012 R2 Standard / x64 | OK | OK | OK | [ OK ] | |||||||
| merida1 | OS X 10.11.6 El Capitan / x86_64 | OK | OK | OK | OK |
| Package: isomiRs |
| Version: 1.10.1 |
| Command: rm -rf isomiRs.buildbin-libdir && mkdir isomiRs.buildbin-libdir && C:\Users\biocbuild\bbs-3.8-bioc\R\bin\R.exe CMD INSTALL --merge-multiarch --build --library=isomiRs.buildbin-libdir isomiRs_1.10.1.tar.gz |
| StartedAt: 2019-04-13 07:33:06 -0400 (Sat, 13 Apr 2019) |
| EndedAt: 2019-04-13 07:34:00 -0400 (Sat, 13 Apr 2019) |
| EllapsedTime: 53.7 seconds |
| RetCode: 0 |
| Status: OK |
| PackageFile: isomiRs_1.10.1.zip |
| PackageFileSize: 2.01 MiB |
##############################################################################
##############################################################################
###
### Running command:
###
### rm -rf isomiRs.buildbin-libdir && mkdir isomiRs.buildbin-libdir && C:\Users\biocbuild\bbs-3.8-bioc\R\bin\R.exe CMD INSTALL --merge-multiarch --build --library=isomiRs.buildbin-libdir isomiRs_1.10.1.tar.gz
###
##############################################################################
##############################################################################
install for i386
* installing *source* package 'isomiRs' ...
** R
** data
*** moving datasets to lazyload DB
** inst
** byte-compile and prepare package for lazy loading
** help
*** installing help indices
converting help for package 'isomiRs'
finding HTML links ... done
IsomirDataSeq html
IsomirDataSeqFromFiles html
counts html
dat286.long html
design html
ego html
findTargets html
gene_ex_rse html
isoCounts html
isoDE html
isoNetwork html
isoNorm html
isoPLSDA html
isoPLSDAplot html
isoPlot html
isoPlotNet html
isoPlotPosition html
isoSelect html
isoTop html
isomiRs-package html
ma_ex html
mirData html
mirTritation html
mirna2targetscan html
mirna_ex_rse html
updateIsomirDataSeq html
** building package indices
** installing vignettes
** testing if installed package can be loaded
In R CMD INSTALL
install for x64
* installing *source* package 'isomiRs' ...
** testing if installed package can be loaded
* MD5 sums
packaged installation of 'isomiRs' as isomiRs_1.10.1.zip
* DONE (isomiRs)
In R CMD INSTALL
In R CMD INSTALL