| Back to Multiple platform build/check report for BioC 3.8 |
|
This page was generated on 2019-04-13 11:21:55 -0400 (Sat, 13 Apr 2019).
| Package 797/1649 | Hostname | OS / Arch | INSTALL | BUILD | CHECK | BUILD BIN | ||||||
| isobar 1.28.1 Florian P Breitwieser
| malbec1 | Linux (Ubuntu 16.04.6 LTS) / x86_64 | OK | OK | WARNINGS | |||||||
| tokay1 | Windows Server 2012 R2 Standard / x64 | [ OK ] | OK | WARNINGS | OK | |||||||
| merida1 | OS X 10.11.6 El Capitan / x86_64 | OK | OK | WARNINGS | OK |
| Package: isobar |
| Version: 1.28.1 |
| Command: C:\cygwin\bin\curl.exe -O https://malbec1.bioconductor.org/BBS/3.8/bioc/src/contrib/isobar_1.28.1.tar.gz && rm -rf isobar.buildbin-libdir && mkdir isobar.buildbin-libdir && C:\Users\biocbuild\bbs-3.8-bioc\R\bin\R.exe CMD INSTALL --merge-multiarch --build --library=isobar.buildbin-libdir isobar_1.28.1.tar.gz && C:\Users\biocbuild\bbs-3.8-bioc\R\bin\R.exe CMD INSTALL isobar_1.28.1.zip && rm isobar_1.28.1.tar.gz isobar_1.28.1.zip |
| StartedAt: 2019-04-12 19:26:53 -0400 (Fri, 12 Apr 2019) |
| EndedAt: 2019-04-12 19:29:06 -0400 (Fri, 12 Apr 2019) |
| EllapsedTime: 133.2 seconds |
| RetCode: 0 |
| Status: OK |
##############################################################################
##############################################################################
###
### Running command:
###
### C:\cygwin\bin\curl.exe -O https://malbec1.bioconductor.org/BBS/3.8/bioc/src/contrib/isobar_1.28.1.tar.gz && rm -rf isobar.buildbin-libdir && mkdir isobar.buildbin-libdir && C:\Users\biocbuild\bbs-3.8-bioc\R\bin\R.exe CMD INSTALL --merge-multiarch --build --library=isobar.buildbin-libdir isobar_1.28.1.tar.gz && C:\Users\biocbuild\bbs-3.8-bioc\R\bin\R.exe CMD INSTALL isobar_1.28.1.zip && rm isobar_1.28.1.tar.gz isobar_1.28.1.zip
###
##############################################################################
##############################################################################
% Total % Received % Xferd Average Speed Time Time Time Current
Dload Upload Total Spent Left Speed
0 0 0 0 0 0 0 0 --:--:-- --:--:-- --:--:-- 0
100 2190k 100 2190k 0 0 35.6M 0 --:--:-- --:--:-- --:--:-- 38.2M
install for i386
* installing *source* package 'isobar' ...
** R
** data
** inst
** byte-compile and prepare package for lazy loading
in method for 'coerce' with signature '"MSnSet","IBSpectra"': no definition for class "MSnSet"
in method for 'coerce' with signature '"IBSpectra","MSnSet"': no definition for class "MSnSet"
Note: possible error in 'png(sprintf("pairwise_correlation_%s.png", ': unused argument (title = "Pairwise Correlation plot")
** help
*** installing help indices
converting help for package 'isobar'
finding HTML links ... done
IBSpectra-class html
finding level-2 HTML links ... done
Rd warning: C:/Users/biocbuild/bbs-3.8-bioc/tmpdir/RtmpiiKzA9/R.INSTALL16803829296c/isobar/man/IBSpectra-class.Rd:175: file link 'MSnSet' in package 'MSnbase' does not exist and so has been treated as a topic
Rd warning: C:/Users/biocbuild/bbs-3.8-bioc/tmpdir/RtmpiiKzA9/R.INSTALL16803829296c/isobar/man/IBSpectra-class.Rd:176: missing file link 'MSnbase'
Rd warning: C:/Users/biocbuild/bbs-3.8-bioc/tmpdir/RtmpiiKzA9/R.INSTALL16803829296c/isobar/man/IBSpectra-class.Rd:178: file link 'MSnSet' in package 'MSnbase' does not exist and so has been treated as a topic
Rd warning: C:/Users/biocbuild/bbs-3.8-bioc/tmpdir/RtmpiiKzA9/R.INSTALL16803829296c/isobar/man/IBSpectra-class.Rd:232: file link 'ProteinGroup' in package 'isobar' does not exist and so has been treated as a topic
NoiseModel-class html
ProteinGroup-class html
Rd warning: C:/Users/biocbuild/bbs-3.8-bioc/tmpdir/RtmpiiKzA9/R.INSTALL16803829296c/isobar/man/ProteinGroup-class.Rd:177: file link 'IBSpectra' in package 'isobar' does not exist and so has been treated as a topic
TlsParameter-class html
Tlsd-class html
calc.delta.score html
calc.startpos html
calculate-pvalues html
calculate.dNSAF html
calculate.emPAI html
correct.peptide.ratios html
distr-methods html
fit-distr html
Rd warning: C:/Users/biocbuild/bbs-3.8-bioc/tmpdir/RtmpiiKzA9/R.INSTALL16803829296c/isobar/man/fit-distr.Rd:28: file link 'Cauchy' in package 'distr' does not exist and so has been treated as a topic
Rd warning: C:/Users/biocbuild/bbs-3.8-bioc/tmpdir/RtmpiiKzA9/R.INSTALL16803829296c/isobar/man/fit-distr.Rd:28: file link 'Norm' in package 'distr' does not exist and so has been treated as a topic
getPeptideModifContext html
getPhosphoRSProbabilities html
getPtmInfo html
groupMemberPeptides html
human.protein.names html
isobar-analysis html
isobar-data html
isobar-import html
isobar-log html
isobar-package html
isobar-plots html
isobar-preprocessing html
isobar-reports html
maplot.protein html
number.ranges html
observedKnownSites html
peptide.count html
proteinInfo-methods html
proteinNameAndDescription html
ratio-summ html
ratiosReshapeWide html
reporter.protein-methods html
sanitize html
shared.ratios html
shared.ratios.sign html
specificities html
spectra.count2 html
subsetIBSpectra html
utils html
writeHscoreData html
writeIBSpectra html
** building package indices
** installing vignettes
** testing if installed package can be loaded
In R CMD INSTALL
install for x64
* installing *source* package 'isobar' ...
** testing if installed package can be loaded
* MD5 sums
packaged installation of 'isobar' as isobar_1.28.1.zip
* DONE (isobar)
In R CMD INSTALL
In R CMD INSTALL
* installing to library 'C:/Users/biocbuild/bbs-3.8-bioc/R/library'
package 'isobar' successfully unpacked and MD5 sums checked
In R CMD INSTALL