| Back to Multiple platform build/check report for BioC 3.8 |
|
This page was generated on 2019-04-13 11:29:29 -0400 (Sat, 13 Apr 2019).
| Package 790/1649 | Hostname | OS / Arch | INSTALL | BUILD | CHECK | BUILD BIN | ||||||
| ipdDb 1.0.0 Steffen Klasberg
| malbec1 | Linux (Ubuntu 16.04.6 LTS) / x86_64 | OK | OK | OK | |||||||
| tokay1 | Windows Server 2012 R2 Standard / x64 | OK | OK | OK | [ OK ] | |||||||
| merida1 | OS X 10.11.6 El Capitan / x86_64 | OK | OK | OK | OK |
| Package: ipdDb |
| Version: 1.0.0 |
| Command: rm -rf ipdDb.buildbin-libdir && mkdir ipdDb.buildbin-libdir && C:\Users\biocbuild\bbs-3.8-bioc\R\bin\R.exe CMD INSTALL --merge-multiarch --build --library=ipdDb.buildbin-libdir ipdDb_1.0.0.tar.gz |
| StartedAt: 2019-04-13 07:32:37 -0400 (Sat, 13 Apr 2019) |
| EndedAt: 2019-04-13 07:32:59 -0400 (Sat, 13 Apr 2019) |
| EllapsedTime: 21.8 seconds |
| RetCode: 0 |
| Status: OK |
| PackageFile: ipdDb_1.0.0.zip |
| PackageFileSize: 155.1 KiB |
##############################################################################
##############################################################################
###
### Running command:
###
### rm -rf ipdDb.buildbin-libdir && mkdir ipdDb.buildbin-libdir && C:\Users\biocbuild\bbs-3.8-bioc\R\bin\R.exe CMD INSTALL --merge-multiarch --build --library=ipdDb.buildbin-libdir ipdDb_1.0.0.tar.gz
###
##############################################################################
##############################################################################
install for i386
* installing *source* package 'ipdDb' ...
** R
** inst
** byte-compile and prepare package for lazy loading
** help
*** installing help indices
converting help for package 'ipdDb'
finding HTML links ... done
IpdDb html
getAlleles-IpdDb-method html
getClosestComplete-IpdDb-method html
getLoci-IpdDb-method html
getReference-IpdDb-method html
getStructure-IpdDb-method html
ipdDbPackage html
loadHlaData html
loadKirData html
** building package indices
** installing vignettes
** testing if installed package can be loaded
In R CMD INSTALL
install for x64
* installing *source* package 'ipdDb' ...
** testing if installed package can be loaded
* MD5 sums
packaged installation of 'ipdDb' as ipdDb_1.0.0.zip
* DONE (ipdDb)
In R CMD INSTALL
In R CMD INSTALL