| Back to Multiple platform build/check report for BioC 3.8 |
|
This page was generated on 2019-04-16 11:51:09 -0400 (Tue, 16 Apr 2019).
| Package 770/1649 | Hostname | OS / Arch | INSTALL | BUILD | CHECK | BUILD BIN | ||||||
| immunoClust 1.14.1 Till Soerensen
| malbec1 | Linux (Ubuntu 16.04.6 LTS) / x86_64 | OK | OK | [ OK ] | |||||||
| merida1 | OS X 10.11.6 El Capitan / x86_64 | OK | OK | OK | OK |
| Package: immunoClust |
| Version: 1.14.1 |
| Command: /home/biocbuild/bbs-3.8-bioc/R/bin/R CMD check --install=check:immunoClust.install-out.txt --library=/home/biocbuild/bbs-3.8-bioc/R/library --no-vignettes --timings immunoClust_1.14.1.tar.gz |
| StartedAt: 2019-04-16 00:47:58 -0400 (Tue, 16 Apr 2019) |
| EndedAt: 2019-04-16 00:51:54 -0400 (Tue, 16 Apr 2019) |
| EllapsedTime: 235.6 seconds |
| RetCode: 0 |
| Status: OK |
| CheckDir: immunoClust.Rcheck |
| Warnings: 0 |
##############################################################################
##############################################################################
###
### Running command:
###
### /home/biocbuild/bbs-3.8-bioc/R/bin/R CMD check --install=check:immunoClust.install-out.txt --library=/home/biocbuild/bbs-3.8-bioc/R/library --no-vignettes --timings immunoClust_1.14.1.tar.gz
###
##############################################################################
##############################################################################
* using log directory ‘/home/biocbuild/bbs-3.8-bioc/meat/immunoClust.Rcheck’
* using R version 3.5.3 (2019-03-11)
* using platform: x86_64-pc-linux-gnu (64-bit)
* using session charset: UTF-8
* using option ‘--no-vignettes’
* checking for file ‘immunoClust/DESCRIPTION’ ... OK
* checking extension type ... Package
* this is package ‘immunoClust’ version ‘1.14.1’
* checking package namespace information ... OK
* checking package dependencies ... OK
* checking if this is a source package ... OK
* checking if there is a namespace ... OK
* checking for hidden files and directories ... OK
* checking for portable file names ... OK
* checking for sufficient/correct file permissions ... OK
* checking whether package ‘immunoClust’ can be installed ... OK
* checking installed package size ... OK
* checking package directory ... OK
* checking ‘build’ directory ... OK
* checking DESCRIPTION meta-information ... NOTE
Malformed Description field: should contain one or more complete sentences.
* checking top-level files ... OK
* checking for left-over files ... OK
* checking index information ... OK
* checking package subdirectories ... OK
* checking R files for non-ASCII characters ... OK
* checking R files for syntax errors ... OK
* checking whether the package can be loaded ... OK
* checking whether the package can be loaded with stated dependencies ... OK
* checking whether the package can be unloaded cleanly ... OK
* checking whether the namespace can be loaded with stated dependencies ... OK
* checking whether the namespace can be unloaded cleanly ... OK
* checking dependencies in R code ... OK
* checking S3 generic/method consistency ... OK
* checking replacement functions ... OK
* checking foreign function calls ... OK
* checking R code for possible problems ... OK
* checking Rd files ... OK
* checking Rd metadata ... OK
* checking Rd cross-references ... OK
* checking for missing documentation entries ... OK
* checking for code/documentation mismatches ... OK
* checking Rd \usage sections ... OK
* checking Rd contents ... OK
* checking for unstated dependencies in examples ... OK
* checking contents of ‘data’ directory ... OK
* checking data for non-ASCII characters ... OK
* checking data for ASCII and uncompressed saves ... OK
* checking line endings in shell scripts ... OK
* checking line endings in C/C++/Fortran sources/headers ... OK
* checking line endings in Makefiles ... OK
* checking compilation flags in Makevars ... OK
* checking for GNU extensions in Makefiles ... OK
* checking for portable use of $(BLAS_LIBS) and $(LAPACK_LIBS) ... OK
* checking compiled code ... NOTE
Note: information on .o files is not available
* checking files in ‘vignettes’ ... OK
* checking examples ... OK
Examples with CPU or elapsed time > 5s
user system elapsed
dat.fcs 68.120 0.028 68.228
cell.process 67.704 0.016 67.795
cell.SubClustering 16.964 0.004 16.992
* checking for unstated dependencies in vignettes ... OK
* checking package vignettes in ‘inst/doc’ ... OK
* checking running R code from vignettes ... SKIPPED
* checking re-building of vignette outputs ... SKIPPED
* checking PDF version of manual ... OK
* DONE
Status: 2 NOTEs
See
‘/home/biocbuild/bbs-3.8-bioc/meat/immunoClust.Rcheck/00check.log’
for details.
immunoClust.Rcheck/00install.out
##############################################################################
##############################################################################
###
### Running command:
###
### /home/biocbuild/bbs-3.8-bioc/R/bin/R CMD INSTALL immunoClust
###
##############################################################################
##############################################################################
* installing to library ‘/home/biocbuild/bbs-3.8-bioc/R/library’
* installing *source* package ‘immunoClust’ ...
checking for pkg-config... /usr/bin/pkg-config
checking pkg-config is at least version 0.9.0... yes
checking for GSL... yes
configure: creating ./config.status
config.status: creating src/Makevars
** libs
g++ -I"/home/biocbuild/bbs-3.8-bioc/R/include" -DNDEBUG -I/usr/local/include -fpic -g -O2 -Wall -c R_meta.cpp -o R_meta.o
g++ -I"/home/biocbuild/bbs-3.8-bioc/R/include" -DNDEBUG -I/usr/local/include -fpic -g -O2 -Wall -c R_model.cpp -o R_model.o
g++ -I"/home/biocbuild/bbs-3.8-bioc/R/include" -DNDEBUG -I/usr/local/include -fpic -g -O2 -Wall -c dist_mvn.cpp -o dist_mvn.o
dist_mvn.cpp: In member function ‘int dist_mvn::hellinger(double*)’:
dist_mvn.cpp:56:14: warning: variable ‘det_k’ set but not used [-Wunused-but-set-variable]
double det, det_k, det_l, logD;
^
g++ -I"/home/biocbuild/bbs-3.8-bioc/R/include" -DNDEBUG -I/usr/local/include -fpic -g -O2 -Wall -c em_meta.cpp -o em_meta.o
em_meta.cpp: In member function ‘double em_meta::bt_step()’:
em_meta.cpp:704:10: warning: variable ‘sndLike’ set but not used [-Wunused-but-set-variable]
double sndLike = 0.0;
^
em_meta.cpp: In member function ‘int em_meta::wt_step()’:
em_meta.cpp:1047:9: warning: variable ‘minNk’ set but not used [-Wunused-but-set-variable]
double minNk = T_sum;
^
em_meta.cpp:1049:9: warning: variable ‘minDelta’ set but not used [-Wunused-but-set-variable]
double minDelta = FLTMAX;
^
em_meta.cpp: In member function ‘int em_meta::st_step()’:
em_meta.cpp:1117:9: warning: variable ‘minNk’ set but not used [-Wunused-but-set-variable]
double minNk = T_sum;
^
em_meta.cpp:1119:9: warning: variable ‘minDelta’ set but not used [-Wunused-but-set-variable]
double minDelta = FLTMAX;
^
g++ -I"/home/biocbuild/bbs-3.8-bioc/R/include" -DNDEBUG -I/usr/local/include -fpic -g -O2 -Wall -c em_mvn.cpp -o em_mvn.o
em_mvn.cpp: In member function ‘int em_gaussian::build(const int*, double*, int*)’:
em_mvn.cpp:721:13: warning: variable ‘maxClust’ set but not used [-Wunused-but-set-variable]
int maxClust = -1;
^
g++ -I"/home/biocbuild/bbs-3.8-bioc/R/include" -DNDEBUG -I/usr/local/include -fpic -g -O2 -Wall -c em_mvt.cpp -o em_mvt.o
em_mvt.cpp: In member function ‘int em_mvt::t_step()’:
em_mvt.cpp:521:9: warning: variable ‘minNk’ set but not used [-Wunused-but-set-variable]
double minNk = T_sum;
^
em_mvt.cpp: In member function ‘int em_mvt::build(const int*, double*, int*)’:
em_mvt.cpp:771:13: warning: variable ‘maxClust’ set but not used [-Wunused-but-set-variable]
int maxClust = -1;
^
g++ -I"/home/biocbuild/bbs-3.8-bioc/R/include" -DNDEBUG -I/usr/local/include -fpic -g -O2 -Wall -c em_mvt2.cpp -o em_mvt2.o
em_mvt2.cpp: In member function ‘int em_mvt2::t_step()’:
em_mvt2.cpp:508:9: warning: variable ‘minNk’ set but not used [-Wunused-but-set-variable]
double minNk = T_sum;
^
em_mvt2.cpp: In member function ‘int em_mvt2::build(const int*, double*, int*)’:
em_mvt2.cpp:805:13: warning: variable ‘maxClust’ set but not used [-Wunused-but-set-variable]
int maxClust = -1;
^
g++ -I"/home/biocbuild/bbs-3.8-bioc/R/include" -DNDEBUG -I/usr/local/include -fpic -g -O2 -Wall -c hc_meta.cpp -o hc_meta.o
hc_meta.cpp: In member function ‘int mvn_dendro::mahalanobis_w(int*, int*, double*)’:
hc_meta.cpp:814:16: warning: variable ‘S_i’ set but not used [-Wunused-but-set-variable]
const double *S_i, *S_j;
^
g++ -I"/home/biocbuild/bbs-3.8-bioc/R/include" -DNDEBUG -I/usr/local/include -fpic -g -O2 -Wall -c hc_mvn.cpp -o hc_mvn.o
gcc -I"/home/biocbuild/bbs-3.8-bioc/R/include" -DNDEBUG -I/usr/local/include -fpic -g -O2 -Wall -c immunoClust.c -o immunoClust.o
g++ -I"/home/biocbuild/bbs-3.8-bioc/R/include" -DNDEBUG -I/usr/local/include -fpic -g -O2 -Wall -c meta_norm.cpp -o meta_norm.o
g++ -I"/home/biocbuild/bbs-3.8-bioc/R/include" -DNDEBUG -I/usr/local/include -fpic -g -O2 -Wall -c meta_scale.cpp -o meta_scale.o
meta_scale.cpp: In member function ‘void meta_scale::quantile()’:
meta_scale.cpp:846:10: warning: variable ‘w’ set but not used [-Wunused-but-set-variable]
double *w, *m, *s;
^
g++ -I"/home/biocbuild/bbs-3.8-bioc/R/include" -DNDEBUG -I/usr/local/include -fpic -g -O2 -Wall -c normalize.cpp -o normalize.o
g++ -I"/home/biocbuild/bbs-3.8-bioc/R/include" -DNDEBUG -I/usr/local/include -fpic -g -O2 -Wall -c sub_mvn.cpp -o sub_mvn.o
g++ -I"/home/biocbuild/bbs-3.8-bioc/R/include" -DNDEBUG -I/usr/local/include -fpic -g -O2 -Wall -c util.cpp -o util.o
g++ -I"/home/biocbuild/bbs-3.8-bioc/R/include" -DNDEBUG -I/usr/local/include -fpic -g -O2 -Wall -c vs_htrans.cpp -o vs_htrans.o
g++ -shared -L/home/biocbuild/bbs-3.8-bioc/R/lib -L/usr/local/lib -o immunoClust.so R_meta.o R_model.o dist_mvn.o em_meta.o em_mvn.o em_mvt.o em_mvt2.o hc_meta.o hc_mvn.o immunoClust.o meta_norm.o meta_scale.o normalize.o sub_mvn.o util.o vs_htrans.o -lgsl -lgslcblas -lm -L/home/biocbuild/bbs-3.8-bioc/R/lib -lR
installing to /home/biocbuild/bbs-3.8-bioc/R/library/immunoClust/libs
** R
** data
** byte-compile and prepare package for lazy loading
** help
*** installing help indices
** building package indices
** installing vignettes
** testing if installed package can be loaded
* DONE (immunoClust)
immunoClust.Rcheck/immunoClust-Ex.timings
| name | user | system | elapsed | |
| cell.ClustData | 2.112 | 0.000 | 2.139 | |
| cell.EM | 1.172 | 0.004 | 1.177 | |
| cell.FitModel | 1.192 | 0.000 | 1.193 | |
| cell.ME | 0.964 | 0.000 | 0.964 | |
| cell.SubClustering | 16.964 | 0.004 | 16.992 | |
| cell.hclust | 0.008 | 0.000 | 0.006 | |
| cell.process | 67.704 | 0.016 | 67.795 | |
| cell.removed | 0.016 | 0.000 | 0.013 | |
| dat.exp | 1.444 | 0.004 | 1.469 | |
| dat.fcs | 68.120 | 0.028 | 68.228 | |
| dat.meta | 0.004 | 0.000 | 0.004 | |
| immunoClust.object | 0.000 | 0.004 | 0.004 | |
| meta.ME | 0.012 | 0.000 | 0.012 | |
| meta.SubClustering | 0.108 | 0.000 | 0.108 | |
| meta.clustering | 1.016 | 0.000 | 1.017 | |
| meta.export | 1.044 | 0.000 | 1.043 | |
| meta.exprs | 0.008 | 0.000 | 0.008 | |
| meta.hclust | 0.004 | 0.000 | 0.003 | |
| meta.normalize | 0.000 | 0.004 | 0.002 | |
| meta.plot | 3.112 | 0.040 | 3.156 | |
| meta.process | 1.612 | 0.000 | 1.615 | |
| meta.regnorm | 0.008 | 0.000 | 0.007 | |
| plot.immunoClust | 0.616 | 0.008 | 0.625 | |
| splom.immunoClust | 1.068 | 0.008 | 1.076 | |
| trans.ApplyToData | 0.076 | 0.004 | 0.078 | |
| trans.FitToData | 0.276 | 0.000 | 0.290 | |