| Back to Multiple platform build/check report for BioC 3.8 |
|
This page was generated on 2019-04-16 11:49:48 -0400 (Tue, 16 Apr 2019).
| Package 764/1649 | Hostname | OS / Arch | INSTALL | BUILD | CHECK | BUILD BIN | ||||||
| illuminaio 0.24.0 Kasper Daniel Hansen
| malbec1 | Linux (Ubuntu 16.04.6 LTS) / x86_64 | [ OK ] | OK | OK | |||||||
| merida1 | OS X 10.11.6 El Capitan / x86_64 | OK | OK | OK | OK |
| Package: illuminaio |
| Version: 0.24.0 |
| Command: /home/biocbuild/bbs-3.8-bioc/R/bin/R CMD INSTALL illuminaio |
| StartedAt: 2019-04-15 17:57:18 -0400 (Mon, 15 Apr 2019) |
| EndedAt: 2019-04-15 17:57:23 -0400 (Mon, 15 Apr 2019) |
| EllapsedTime: 5.1 seconds |
| RetCode: 0 |
| Status: OK |
##############################################################################
##############################################################################
###
### Running command:
###
### /home/biocbuild/bbs-3.8-bioc/R/bin/R CMD INSTALL illuminaio
###
##############################################################################
##############################################################################
* installing to library ‘/home/biocbuild/bbs-3.8-bioc/R/library’
* installing *source* package ‘illuminaio’ ...
** libs
gcc -I"/home/biocbuild/bbs-3.8-bioc/R/include" -DNDEBUG -I/usr/local/include -fpic -g -O2 -Wall -c 000.init.c -o 000.init.o
gcc -I"/home/biocbuild/bbs-3.8-bioc/R/include" -DNDEBUG -I/usr/local/include -fpic -g -O2 -Wall -c des.c -o des.o
gcc -I"/home/biocbuild/bbs-3.8-bioc/R/include" -DNDEBUG -I/usr/local/include -fpic -g -O2 -Wall -c local_des.c -o local_des.o
local_des.c: In function ‘decrypt’:
local_des.c:27:9: warning: ignoring return value of ‘fread’, declared with attribute warn_unused_result [-Wunused-result]
fread(sessionKey, 8, 1, f);
^
local_des.c:35:9: warning: ignoring return value of ‘fread’, declared with attribute warn_unused_result [-Wunused-result]
fread(data, len, 1, f);
^
gcc -shared -L/home/biocbuild/bbs-3.8-bioc/R/lib -L/usr/local/lib -o illuminaio.so 000.init.o des.o local_des.o -L/home/biocbuild/bbs-3.8-bioc/R/lib -lR
installing to /home/biocbuild/bbs-3.8-bioc/R/library/illuminaio/libs
** R
** inst
** byte-compile and prepare package for lazy loading
** help
*** installing help indices
** building package indices
** installing vignettes
** testing if installed package can be loaded
* DONE (illuminaio)