| Back to Multiple platform build/check report for BioC 3.8 |
|
This page was generated on 2019-04-13 11:27:49 -0400 (Sat, 13 Apr 2019).
| Package 756/1649 | Hostname | OS / Arch | INSTALL | BUILD | CHECK | BUILD BIN | ||||||
| ideal 1.6.1 Federico Marini
| malbec1 | Linux (Ubuntu 16.04.6 LTS) / x86_64 | OK | OK | OK | |||||||
| tokay1 | Windows Server 2012 R2 Standard / x64 | [ OK ] | OK | OK | OK | |||||||
| merida1 | OS X 10.11.6 El Capitan / x86_64 | OK | OK | OK | OK |
| Package: ideal |
| Version: 1.6.1 |
| Command: C:\cygwin\bin\curl.exe -O https://malbec1.bioconductor.org/BBS/3.8/bioc/src/contrib/ideal_1.6.1.tar.gz && rm -rf ideal.buildbin-libdir && mkdir ideal.buildbin-libdir && C:\Users\biocbuild\bbs-3.8-bioc\R\bin\R.exe CMD INSTALL --merge-multiarch --build --library=ideal.buildbin-libdir ideal_1.6.1.tar.gz && C:\Users\biocbuild\bbs-3.8-bioc\R\bin\R.exe CMD INSTALL ideal_1.6.1.zip && rm ideal_1.6.1.tar.gz ideal_1.6.1.zip |
| StartedAt: 2019-04-12 20:32:33 -0400 (Fri, 12 Apr 2019) |
| EndedAt: 2019-04-12 20:33:44 -0400 (Fri, 12 Apr 2019) |
| EllapsedTime: 71.4 seconds |
| RetCode: 0 |
| Status: OK |
##############################################################################
##############################################################################
###
### Running command:
###
### C:\cygwin\bin\curl.exe -O https://malbec1.bioconductor.org/BBS/3.8/bioc/src/contrib/ideal_1.6.1.tar.gz && rm -rf ideal.buildbin-libdir && mkdir ideal.buildbin-libdir && C:\Users\biocbuild\bbs-3.8-bioc\R\bin\R.exe CMD INSTALL --merge-multiarch --build --library=ideal.buildbin-libdir ideal_1.6.1.tar.gz && C:\Users\biocbuild\bbs-3.8-bioc\R\bin\R.exe CMD INSTALL ideal_1.6.1.zip && rm ideal_1.6.1.tar.gz ideal_1.6.1.zip
###
##############################################################################
##############################################################################
% Total % Received % Xferd Average Speed Time Time Time Current
Dload Upload Total Spent Left Speed
0 0 0 0 0 0 0 0 --:--:-- --:--:-- --:--:-- 0
100 4391k 100 4391k 0 0 21.8M 0 --:--:-- --:--:-- --:--:-- 22.2M
install for i386
* installing *source* package 'ideal' ...
** R
** inst
** byte-compile and prepare package for lazy loading
groupGOTerms: GOBPTerm, GOMFTerm, GOCCTerm environments built.
** help
*** installing help indices
converting help for package 'ideal'
finding HTML links ... done
deseqresult2DEgenes html
finding level-2 HTML links ... done
deseqresult2tbl html
ggplotCounts html
goseqTable html
ideal-pkg html
ideal html
plot_ma html
plot_volcano html
read_gmt html
sepguesser html
sig_heatmap html
** building package indices
** installing vignettes
** testing if installed package can be loaded
groupGOTerms: GOBPTerm, GOMFTerm, GOCCTerm environments built.
In R CMD INSTALL
install for x64
* installing *source* package 'ideal' ...
** testing if installed package can be loaded
groupGOTerms: GOBPTerm, GOMFTerm, GOCCTerm environments built.
* MD5 sums
packaged installation of 'ideal' as ideal_1.6.1.zip
* DONE (ideal)
In R CMD INSTALL
In R CMD INSTALL
* installing to library 'C:/Users/biocbuild/bbs-3.8-bioc/R/library'
package 'ideal' successfully unpacked and MD5 sums checked
In R CMD INSTALL