| Back to Multiple platform build/check report for BioC 3.8 |
|
This page was generated on 2019-04-16 12:10:37 -0400 (Tue, 16 Apr 2019).
| Package 750/1649 | Hostname | OS / Arch | INSTALL | BUILD | CHECK | BUILD BIN | ||||||
| icetea 1.0.1 Vivek Bhardwaj
| malbec1 | Linux (Ubuntu 16.04.6 LTS) / x86_64 | OK | OK | ERROR | |||||||
| merida1 | OS X 10.11.6 El Capitan / x86_64 | OK | OK | ERROR | [ OK ] |
| Package: icetea |
| Version: 1.0.1 |
| Command: rm -rf icetea.buildbin-libdir && mkdir icetea.buildbin-libdir && /Users/biocbuild/BBS/utils/build-universal.sh icetea_1.0.1.tar.gz /Library/Frameworks/R.framework/Versions/Current/Resources/bin/R icetea.buildbin-libdir |
| StartedAt: 2019-04-16 04:13:27 -0400 (Tue, 16 Apr 2019) |
| EndedAt: 2019-04-16 04:14:11 -0400 (Tue, 16 Apr 2019) |
| EllapsedTime: 43.1 seconds |
| RetCode: 0 |
| Status: OK |
| PackageFile: icetea_1.0.1.tgz |
| PackageFileSize: 1.105 MiB |
############################################################################## ############################################################################## ### ### Running command: ### ### rm -rf icetea.buildbin-libdir && mkdir icetea.buildbin-libdir && /Users/biocbuild/BBS/utils/build-universal.sh icetea_1.0.1.tar.gz /Library/Frameworks/R.framework/Versions/Current/Resources/bin/R icetea.buildbin-libdir ### ############################################################################## ############################################################################## >>>>>>> >>>>>>> INSTALLATION WITH 'R CMD INSTALL --preclean --no-multiarch --library=icetea.buildbin-libdir icetea_1.0.1.tar.gz' >>>>>>> * installing *source* package ‘icetea’ ... ** R ** inst ** byte-compile and prepare package for lazy loading ** help *** installing help indices ** building package indices ** installing vignettes ** testing if installed package can be loaded * DONE (icetea)