| Back to Multiple platform build/check report for BioC 3.8 |
|
This page was generated on 2019-04-13 11:25:58 -0400 (Sat, 13 Apr 2019).
| Package 751/1649 | Hostname | OS / Arch | INSTALL | BUILD | CHECK | BUILD BIN | ||||||
| iCheck 1.12.0 Weiliang Qiu
| malbec1 | Linux (Ubuntu 16.04.6 LTS) / x86_64 | OK | OK | OK | |||||||
| tokay1 | Windows Server 2012 R2 Standard / x64 | [ OK ] | OK | OK | OK | |||||||
| merida1 | OS X 10.11.6 El Capitan / x86_64 | OK | OK | WARNINGS | OK |
| Package: iCheck |
| Version: 1.12.0 |
| Command: C:\cygwin\bin\curl.exe -O https://malbec1.bioconductor.org/BBS/3.8/bioc/src/contrib/iCheck_1.12.0.tar.gz && rm -rf iCheck.buildbin-libdir && mkdir iCheck.buildbin-libdir && C:\Users\biocbuild\bbs-3.8-bioc\R\bin\R.exe CMD INSTALL --merge-multiarch --build --library=iCheck.buildbin-libdir iCheck_1.12.0.tar.gz && C:\Users\biocbuild\bbs-3.8-bioc\R\bin\R.exe CMD INSTALL iCheck_1.12.0.zip && rm iCheck_1.12.0.tar.gz iCheck_1.12.0.zip |
| StartedAt: 2019-04-12 20:35:50 -0400 (Fri, 12 Apr 2019) |
| EndedAt: 2019-04-12 20:36:50 -0400 (Fri, 12 Apr 2019) |
| EllapsedTime: 60.0 seconds |
| RetCode: 0 |
| Status: OK |
##############################################################################
##############################################################################
###
### Running command:
###
### C:\cygwin\bin\curl.exe -O https://malbec1.bioconductor.org/BBS/3.8/bioc/src/contrib/iCheck_1.12.0.tar.gz && rm -rf iCheck.buildbin-libdir && mkdir iCheck.buildbin-libdir && C:\Users\biocbuild\bbs-3.8-bioc\R\bin\R.exe CMD INSTALL --merge-multiarch --build --library=iCheck.buildbin-libdir iCheck_1.12.0.tar.gz && C:\Users\biocbuild\bbs-3.8-bioc\R\bin\R.exe CMD INSTALL iCheck_1.12.0.zip && rm iCheck_1.12.0.tar.gz iCheck_1.12.0.zip
###
##############################################################################
##############################################################################
% Total % Received % Xferd Average Speed Time Time Time Current
Dload Upload Total Spent Left Speed
0 0 0 0 0 0 0 0 --:--:-- --:--:-- --:--:-- 0
100 57650 100 57650 0 0 1760k 0 --:--:-- --:--:-- --:--:-- 2010k
install for i386
* installing *source* package 'iCheck' ...
** R
** byte-compile and prepare package for lazy loading
** help
*** installing help indices
converting help for package 'iCheck'
finding HTML links ... done
LumiBatch2Table html
R2PlotFunc html
finding level-2 HTML links ... done
boxPlots html
densityPlots html
genExprSet html
genSimData.BayesNormal html
getPCAFunc html
glmWrapper html
lkhrWrapper html
lmFitPaired html
lmFitWrapper html
pca2DPlot html
pca3DPlot html
plotCurves html
plotQCCurves html
plotSamplep95p05 html
quantilePlot html
scatterPlots html
sortExpressionSet html
** building package indices
** installing vignettes
** testing if installed package can be loaded
In R CMD INSTALL
install for x64
* installing *source* package 'iCheck' ...
** testing if installed package can be loaded
* MD5 sums
packaged installation of 'iCheck' as iCheck_1.12.0.zip
* DONE (iCheck)
In R CMD INSTALL
In R CMD INSTALL
* installing to library 'C:/Users/biocbuild/bbs-3.8-bioc/R/library'
package 'iCheck' successfully unpacked and MD5 sums checked
In R CMD INSTALL