| Back to Multiple platform build/check report for BioC 3.8 |
|
This page was generated on 2019-04-16 11:54:18 -0400 (Tue, 16 Apr 2019).
| Package 742/1649 | Hostname | OS / Arch | INSTALL | BUILD | CHECK | BUILD BIN | ||||||
| hypergraph 1.54.0 Bioconductor Package Maintainer
| malbec1 | Linux (Ubuntu 16.04.6 LTS) / x86_64 | OK | OK | OK | |||||||
| merida1 | OS X 10.11.6 El Capitan / x86_64 | OK | OK | OK | [ OK ] |
| Package: hypergraph |
| Version: 1.54.0 |
| Command: rm -rf hypergraph.buildbin-libdir && mkdir hypergraph.buildbin-libdir && /Users/biocbuild/BBS/utils/build-universal.sh hypergraph_1.54.0.tar.gz /Library/Frameworks/R.framework/Versions/Current/Resources/bin/R hypergraph.buildbin-libdir |
| StartedAt: 2019-04-16 04:13:08 -0400 (Tue, 16 Apr 2019) |
| EndedAt: 2019-04-16 04:13:52 -0400 (Tue, 16 Apr 2019) |
| EllapsedTime: 44.3 seconds |
| RetCode: 0 |
| Status: OK |
| PackageFile: hypergraph_1.54.0.tgz |
| PackageFileSize: 151.1 KiB |
############################################################################## ############################################################################## ### ### Running command: ### ### rm -rf hypergraph.buildbin-libdir && mkdir hypergraph.buildbin-libdir && /Users/biocbuild/BBS/utils/build-universal.sh hypergraph_1.54.0.tar.gz /Library/Frameworks/R.framework/Versions/Current/Resources/bin/R hypergraph.buildbin-libdir ### ############################################################################## ############################################################################## >>>>>>> >>>>>>> INSTALLATION WITH 'R CMD INSTALL --preclean --no-multiarch --library=hypergraph.buildbin-libdir hypergraph_1.54.0.tar.gz' >>>>>>> * installing *source* package ‘hypergraph’ ... ** R ** inst ** byte-compile and prepare package for lazy loading ** help *** installing help indices ** building package indices ** testing if installed package can be loaded * DONE (hypergraph)