| Back to Multiple platform build/check report for BioC 3.8 |
|
This page was generated on 2019-04-13 11:25:34 -0400 (Sat, 13 Apr 2019).
| Package 721/1649 | Hostname | OS / Arch | INSTALL | BUILD | CHECK | BUILD BIN | ||||||
| hierGWAS 1.12.0 Laura Buzdugan
| malbec1 | Linux (Ubuntu 16.04.6 LTS) / x86_64 | OK | OK | OK | |||||||
| tokay1 | Windows Server 2012 R2 Standard / x64 | OK | OK | OK | [ OK ] | |||||||
| merida1 | OS X 10.11.6 El Capitan / x86_64 | OK | OK | OK | OK |
| Package: hierGWAS |
| Version: 1.12.0 |
| Command: rm -rf hierGWAS.buildbin-libdir && mkdir hierGWAS.buildbin-libdir && C:\Users\biocbuild\bbs-3.8-bioc\R\bin\R.exe CMD INSTALL --merge-multiarch --build --library=hierGWAS.buildbin-libdir hierGWAS_1.12.0.tar.gz |
| StartedAt: 2019-04-13 07:28:38 -0400 (Sat, 13 Apr 2019) |
| EndedAt: 2019-04-13 07:30:03 -0400 (Sat, 13 Apr 2019) |
| EllapsedTime: 84.4 seconds |
| RetCode: 0 |
| Status: OK |
| PackageFile: hierGWAS_1.12.0.zip |
| PackageFileSize: 456.2 KiB |
##############################################################################
##############################################################################
###
### Running command:
###
### rm -rf hierGWAS.buildbin-libdir && mkdir hierGWAS.buildbin-libdir && C:\Users\biocbuild\bbs-3.8-bioc\R\bin\R.exe CMD INSTALL --merge-multiarch --build --library=hierGWAS.buildbin-libdir hierGWAS_1.12.0.tar.gz
###
##############################################################################
##############################################################################
install for i386
* installing *source* package 'hierGWAS' ...
** R
** data
*** moving datasets to lazyload DB
** inst
** byte-compile and prepare package for lazy loading
** help
*** installing help indices
converting help for package 'hierGWAS'
finding HTML links ... done
cluster.snp html
compute.r2 html
hierGWAS html
multisplit html
finding level-2 HTML links ... done
simGWAS html
test.hierarchy html
** building package indices
** installing vignettes
** testing if installed package can be loaded
In R CMD INSTALL
install for x64
* installing *source* package 'hierGWAS' ...
** testing if installed package can be loaded
* MD5 sums
packaged installation of 'hierGWAS' as hierGWAS_1.12.0.zip
* DONE (hierGWAS)
In R CMD INSTALL
In R CMD INSTALL