| Back to Multiple platform build/check report for BioC 3.8 |
|
This page was generated on 2019-04-13 11:27:50 -0400 (Sat, 13 Apr 2019).
| Package 711/1649 | Hostname | OS / Arch | INSTALL | BUILD | CHECK | BUILD BIN | ||||||
| heatmaps 1.6.0 Malcolm Perry
| malbec1 | Linux (Ubuntu 16.04.6 LTS) / x86_64 | OK | OK | OK | |||||||
| tokay1 | Windows Server 2012 R2 Standard / x64 | OK | OK | OK | [ OK ] | |||||||
| merida1 | OS X 10.11.6 El Capitan / x86_64 | OK | OK | OK | OK |
| Package: heatmaps |
| Version: 1.6.0 |
| Command: rm -rf heatmaps.buildbin-libdir && mkdir heatmaps.buildbin-libdir && C:\Users\biocbuild\bbs-3.8-bioc\R\bin\R.exe CMD INSTALL --merge-multiarch --build --library=heatmaps.buildbin-libdir heatmaps_1.6.0.tar.gz |
| StartedAt: 2019-04-13 07:25:30 -0400 (Sat, 13 Apr 2019) |
| EndedAt: 2019-04-13 07:28:25 -0400 (Sat, 13 Apr 2019) |
| EllapsedTime: 175.7 seconds |
| RetCode: 0 |
| Status: OK |
| PackageFile: heatmaps_1.6.0.zip |
| PackageFileSize: 8.376 MiB |
##############################################################################
##############################################################################
###
### Running command:
###
### rm -rf heatmaps.buildbin-libdir && mkdir heatmaps.buildbin-libdir && C:\Users\biocbuild\bbs-3.8-bioc\R\bin\R.exe CMD INSTALL --merge-multiarch --build --library=heatmaps.buildbin-libdir heatmaps_1.6.0.tar.gz
###
##############################################################################
##############################################################################
install for i386
* installing *source* package 'heatmaps' ...
** R
** data
** inst
** byte-compile and prepare package for lazy loading
Creating a new generic function for 'scale' in package 'heatmaps'
** help
*** installing help indices
converting help for package 'heatmaps'
finding HTML links ... done
CoverageHeatmap html
Heatmap-class html
Heatmap html
HeatmapExamples html
PWMScanHeatmap html
PatternHeatmap html
coords html
default_color html
getScale html
heatmapOptions html
image html
label html
length-Heatmap-method html
metadata html
nseq html
plotHeatmap html
plotHeatmapList html
plotHeatmapMeta html
plotPatternDensityMap html
plot_clusters html
plot_legend html
rev-Heatmap-method html
scale html
smoothHeatmap html
width-Heatmap-method html
xm html
ym html
** building package indices
** installing vignettes
** testing if installed package can be loaded
In R CMD INSTALL
install for x64
* installing *source* package 'heatmaps' ...
** testing if installed package can be loaded
* MD5 sums
packaged installation of 'heatmaps' as heatmaps_1.6.0.zip
* DONE (heatmaps)
In R CMD INSTALL
In R CMD INSTALL