| Back to Multiple platform build/check report for BioC 3.8 |
|
This page was generated on 2019-04-16 11:57:15 -0400 (Tue, 16 Apr 2019).
| Package 705/1649 | Hostname | OS / Arch | INSTALL | BUILD | CHECK | BUILD BIN | ||||||
| h5vc 2.16.0 Paul Theodor Pyl
| malbec1 | Linux (Ubuntu 16.04.6 LTS) / x86_64 | OK | OK | OK | |||||||
| merida1 | OS X 10.11.6 El Capitan / x86_64 | OK | OK | [ OK ] | OK |
| Package: h5vc |
| Version: 2.16.0 |
| Command: /Library/Frameworks/R.framework/Versions/Current/Resources/bin/R CMD check --install=check:h5vc.install-out.txt --library=/Library/Frameworks/R.framework/Versions/Current/Resources/library --no-vignettes --timings h5vc_2.16.0.tar.gz |
| StartedAt: 2019-04-16 00:30:14 -0400 (Tue, 16 Apr 2019) |
| EndedAt: 2019-04-16 00:33:57 -0400 (Tue, 16 Apr 2019) |
| EllapsedTime: 222.8 seconds |
| RetCode: 0 |
| Status: OK |
| CheckDir: h5vc.Rcheck |
| Warnings: 0 |
##############################################################################
##############################################################################
###
### Running command:
###
### /Library/Frameworks/R.framework/Versions/Current/Resources/bin/R CMD check --install=check:h5vc.install-out.txt --library=/Library/Frameworks/R.framework/Versions/Current/Resources/library --no-vignettes --timings h5vc_2.16.0.tar.gz
###
##############################################################################
##############################################################################
* using log directory ‘/Users/biocbuild/bbs-3.8-bioc/meat/h5vc.Rcheck’
* using R version 3.5.3 (2019-03-11)
* using platform: x86_64-apple-darwin15.6.0 (64-bit)
* using session charset: UTF-8
* using option ‘--no-vignettes’
* checking for file ‘h5vc/DESCRIPTION’ ... OK
* checking extension type ... Package
* this is package ‘h5vc’ version ‘2.16.0’
* checking package namespace information ... OK
* checking package dependencies ... OK
* checking if this is a source package ... OK
* checking if there is a namespace ... OK
* checking for hidden files and directories ... OK
* checking for portable file names ... OK
* checking for sufficient/correct file permissions ... OK
* checking whether package ‘h5vc’ can be installed ... OK
* checking installed package size ... OK
* checking package directory ... OK
* checking ‘build’ directory ... OK
* checking DESCRIPTION meta-information ... OK
* checking top-level files ... OK
* checking for left-over files ... OK
* checking index information ... OK
* checking package subdirectories ... OK
* checking R files for non-ASCII characters ... OK
* checking R files for syntax errors ... OK
* checking whether the package can be loaded ... OK
* checking whether the package can be loaded with stated dependencies ... OK
* checking whether the package can be unloaded cleanly ... OK
* checking whether the namespace can be loaded with stated dependencies ... OK
* checking whether the namespace can be unloaded cleanly ... OK
* checking dependencies in R code ... OK
* checking S3 generic/method consistency ... OK
* checking replacement functions ... OK
* checking foreign function calls ... OK
* checking R code for possible problems ... NOTE
.h5dapplyIRanges: no visible binding for global variable ‘Sample’
binnedAFs : <anonymous>: no visible global function definition for
‘hist’
callVariantsPaired : <anonymous> : <anonymous>: no visible global
function definition for ‘binom.test’
callVariantsPairedFisher : <anonymous> : <anonymous> : <anonymous>: no
visible global function definition for ‘fisher.test’
callVariantsPairedFisher : <anonymous> : <anonymous>: no visible
binding for global variable ‘pValue’
callVariantsPairedFisher : <anonymous> : <anonymous>: no visible
binding for global variable ‘BlockID’
callVariantsSingle : <anonymous> : <anonymous>: no visible binding for
global variable ‘Support’
callVariantsSingle : <anonymous> : <anonymous>: no visible binding for
global variable ‘AF’
callVariantsSingle : <anonymous> : <anonymous>: no visible binding for
global variable ‘SupFwd’
callVariantsSingle : <anonymous> : <anonymous>: no visible binding for
global variable ‘SupRev’
callVariantsSingle : <anonymous> : <anonymous> : binom.test.safe: no
visible global function definition for ‘binom.test’
callVariantsSingle : <anonymous> : <anonymous> : <anonymous>: no
visible global function definition for ‘fisher.test’
callVariantsSingle : <anonymous> : <anonymous>: no visible binding for
global variable ‘BlockID’
mergeTallyFiles : <anonymous>: no visible binding for global variable
‘group’
mergeTallyFiles: no visible binding for global variable ‘SourceFile’
mismatchPlot: no visible binding for global variable ‘Sample’
plotMutationSpectrum: no visible binding for global variable
‘altAllele’
plotMutationSpectrum: no visible binding for global variable ‘tmp’
rerunBatchTallies: no visible binding for global variable ‘regID’
resizeCohort: no visible binding for global variable ‘newSamples’
tallyRangesBatch : <anonymous>: no visible binding for global variable
‘bamFiles’
tallyRangesBatch: no visible binding for global variable ‘verbose’
Undefined global functions or variables:
AF BlockID Sample SourceFile SupFwd SupRev Support altAllele bamFiles
binom.test fisher.test group hist newSamples pValue regID tmp verbose
Consider adding
importFrom("graphics", "hist")
importFrom("stats", "binom.test", "fisher.test")
to your NAMESPACE file.
* checking Rd files ... OK
* checking Rd metadata ... OK
* checking Rd cross-references ... OK
* checking for missing documentation entries ... OK
* checking for code/documentation mismatches ... OK
* checking Rd \usage sections ... OK
* checking Rd contents ... OK
* checking for unstated dependencies in examples ... OK
* checking contents of ‘data’ directory ... OK
* checking data for non-ASCII characters ... OK
* checking data for ASCII and uncompressed saves ... OK
* checking line endings in C/C++/Fortran sources/headers ... OK
* checking line endings in Makefiles ... OK
* checking compilation flags in Makevars ... OK
* checking for GNU extensions in Makefiles ... OK
* checking for portable use of $(BLAS_LIBS) and $(LAPACK_LIBS) ... OK
* checking compiled code ... NOTE
Note: information on .o files is not available
File ‘/Library/Frameworks/R.framework/Versions/3.5/Resources/library/h5vc/libs/h5vc.so’:
Found ‘___stderrp’, possibly from ‘stderr’ (C)
Found ‘___stdoutp’, possibly from ‘stdout’ (C)
Found ‘_puts’, possibly from ‘printf’ (C), ‘puts’ (C)
Compiled code should not call entry points which might terminate R nor
write to stdout/stderr instead of to the console, nor use Fortran I/O
nor system RNGs. The detected symbols are linked into the code but
might come from libraries and not actually be called.
See ‘Writing portable packages’ in the ‘Writing R Extensions’ manual.
* checking installed files from ‘inst/doc’ ... OK
* checking files in ‘vignettes’ ... OK
* checking examples ... OK
Examples with CPU or elapsed time > 5s
user system elapsed
callVariantsFisher 21.107 0.369 21.729
applyTallies 12.681 2.245 14.130
writeToTallyFile 8.951 2.978 10.884
tallyRanges 5.437 2.273 6.733
mismatchPlot 7.183 0.317 7.558
binnedAFs 5.378 0.712 6.174
* checking for unstated dependencies in ‘tests’ ... OK
* checking tests ...
Running ‘runTests.R’
OK
* checking for unstated dependencies in vignettes ... OK
* checking package vignettes in ‘inst/doc’ ... OK
* checking running R code from vignettes ... SKIPPED
* checking re-building of vignette outputs ... SKIPPED
* checking PDF version of manual ... OK
* DONE
Status: 2 NOTEs
See
‘/Users/biocbuild/bbs-3.8-bioc/meat/h5vc.Rcheck/00check.log’
for details.
h5vc.Rcheck/00install.out
##############################################################################
##############################################################################
###
### Running command:
###
### /Library/Frameworks/R.framework/Versions/Current/Resources/bin/R CMD INSTALL h5vc
###
##############################################################################
##############################################################################
* installing to library ‘/Library/Frameworks/R.framework/Versions/3.5/Resources/library’
* installing *source* package ‘h5vc’ ...
** libs
clang++ -I"/Library/Frameworks/R.framework/Resources/include" -DNDEBUG -D_USE_KNETFILE -DBGZF_CACHE -D_FILE_OFFSET_BITS=64 -D_LARGEFILE64_SOURCE -I"/Library/Frameworks/R.framework/Versions/3.5/Resources/library/Rsamtools/include" -I/usr/local/include -fPIC -Wall -g -O2 -c tallyBAM.cpp -o tallyBAM.o
tallyBAM.cpp:47:7: warning: unused variable 'len' [-Wunused-variable]
int len = nttable->end - nttable->beg;
^
tallyBAM.cpp:60:18: warning: variable 'c' is used uninitialized whenever 'if' condition is false [-Wsometimes-uninitialized]
}else if(p->indel > 0){
^˜˜˜˜˜˜˜˜˜˜˜
tallyBAM.cpp:64:16: note: uninitialized use occurs here
str += c;
^
tallyBAM.cpp:60:15: note: remove the 'if' if its condition is always true
}else if(p->indel > 0){
^˜˜˜˜˜˜˜˜˜˜˜˜˜˜˜
tallyBAM.cpp:55:15: note: initialize the variable 'c' to silence this warning
char c;
^
= '\0'
tallyBAM.cpp:96:7: warning: unused variable 'len' [-Wunused-variable]
int len = nttable->end - nttable->beg;
^
tallyBAM.cpp:141:6: warning: unused variable 'c' [-Wunused-variable]
int c = 0;
^
tallyBAM.cpp:43:12: warning: unused function 'pileup_func_old' [-Wunused-function]
static int pileup_func_old(uint32_t tid, uint32_t pos, int n, const bam_pileup1_t *pl, void *data)
^
5 warnings generated.
clang++ -dynamiclib -Wl,-headerpad_max_install_names -undefined dynamic_lookup -single_module -multiply_defined suppress -L/Library/Frameworks/R.framework/Resources/lib -L/usr/local/lib -o h5vc.so tallyBAM.o /Library/Frameworks/R.framework/Versions/3.5/Resources/library/Rsamtools/usrlib//libbam.a /Library/Frameworks/R.framework/Versions/3.5/Resources/library/Rsamtools/usrlib//libbcf.a /Library/Frameworks/R.framework/Versions/3.5/Resources/library/Rsamtools/usrlib//libtabix.a -lz -pthread -F/Library/Frameworks/R.framework/.. -framework R -Wl,-framework -Wl,CoreFoundation
clang-4.0: warning: argument unused during compilation: '-pthread' [-Wunused-command-line-argument]
installing to /Library/Frameworks/R.framework/Versions/3.5/Resources/library/h5vc/libs
** R
** data
** inst
** byte-compile and prepare package for lazy loading
** help
*** installing help indices
** building package indices
** installing vignettes
‘h5vc.simple.genome.browser.Rmd’
‘h5vc.tour.Rmd’
** testing if installed package can be loaded
* DONE (h5vc)
h5vc.Rcheck/tests/runTests.Rout
R version 3.5.3 (2019-03-11) -- "Great Truth"
Copyright (C) 2019 The R Foundation for Statistical Computing
Platform: x86_64-apple-darwin15.6.0 (64-bit)
R is free software and comes with ABSOLUTELY NO WARRANTY.
You are welcome to redistribute it under certain conditions.
Type 'license()' or 'licence()' for distribution details.
R is a collaborative project with many contributors.
Type 'contributors()' for more information and
'citation()' on how to cite R or R packages in publications.
Type 'demo()' for some demos, 'help()' for on-line help, or
'help.start()' for an HTML browser interface to help.
Type 'q()' to quit R.
> BiocGenerics:::testPackage("h5vc")
RUNIT TEST PROTOCOL -- Tue Apr 16 00:33:50 2019
***********************************************
Number of test functions: 1
Number of errors: 0
Number of failures: 0
1 Test Suite :
h5vc RUnit Tests - 1 test function, 0 errors, 0 failures
Number of test functions: 1
Number of errors: 0
Number of failures: 0
>
> proc.time()
user system elapsed
6.689 0.408 7.133
h5vc.Rcheck/h5vc-Ex.timings
| name | user | system | elapsed | |
| applyTallies | 12.681 | 2.245 | 14.130 | |
| batchTallies | 0 | 0 | 0 | |
| binGenome | 0.337 | 0.084 | 0.423 | |
| binnedAFs | 5.378 | 0.712 | 6.174 | |
| callVariants | 0.892 | 0.236 | 1.155 | |
| callVariantsFisher | 21.107 | 0.369 | 21.729 | |
| callVariantsSingle | 1.429 | 0.226 | 1.667 | |
| coverage | 4.217 | 0.278 | 4.552 | |
| geom_h5vc | 0.993 | 0.051 | 1.056 | |
| getSampleData | 0.068 | 0.001 | 0.071 | |
| h5dapply | 1.346 | 0.050 | 1.416 | |
| h5readBlock | 0.297 | 0.012 | 0.311 | |
| helpers | 0.123 | 0.004 | 0.131 | |
| mergeTallies | 1.183 | 0.061 | 1.255 | |
| mergeTallyFiles | 0.000 | 0.000 | 0.001 | |
| mismatchPlot | 7.183 | 0.317 | 7.558 | |
| mutationSpectrum | 1.372 | 0.180 | 1.569 | |
| plotMutationSpectrum | 3.435 | 0.251 | 3.717 | |
| prepareForHDF5 | 2.048 | 0.110 | 2.178 | |
| prepareTallyFile | 0.217 | 0.008 | 0.230 | |
| tallyBAM | 0.070 | 0.006 | 0.078 | |
| tallyRanges | 5.437 | 2.273 | 6.733 | |
| writeReference | 0.540 | 0.079 | 0.632 | |
| writeToTallyFile | 8.951 | 2.978 | 10.884 | |