| Back to Multiple platform build/check report for BioC 3.8 |
|
This page was generated on 2019-04-13 11:21:14 -0400 (Sat, 13 Apr 2019).
| Package 666/1649 | Hostname | OS / Arch | INSTALL | BUILD | CHECK | BUILD BIN | ||||||
| goseq 1.34.1 Nadia Davidson
| malbec1 | Linux (Ubuntu 16.04.6 LTS) / x86_64 | OK | OK | OK | |||||||
| tokay1 | Windows Server 2012 R2 Standard / x64 | OK | OK | [ OK ] | OK | |||||||
| merida1 | OS X 10.11.6 El Capitan / x86_64 | OK | OK | OK | OK |
| Package: goseq |
| Version: 1.34.1 |
| Command: C:\Users\biocbuild\bbs-3.8-bioc\R\bin\R.exe CMD check --force-multiarch --install=check:goseq.install-out.txt --library=C:\Users\biocbuild\bbs-3.8-bioc\R\library --no-vignettes --timings goseq_1.34.1.tar.gz |
| StartedAt: 2019-04-13 02:47:10 -0400 (Sat, 13 Apr 2019) |
| EndedAt: 2019-04-13 02:55:25 -0400 (Sat, 13 Apr 2019) |
| EllapsedTime: 495.3 seconds |
| RetCode: 0 |
| Status: OK |
| CheckDir: goseq.Rcheck |
| Warnings: 0 |
##############################################################################
##############################################################################
###
### Running command:
###
### C:\Users\biocbuild\bbs-3.8-bioc\R\bin\R.exe CMD check --force-multiarch --install=check:goseq.install-out.txt --library=C:\Users\biocbuild\bbs-3.8-bioc\R\library --no-vignettes --timings goseq_1.34.1.tar.gz
###
##############################################################################
##############################################################################
* using log directory 'C:/Users/biocbuild/bbs-3.8-bioc/meat/goseq.Rcheck'
* using R version 3.5.3 (2019-03-11)
* using platform: x86_64-w64-mingw32 (64-bit)
* using session charset: ISO8859-1
* using option '--no-vignettes'
* checking for file 'goseq/DESCRIPTION' ... OK
* this is package 'goseq' version '1.34.1'
* checking package namespace information ... OK
* checking package dependencies ...Warning: unable to access index for repository https://CRAN.R-project.org/src/contrib:
cannot open URL 'https://CRAN.R-project.org/src/contrib/PACKAGES'
OK
* checking if this is a source package ... OK
* checking if there is a namespace ... OK
* checking for hidden files and directories ... OK
* checking for portable file names ... OK
* checking whether package 'goseq' can be installed ... OK
* checking installed package size ... OK
* checking package directory ... OK
* checking 'build' directory ... OK
* checking DESCRIPTION meta-information ... NOTE
Malformed Description field: should contain one or more complete sentences.
* checking top-level files ... OK
* checking for left-over files ... OK
* checking index information ... OK
* checking package subdirectories ... OK
* checking R files for non-ASCII characters ... OK
* checking R files for syntax errors ... OK
* loading checks for arch 'i386'
** checking whether the package can be loaded ... OK
** checking whether the package can be loaded with stated dependencies ... OK
** checking whether the package can be unloaded cleanly ... OK
** checking whether the namespace can be loaded with stated dependencies ... OK
** checking whether the namespace can be unloaded cleanly ... OK
* loading checks for arch 'x64'
** checking whether the package can be loaded ... OK
** checking whether the package can be loaded with stated dependencies ... OK
** checking whether the package can be unloaded cleanly ... OK
** checking whether the namespace can be loaded with stated dependencies ... OK
** checking whether the namespace can be unloaded cleanly ... OK
* checking dependencies in R code ... NOTE
'library' or 'require' call to 'rtracklayer' in package code.
Please use :: or requireNamespace() instead.
See section 'Suggested packages' in the 'Writing R Extensions' manual.
* checking S3 generic/method consistency ... OK
* checking replacement functions ... OK
* checking foreign function calls ... OK
* checking R code for possible problems ... NOTE
.onAttach: no visible global function definition for 'winMenuAddItem'
getgo: no visible global function definition for 'toTable'
getlength: no visible global function definition for
'installed.packages'
getlength: no visible global function definition for 'tail'
getlength: no visible global function definition for 'toTable'
getlength: no visible global function definition for
'transcriptLengths'
getlength: no visible global function definition for 'browserSession'
getlength: no visible global function definition for 'genome<-'
getlength: no visible global function definition for 'ucscTableQuery'
getlength: no visible global function definition for 'getTable'
makespline: no visible global function definition for 'show'
supportedOrganisms: no visible global function definition for
'ucscGenomes'
Undefined global functions or variables:
browserSession genome<- getTable installed.packages show tail toTable
transcriptLengths ucscGenomes ucscTableQuery winMenuAddItem
Consider adding
importFrom("methods", "show")
importFrom("utils", "installed.packages", "tail", "winMenuAddItem")
to your NAMESPACE file (and ensure that your DESCRIPTION Imports field
contains 'methods').
* checking Rd files ... OK
* checking Rd metadata ... OK
* checking Rd cross-references ... OK
* checking for missing documentation entries ... OK
* checking for code/documentation mismatches ... OK
* checking Rd \usage sections ... OK
* checking Rd contents ... OK
* checking for unstated dependencies in examples ... OK
* checking contents of 'data' directory ... OK
* checking data for non-ASCII characters ... OK
* checking data for ASCII and uncompressed saves ... OK
* checking files in 'vignettes' ... OK
* checking examples ...
** running examples for arch 'i386' ... OK
Examples with CPU or elapsed time > 5s
user system elapsed
goseq 50.35 2.52 53.28
getgo 15.39 0.88 16.26
nullp 10.11 1.18 11.30
getlength 7.45 1.89 9.37
plotPWF 8.10 1.11 9.20
** running examples for arch 'x64' ... OK
Examples with CPU or elapsed time > 5s
user system elapsed
goseq 37.48 1.57 39.05
getgo 16.00 0.78 16.78
nullp 6.75 0.83 7.58
plotPWF 6.72 0.80 7.52
getlength 5.85 0.82 6.67
* checking for unstated dependencies in vignettes ... OK
* checking package vignettes in 'inst/doc' ... OK
* checking running R code from vignettes ... SKIPPED
* checking re-building of vignette outputs ... SKIPPED
* checking PDF version of manual ... OK
* DONE
Status: 3 NOTEs
See
'C:/Users/biocbuild/bbs-3.8-bioc/meat/goseq.Rcheck/00check.log'
for details.
goseq.Rcheck/00install.out
##############################################################################
##############################################################################
###
### Running command:
###
### C:\cygwin\bin\curl.exe -O https://malbec1.bioconductor.org/BBS/3.8/bioc/src/contrib/goseq_1.34.1.tar.gz && rm -rf goseq.buildbin-libdir && mkdir goseq.buildbin-libdir && C:\Users\biocbuild\bbs-3.8-bioc\R\bin\R.exe CMD INSTALL --merge-multiarch --build --library=goseq.buildbin-libdir goseq_1.34.1.tar.gz && C:\Users\biocbuild\bbs-3.8-bioc\R\bin\R.exe CMD INSTALL goseq_1.34.1.zip && rm goseq_1.34.1.tar.gz goseq_1.34.1.zip
###
##############################################################################
##############################################################################
% Total % Received % Xferd Average Speed Time Time Time Current
Dload Upload Total Spent Left Speed
0 0 0 0 0 0 0 0 --:--:-- --:--:-- --:--:-- 0
100 465k 100 465k 0 0 6023k 0 --:--:-- --:--:-- --:--:-- 6380k
install for i386
* installing *source* package 'goseq' ...
** R
** data
** inst
** byte-compile and prepare package for lazy loading
** help
*** installing help indices
converting help for package 'goseq'
finding HTML links ... done
genes html
getgo html
finding level-2 HTML links ... done
getlength html
goseq html
makespline html
nullp html
plotPWF html
supportedOrganisms html
** building package indices
** installing vignettes
** testing if installed package can be loaded
In R CMD INSTALL
install for x64
* installing *source* package 'goseq' ...
** testing if installed package can be loaded
* MD5 sums
packaged installation of 'goseq' as goseq_1.34.1.zip
* DONE (goseq)
In R CMD INSTALL
In R CMD INSTALL
* installing to library 'C:/Users/biocbuild/bbs-3.8-bioc/R/library'
package 'goseq' successfully unpacked and MD5 sums checked
In R CMD INSTALL
|
goseq.Rcheck/examples_i386/goseq-Ex.timings
|
goseq.Rcheck/examples_x64/goseq-Ex.timings
|