| Back to Multiple platform build/check report for BioC 3.8 | 
 | 
This page was generated on 2019-04-13 11:20:42 -0400 (Sat, 13 Apr 2019).
| Package 664/1649 | Hostname | OS / Arch | INSTALL | BUILD | CHECK | BUILD BIN | ||||||
| goProfiles 1.44.0 Alex Sanchez 
 | malbec1 | Linux (Ubuntu 16.04.6 LTS) / x86_64 | OK | OK | OK |  | ||||||
| tokay1 | Windows Server 2012 R2 Standard / x64 | [ OK ] | OK | OK | OK |  | ||||||
| merida1 | OS X 10.11.6 El Capitan / x86_64 | OK | OK | OK | OK |  | 
| Package: goProfiles | 
| Version: 1.44.0 | 
| Command: C:\cygwin\bin\curl.exe -O https://malbec1.bioconductor.org/BBS/3.8/bioc/src/contrib/goProfiles_1.44.0.tar.gz && rm -rf goProfiles.buildbin-libdir && mkdir goProfiles.buildbin-libdir && C:\Users\biocbuild\bbs-3.8-bioc\R\bin\R.exe CMD INSTALL --merge-multiarch --build --library=goProfiles.buildbin-libdir goProfiles_1.44.0.tar.gz && C:\Users\biocbuild\bbs-3.8-bioc\R\bin\R.exe CMD INSTALL goProfiles_1.44.0.zip && rm goProfiles_1.44.0.tar.gz goProfiles_1.44.0.zip | 
| StartedAt: 2019-04-12 18:43:21 -0400 (Fri, 12 Apr 2019) | 
| EndedAt: 2019-04-12 18:44:48 -0400 (Fri, 12 Apr 2019) | 
| EllapsedTime: 87.0 seconds | 
| RetCode: 0 | 
| Status: OK | 
##############################################################################
##############################################################################
###
### Running command:
###
###   C:\cygwin\bin\curl.exe -O https://malbec1.bioconductor.org/BBS/3.8/bioc/src/contrib/goProfiles_1.44.0.tar.gz && rm -rf goProfiles.buildbin-libdir && mkdir goProfiles.buildbin-libdir && C:\Users\biocbuild\bbs-3.8-bioc\R\bin\R.exe CMD INSTALL --merge-multiarch --build --library=goProfiles.buildbin-libdir goProfiles_1.44.0.tar.gz && C:\Users\biocbuild\bbs-3.8-bioc\R\bin\R.exe CMD INSTALL goProfiles_1.44.0.zip && rm goProfiles_1.44.0.tar.gz goProfiles_1.44.0.zip
###
##############################################################################
##############################################################################
  % Total    % Received % Xferd  Average Speed   Time    Time     Time  Current
                                 Dload  Upload   Total   Spent    Left  Speed
  0     0    0     0    0     0      0      0 --:--:-- --:--:-- --:--:--     0
100  290k  100  290k    0     0  8050k      0 --:--:-- --:--:-- --:--:-- 9063k
install for i386
* installing *source* package 'goProfiles' ...
** R
** data
** inst
** byte-compile and prepare package for lazy loading
** help
*** installing help indices
  converting help for package 'goProfiles'
    finding HTML links ... done
    CD4ids                                  html  
    GOTermsList                             html  
    basicProfile                            html  
    clustKidneyMF2                          html  
    compSummary                             html  
    compareGOProfiles                       html  
    compareGeneLists                        html  
    compareProfilesLists                    html  
    contractedProfile                       html  
    conversionFunctions                     html  
    drosophila                              html  
    equivClust                              html  
    equivClust2pdf                          html  
    equivSummary                            html  
    equivalentGOProfiles                    html  
    expandedLevel                           html  
    expandedProfile                         html  
    fisherGOProfiles                        html  
    fitGOProfile                            html  
    goProfiles-package                      html  
    hugoIds                                 html  
    iterEquivClust                          html  
    kidneyGeneLists                         html  
    mergeProfilesLists                      html  
    ngenes                                  html  
    omimIds                                 html  
    plotProfiles                            html  
    printProfiles                           html  
    prostateIds                             html  
** building package indices
** installing vignettes
** testing if installed package can be loaded
In R CMD INSTALL
install for x64
* installing *source* package 'goProfiles' ...
** testing if installed package can be loaded
* MD5 sums
packaged installation of 'goProfiles' as goProfiles_1.44.0.zip
* DONE (goProfiles)
In R CMD INSTALL
In R CMD INSTALL
* installing to library 'C:/Users/biocbuild/bbs-3.8-bioc/R/library'
package 'goProfiles' successfully unpacked and MD5 sums checked
In R CMD INSTALL