| Back to Multiple platform build/check report for BioC 3.8 | 
 | 
This page was generated on 2019-04-13 11:19:28 -0400 (Sat, 13 Apr 2019).
| Package 656/1649 | Hostname | OS / Arch | INSTALL | BUILD | CHECK | BUILD BIN | ||||||
| globaltest 5.36.0 Jelle Goeman 
 | malbec1 | Linux (Ubuntu 16.04.6 LTS) / x86_64 | OK | OK | OK |  | ||||||
| tokay1 | Windows Server 2012 R2 Standard / x64 | [ OK ] | OK | OK | OK |  | ||||||
| merida1 | OS X 10.11.6 El Capitan / x86_64 | OK | OK | OK | OK |  | 
| Package: globaltest | 
| Version: 5.36.0 | 
| Command: C:\cygwin\bin\curl.exe -O https://malbec1.bioconductor.org/BBS/3.8/bioc/src/contrib/globaltest_5.36.0.tar.gz && rm -rf globaltest.buildbin-libdir && mkdir globaltest.buildbin-libdir && C:\Users\biocbuild\bbs-3.8-bioc\R\bin\R.exe CMD INSTALL --merge-multiarch --build --library=globaltest.buildbin-libdir globaltest_5.36.0.tar.gz && C:\Users\biocbuild\bbs-3.8-bioc\R\bin\R.exe CMD INSTALL globaltest_5.36.0.zip && rm globaltest_5.36.0.tar.gz globaltest_5.36.0.zip | 
| StartedAt: 2019-04-12 18:44:26 -0400 (Fri, 12 Apr 2019) | 
| EndedAt: 2019-04-12 18:45:24 -0400 (Fri, 12 Apr 2019) | 
| EllapsedTime: 57.8 seconds | 
| RetCode: 0 | 
| Status: OK | 
##############################################################################
##############################################################################
###
### Running command:
###
###   C:\cygwin\bin\curl.exe -O https://malbec1.bioconductor.org/BBS/3.8/bioc/src/contrib/globaltest_5.36.0.tar.gz && rm -rf globaltest.buildbin-libdir && mkdir globaltest.buildbin-libdir && C:\Users\biocbuild\bbs-3.8-bioc\R\bin\R.exe CMD INSTALL --merge-multiarch --build --library=globaltest.buildbin-libdir globaltest_5.36.0.tar.gz && C:\Users\biocbuild\bbs-3.8-bioc\R\bin\R.exe CMD INSTALL globaltest_5.36.0.zip && rm globaltest_5.36.0.tar.gz globaltest_5.36.0.zip
###
##############################################################################
##############################################################################
  % Total    % Received % Xferd  Average Speed   Time    Time     Time  Current
                                 Dload  Upload   Total   Spent    Left  Speed
  0     0    0     0    0     0      0      0 --:--:-- --:--:-- --:--:--     0
100 96879  100 96879    0     0  3039k      0 --:--:-- --:--:-- --:--:-- 3378k
install for i386
* installing *source* package 'globaltest' ...
** R
** inst
** byte-compile and prepare package for lazy loading
** help
*** installing help indices
  converting help for package 'globaltest'
    finding HTML links ... done
    comparative                             html  
    diagnostics                             html  
    genesettesting                          html  
    goodnessoffit                           html  
    gt                                      html  
    gt.object-class                         html  
    gtoptions                               html  
    mlogit                                  html  
    multtest                                html  
** building package indices
** installing vignettes
** testing if installed package can be loaded
In R CMD INSTALL
install for x64
* installing *source* package 'globaltest' ...
** testing if installed package can be loaded
* MD5 sums
packaged installation of 'globaltest' as globaltest_5.36.0.zip
* DONE (globaltest)
In R CMD INSTALL
In R CMD INSTALL
* installing to library 'C:/Users/biocbuild/bbs-3.8-bioc/R/library'
package 'globaltest' successfully unpacked and MD5 sums checked
In R CMD INSTALL