| Back to Multiple platform build/check report for BioC 3.8 |
|
This page was generated on 2019-04-13 11:26:06 -0400 (Sat, 13 Apr 2019).
| Package 655/1649 | Hostname | OS / Arch | INSTALL | BUILD | CHECK | BUILD BIN | ||||||
| globalSeq 1.10.1 Armin Rauschenberger
| malbec1 | Linux (Ubuntu 16.04.6 LTS) / x86_64 | OK | OK | OK | |||||||
| tokay1 | Windows Server 2012 R2 Standard / x64 | OK | OK | OK | [ OK ] | |||||||
| merida1 | OS X 10.11.6 El Capitan / x86_64 | OK | OK | OK | OK |
| Package: globalSeq |
| Version: 1.10.1 |
| Command: rm -rf globalSeq.buildbin-libdir && mkdir globalSeq.buildbin-libdir && C:\Users\biocbuild\bbs-3.8-bioc\R\bin\R.exe CMD INSTALL --merge-multiarch --build --library=globalSeq.buildbin-libdir globalSeq_1.10.1.tar.gz |
| StartedAt: 2019-04-13 07:20:20 -0400 (Sat, 13 Apr 2019) |
| EndedAt: 2019-04-13 07:20:37 -0400 (Sat, 13 Apr 2019) |
| EllapsedTime: 17.1 seconds |
| RetCode: 0 |
| Status: OK |
| PackageFile: globalSeq_1.10.1.zip |
| PackageFileSize: 731.1 KiB |
##############################################################################
##############################################################################
###
### Running command:
###
### rm -rf globalSeq.buildbin-libdir && mkdir globalSeq.buildbin-libdir && C:\Users\biocbuild\bbs-3.8-bioc\R\bin\R.exe CMD INSTALL --merge-multiarch --build --library=globalSeq.buildbin-libdir globalSeq_1.10.1.tar.gz
###
##############################################################################
##############################################################################
install for i386
* installing *source* package 'globalSeq' ...
** R
** data
*** moving datasets to lazyload DB
** inst
** byte-compile and prepare package for lazy loading
** help
*** installing help indices
converting help for package 'globalSeq'
finding HTML links ... done
cursus html
globalSeq-package html
intern.chromo html
intern.crude html
intern.estim html
intern.matrix html
intern.permu html
intern.plot html
intern.sam html
intern.score html
intern.select html
internal html
omnibus html
proprius html
toydata html
** building package indices
** installing vignettes
** testing if installed package can be loaded
In R CMD INSTALL
install for x64
* installing *source* package 'globalSeq' ...
** testing if installed package can be loaded
* MD5 sums
packaged installation of 'globalSeq' as globalSeq_1.10.1.zip
* DONE (globalSeq)
In R CMD INSTALL
In R CMD INSTALL