| Back to Multiple platform build/check report for BioC 3.8 |
|
This page was generated on 2019-04-16 11:55:12 -0400 (Tue, 16 Apr 2019).
| Package 649/1649 | Hostname | OS / Arch | INSTALL | BUILD | CHECK | BUILD BIN | ||||||
| girafe 1.34.0 J. Toedling
| malbec1 | Linux (Ubuntu 16.04.6 LTS) / x86_64 | OK | OK | OK | |||||||
| merida1 | OS X 10.11.6 El Capitan / x86_64 | [ OK ] | OK | OK | OK |
| Package: girafe |
| Version: 1.34.0 |
| Command: /Library/Frameworks/R.framework/Versions/Current/Resources/bin/R CMD INSTALL girafe |
| StartedAt: 2019-04-15 18:30:14 -0400 (Mon, 15 Apr 2019) |
| EndedAt: 2019-04-15 18:30:45 -0400 (Mon, 15 Apr 2019) |
| EllapsedTime: 30.8 seconds |
| RetCode: 0 |
| Status: OK |
##############################################################################
##############################################################################
###
### Running command:
###
### /Library/Frameworks/R.framework/Versions/Current/Resources/bin/R CMD INSTALL girafe
###
##############################################################################
##############################################################################
* installing to library ‘/Library/Frameworks/R.framework/Versions/3.5/Resources/library’
* installing *source* package ‘girafe’ ...
** libs
clang++ -I"/Library/Frameworks/R.framework/Resources/include" -DNDEBUG -I/usr/local/include -fPIC -Wall -g -O2 -c coverage.cpp -o coverage.o
coverage.cpp:2:17: warning: using directive refers to implicitly-defined namespace 'std'
using namespace std;
^
1 warning generated.
clang -I"/Library/Frameworks/R.framework/Resources/include" -DNDEBUG -I/usr/local/include -fPIC -Wall -g -O2 -c girafe_init.c -o girafe_init.o
clang++ -dynamiclib -Wl,-headerpad_max_install_names -undefined dynamic_lookup -single_module -multiply_defined suppress -L/Library/Frameworks/R.framework/Resources/lib -L/usr/local/lib -o girafe.so coverage.o girafe_init.o -F/Library/Frameworks/R.framework/.. -framework R -Wl,-framework -Wl,CoreFoundation
installing to /Library/Frameworks/R.framework/Versions/3.5/Resources/library/girafe/libs
** R
** inst
** byte-compile and prepare package for lazy loading
No methods found in package ‘IRanges’ for request: ‘sort’ when loading ‘girafe’
Creating a generic function for ‘sample’ from package ‘base’ in package ‘girafe’
** help
*** installing help indices
** building package indices
** installing vignettes
** testing if installed package can be loaded
No methods found in package ‘IRanges’ for request: ‘sort’ when loading ‘girafe’
* DONE (girafe)