| Back to Multiple platform build/check report for BioC 3.8 | 
 | 
This page was generated on 2019-04-16 11:59:13 -0400 (Tue, 16 Apr 2019).
| Package 645/1649 | Hostname | OS / Arch | INSTALL | BUILD | CHECK | BUILD BIN | ||||||
| ggcyto 1.10.2 Mike Jiang 
 | malbec1 | Linux (Ubuntu 16.04.6 LTS) / x86_64 | OK | OK | OK |  | ||||||
| merida1 | OS X 10.11.6 El Capitan / x86_64 | OK | OK | OK | [ OK ] |  | 
| Package: ggcyto | 
| Version: 1.10.2 | 
| Command: rm -rf ggcyto.buildbin-libdir && mkdir ggcyto.buildbin-libdir && /Users/biocbuild/BBS/utils/build-universal.sh ggcyto_1.10.2.tar.gz /Library/Frameworks/R.framework/Versions/Current/Resources/bin/R ggcyto.buildbin-libdir | 
| StartedAt: 2019-04-16 04:08:38 -0400 (Tue, 16 Apr 2019) | 
| EndedAt: 2019-04-16 04:09:23 -0400 (Tue, 16 Apr 2019) | 
| EllapsedTime: 44.7 seconds | 
| RetCode: 0 | 
| Status: OK | 
| PackageFile: ggcyto_1.10.2.tgz | 
| PackageFileSize: 5.757 MiB | 
############################################################################## ############################################################################## ### ### Running command: ### ### rm -rf ggcyto.buildbin-libdir && mkdir ggcyto.buildbin-libdir && /Users/biocbuild/BBS/utils/build-universal.sh ggcyto_1.10.2.tar.gz /Library/Frameworks/R.framework/Versions/Current/Resources/bin/R ggcyto.buildbin-libdir ### ############################################################################## ############################################################################## >>>>>>> >>>>>>> INSTALLATION WITH 'R CMD INSTALL --preclean --no-multiarch --library=ggcyto.buildbin-libdir ggcyto_1.10.2.tar.gz' >>>>>>> * installing *source* package ‘ggcyto’ ... ** R ** inst ** byte-compile and prepare package for lazy loading Creating a generic function for ‘%+%’ from package ‘ggplot2’ in package ‘ggcyto’ ** help *** installing help indices ** building package indices ** installing vignettes ** testing if installed package can be loaded * DONE (ggcyto)