| Back to Multiple platform build/check report for BioC 3.8 |
|
This page was generated on 2019-04-13 11:28:37 -0400 (Sat, 13 Apr 2019).
| Package 640/1649 | Hostname | OS / Arch | INSTALL | BUILD | CHECK | BUILD BIN | ||||||
| gep2pep 1.2.0 Francesco Napolitano
| malbec1 | Linux (Ubuntu 16.04.6 LTS) / x86_64 | OK | OK | OK | |||||||
| tokay1 | Windows Server 2012 R2 Standard / x64 | [ OK ] | OK | OK | OK | |||||||
| merida1 | OS X 10.11.6 El Capitan / x86_64 | OK | OK | OK | OK |
| Package: gep2pep |
| Version: 1.2.0 |
| Command: C:\cygwin\bin\curl.exe -O https://malbec1.bioconductor.org/BBS/3.8/bioc/src/contrib/gep2pep_1.2.0.tar.gz && rm -rf gep2pep.buildbin-libdir && mkdir gep2pep.buildbin-libdir && C:\Users\biocbuild\bbs-3.8-bioc\R\bin\R.exe CMD INSTALL --merge-multiarch --build --library=gep2pep.buildbin-libdir gep2pep_1.2.0.tar.gz && C:\Users\biocbuild\bbs-3.8-bioc\R\bin\R.exe CMD INSTALL gep2pep_1.2.0.zip && rm gep2pep_1.2.0.tar.gz gep2pep_1.2.0.zip |
| StartedAt: 2019-04-12 18:45:51 -0400 (Fri, 12 Apr 2019) |
| EndedAt: 2019-04-12 18:46:32 -0400 (Fri, 12 Apr 2019) |
| EllapsedTime: 41.5 seconds |
| RetCode: 0 |
| Status: OK |
##############################################################################
##############################################################################
###
### Running command:
###
### C:\cygwin\bin\curl.exe -O https://malbec1.bioconductor.org/BBS/3.8/bioc/src/contrib/gep2pep_1.2.0.tar.gz && rm -rf gep2pep.buildbin-libdir && mkdir gep2pep.buildbin-libdir && C:\Users\biocbuild\bbs-3.8-bioc\R\bin\R.exe CMD INSTALL --merge-multiarch --build --library=gep2pep.buildbin-libdir gep2pep_1.2.0.tar.gz && C:\Users\biocbuild\bbs-3.8-bioc\R\bin\R.exe CMD INSTALL gep2pep_1.2.0.zip && rm gep2pep_1.2.0.tar.gz gep2pep_1.2.0.zip
###
##############################################################################
##############################################################################
% Total % Received % Xferd Average Speed Time Time Time Current
Dload Upload Total Spent Left Speed
0 0 0 0 0 0 0 0 --:--:-- --:--:-- --:--:-- 0
100 97889 100 97889 0 0 2801k 0 --:--:-- --:--:-- --:--:-- 3186k
install for i386
* installing *source* package 'gep2pep' ...
** R
** inst
** byte-compile and prepare package for lazy loading
** help
*** installing help indices
converting help for package 'gep2pep'
finding HTML links ... done
CategorizedCollection-class html
CategorizedCollection html
CondSEA html
PathSEA html
as.CategorizedCollection html
buildPEPs html
checkRepository html
clearCache html
createMergedRepository html
createRepository html
exportSEA html
gene2pathways html
gep2pep-package html
getCollections html
getDetails html
getResults html
importFromRawMode html
importMSigDB.xml html
loadCollection html
loadESmatrix html
loadPVmatrix html
loadSampleGEP html
loadSamplePWS html
makeCollectionIDs html
openRepository html
setId2setName html
** building package indices
** installing vignettes
** testing if installed package can be loaded
In R CMD INSTALL
install for x64
* installing *source* package 'gep2pep' ...
** testing if installed package can be loaded
* MD5 sums
packaged installation of 'gep2pep' as gep2pep_1.2.0.zip
* DONE (gep2pep)
In R CMD INSTALL
In R CMD INSTALL
* installing to library 'C:/Users/biocbuild/bbs-3.8-bioc/R/library'
package 'gep2pep' successfully unpacked and MD5 sums checked
In R CMD INSTALL