| Back to Multiple platform build/check report for BioC 3.8 |
|
This page was generated on 2019-04-16 11:52:36 -0400 (Tue, 16 Apr 2019).
| Package 593/1649 | Hostname | OS / Arch | INSTALL | BUILD | CHECK | BUILD BIN | ||||||
| geneClassifiers 1.6.0 R Kuiper
| malbec1 | Linux (Ubuntu 16.04.6 LTS) / x86_64 | OK | OK | [ OK ] | |||||||
| merida1 | OS X 10.11.6 El Capitan / x86_64 | OK | OK | OK | OK |
| Package: geneClassifiers |
| Version: 1.6.0 |
| Command: /home/biocbuild/bbs-3.8-bioc/R/bin/R CMD check --install=check:geneClassifiers.install-out.txt --library=/home/biocbuild/bbs-3.8-bioc/R/library --no-vignettes --timings geneClassifiers_1.6.0.tar.gz |
| StartedAt: 2019-04-16 00:06:50 -0400 (Tue, 16 Apr 2019) |
| EndedAt: 2019-04-16 00:07:25 -0400 (Tue, 16 Apr 2019) |
| EllapsedTime: 34.4 seconds |
| RetCode: 0 |
| Status: OK |
| CheckDir: geneClassifiers.Rcheck |
| Warnings: 0 |
############################################################################## ############################################################################## ### ### Running command: ### ### /home/biocbuild/bbs-3.8-bioc/R/bin/R CMD check --install=check:geneClassifiers.install-out.txt --library=/home/biocbuild/bbs-3.8-bioc/R/library --no-vignettes --timings geneClassifiers_1.6.0.tar.gz ### ############################################################################## ############################################################################## * using log directory ‘/home/biocbuild/bbs-3.8-bioc/meat/geneClassifiers.Rcheck’ * using R version 3.5.3 (2019-03-11) * using platform: x86_64-pc-linux-gnu (64-bit) * using session charset: UTF-8 * using option ‘--no-vignettes’ * checking for file ‘geneClassifiers/DESCRIPTION’ ... OK * checking extension type ... Package * this is package ‘geneClassifiers’ version ‘1.6.0’ * checking package namespace information ... OK * checking package dependencies ... OK * checking if this is a source package ... OK * checking if there is a namespace ... OK * checking for hidden files and directories ... OK * checking for portable file names ... OK * checking for sufficient/correct file permissions ... OK * checking whether package ‘geneClassifiers’ can be installed ... OK * checking installed package size ... OK * checking package directory ... OK * checking ‘build’ directory ... OK * checking DESCRIPTION meta-information ... OK * checking top-level files ... OK * checking for left-over files ... OK * checking index information ... OK * checking package subdirectories ... OK * checking R files for non-ASCII characters ... OK * checking R files for syntax errors ... OK * checking whether the package can be loaded ... OK * checking whether the package can be loaded with stated dependencies ... OK * checking whether the package can be unloaded cleanly ... OK * checking whether the namespace can be loaded with stated dependencies ... OK * checking whether the namespace can be unloaded cleanly ... OK * checking dependencies in R code ... OK * checking S3 generic/method consistency ... OK * checking replacement functions ... OK * checking foreign function calls ... OK * checking R code for possible problems ... OK * checking Rd files ... OK * checking Rd metadata ... OK * checking Rd cross-references ... OK * checking for missing documentation entries ... OK * checking for code/documentation mismatches ... OK * checking Rd \usage sections ... OK * checking Rd contents ... OK * checking for unstated dependencies in examples ... OK * checking contents of ‘data’ directory ... OK * checking data for non-ASCII characters ... OK * checking data for ASCII and uncompressed saves ... OK * checking R/sysdata.rda ... OK * checking files in ‘vignettes’ ... OK * checking examples ... OK * checking for unstated dependencies in ‘tests’ ... OK * checking tests ... Running ‘testthat.R’ OK * checking for unstated dependencies in vignettes ... OK * checking package vignettes in ‘inst/doc’ ... OK * checking running R code from vignettes ... SKIPPED * checking re-building of vignette outputs ... SKIPPED * checking PDF version of manual ... OK * DONE Status: OK
geneClassifiers.Rcheck/00install.out
############################################################################## ############################################################################## ### ### Running command: ### ### /home/biocbuild/bbs-3.8-bioc/R/bin/R CMD INSTALL geneClassifiers ### ############################################################################## ############################################################################## * installing to library ‘/home/biocbuild/bbs-3.8-bioc/R/library’ * installing *source* package ‘geneClassifiers’ ... ** R ** data *** moving datasets to lazyload DB ** byte-compile and prepare package for lazy loading ** help *** installing help indices ** building package indices ** installing vignettes ** testing if installed package can be loaded * DONE (geneClassifiers)
geneClassifiers.Rcheck/tests/testthat.Rout
R version 3.5.3 (2019-03-11) -- "Great Truth"
Copyright (C) 2019 The R Foundation for Statistical Computing
Platform: x86_64-pc-linux-gnu (64-bit)
R is free software and comes with ABSOLUTELY NO WARRANTY.
You are welcome to redistribute it under certain conditions.
Type 'license()' or 'licence()' for distribution details.
R is a collaborative project with many contributors.
Type 'contributors()' for more information and
'citation()' on how to cite R or R packages in publications.
Type 'demo()' for some demos, 'help()' for on-line help, or
'help.start()' for an HTML browser interface to help.
Type 'q()' to quit R.
> library(testthat)
> library(geneClassifiers)
>
> test_check("geneClassifiers")
══ testthat results ═══════════════════════════════════════════════════════════
OK: 136 SKIPPED: 0 FAILED: 0
>
> proc.time()
user system elapsed
2.172 0.040 2.206
geneClassifiers.Rcheck/geneClassifiers-Ex.timings
| name | user | system | elapsed | |
| bracket-methods | 0.044 | 0.000 | 0.044 | |
| dim-methods | 0.020 | 0.000 | 0.022 | |
| getBatchCorrection-methods | 0.224 | 0.016 | 0.242 | |
| getCitations-methods | 0.004 | 0.000 | 0.002 | |
| getClassifications-methods | 0.032 | 0.000 | 0.032 | |
| getClassifier-methods | 0.000 | 0.004 | 0.002 | |
| getDecisionBoundaries-methods | 0.000 | 0.000 | 0.002 | |
| getDescription-methods | 0.004 | 0.000 | 0.001 | |
| getEventChain-methods | 0.000 | 0.000 | 0.001 | |
| getIntercept-methods | 0.004 | 0.000 | 0.001 | |
| getMeans-methods | 0.000 | 0.000 | 0.002 | |
| getName-methods | 0.004 | 0.000 | 0.001 | |
| getNormalizationMethod-methods | 0.044 | 0.000 | 0.045 | |
| getProbeNames-methods | 0.004 | 0.000 | 0.002 | |
| getScores-methods | 0.040 | 0.000 | 0.039 | |
| getSds-methods | 0.000 | 0.004 | 0.002 | |
| getTargetValue-methods | 0.012 | 0.000 | 0.012 | |
| getTrainingData-methods | 0.036 | 0.000 | 0.037 | |
| getWeightingType-methods | 0.032 | 0.000 | 0.030 | |
| getWeights-methods | 0.004 | 0.000 | 0.002 | |
| runClassifier-methods | 0.032 | 0.000 | 0.032 | |
| setNormalizationMethod-methods | 0.032 | 0.000 | 0.031 | |
| showClassifierList-methods | 0.028 | 0.008 | 0.036 | |