| Back to Multiple platform build/check report for BioC 3.8 |
|
This page was generated on 2019-04-16 11:55:21 -0400 (Tue, 16 Apr 2019).
| Package 568/1649 | Hostname | OS / Arch | INSTALL | BUILD | CHECK | BUILD BIN | ||||||
| gage 2.32.1 Weijun Luo
| malbec1 | Linux (Ubuntu 16.04.6 LTS) / x86_64 | OK | OK | WARNINGS | |||||||
| merida1 | OS X 10.11.6 El Capitan / x86_64 | OK | OK | WARNINGS | [ OK ] |
| Package: gage |
| Version: 2.32.1 |
| Command: rm -rf gage.buildbin-libdir && mkdir gage.buildbin-libdir && /Users/biocbuild/BBS/utils/build-universal.sh gage_2.32.1.tar.gz /Library/Frameworks/R.framework/Versions/Current/Resources/bin/R gage.buildbin-libdir |
| StartedAt: 2019-04-16 04:05:06 -0400 (Tue, 16 Apr 2019) |
| EndedAt: 2019-04-16 04:05:51 -0400 (Tue, 16 Apr 2019) |
| EllapsedTime: 45.0 seconds |
| RetCode: 0 |
| Status: OK |
| PackageFile: gage_2.32.1.tgz |
| PackageFileSize: 2.716 MiB |
############################################################################## ############################################################################## ### ### Running command: ### ### rm -rf gage.buildbin-libdir && mkdir gage.buildbin-libdir && /Users/biocbuild/BBS/utils/build-universal.sh gage_2.32.1.tar.gz /Library/Frameworks/R.framework/Versions/Current/Resources/bin/R gage.buildbin-libdir ### ############################################################################## ############################################################################## >>>>>>> >>>>>>> INSTALLATION WITH 'R CMD INSTALL --preclean --no-multiarch --library=gage.buildbin-libdir gage_2.32.1.tar.gz' >>>>>>> * installing *source* package ‘gage’ ... ** R ** data ** inst ** byte-compile and prepare package for lazy loading ** help *** installing help indices ** building package indices ** installing vignettes ** testing if installed package can be loaded * DONE (gage)