| Back to Multiple platform build/check report for BioC 3.8 |
|
This page was generated on 2019-04-13 11:20:36 -0400 (Sat, 13 Apr 2019).
| Package 567/1649 | Hostname | OS / Arch | INSTALL | BUILD | CHECK | BUILD BIN | ||||||
| gaga 2.28.1 David Rossell
| malbec1 | Linux (Ubuntu 16.04.6 LTS) / x86_64 | OK | OK | OK | |||||||
| tokay1 | Windows Server 2012 R2 Standard / x64 | OK | OK | OK | [ OK ] | |||||||
| merida1 | OS X 10.11.6 El Capitan / x86_64 | OK | OK | WARNINGS | OK |
| Package: gaga |
| Version: 2.28.1 |
| Command: rm -rf gaga.buildbin-libdir && mkdir gaga.buildbin-libdir && C:\Users\biocbuild\bbs-3.8-bioc\R\bin\R.exe CMD INSTALL --merge-multiarch --build --library=gaga.buildbin-libdir gaga_2.28.1.tar.gz |
| StartedAt: 2019-04-13 07:16:53 -0400 (Sat, 13 Apr 2019) |
| EndedAt: 2019-04-13 07:17:20 -0400 (Sat, 13 Apr 2019) |
| EllapsedTime: 27.2 seconds |
| RetCode: 0 |
| Status: OK |
| PackageFile: gaga_2.28.1.zip |
| PackageFileSize: 682.5 KiB |
##############################################################################
##############################################################################
###
### Running command:
###
### rm -rf gaga.buildbin-libdir && mkdir gaga.buildbin-libdir && C:\Users\biocbuild\bbs-3.8-bioc\R\bin\R.exe CMD INSTALL --merge-multiarch --build --library=gaga.buildbin-libdir gaga_2.28.1.tar.gz
###
##############################################################################
##############################################################################
install for i386
* installing *source* package 'gaga' ...
** libs
C:/Rtools/mingw_32/bin/gcc -I"C:/Users/BIOCBU˜1/BBS-3˜1.8-B/R/include" -DNDEBUG -I"C:/extsoft/include" -O3 -Wall -std=gnu99 -mtune=generic -c cseqdesma.c -o cseqdesma.o
C:/Rtools/mingw_32/bin/gcc -I"C:/Users/BIOCBU˜1/BBS-3˜1.8-B/R/include" -DNDEBUG -I"C:/extsoft/include" -O3 -Wall -std=gnu99 -mtune=generic -c cstat.c -o cstat.o
cstat.c: In function 'qnormC':
cstat.c:1638:3: warning: 'x' may be used uninitialized in this function [-Wmaybe-uninitialized]
return y;
^
cstat.c: In function 'pnormC':
cstat.c:1552:5: warning: 'p' may be used uninitialized in this function [-Wmaybe-uninitialized]
p, q, mean,sd,bound,x,z;
^
C:/Rtools/mingw_32/bin/gcc -shared -s -static-libgcc -o gaga.dll tmp.def cseqdesma.o cstat.o -LC:/extsoft/lib/i386 -LC:/extsoft/lib -LC:/Users/BIOCBU˜1/BBS-3˜1.8-B/R/bin/i386 -lR
installing to C:/Users/biocbuild/bbs-3.8-bioc/meat/gaga.buildbin-libdir/gaga/libs/i386
** R
** inst
** byte-compile and prepare package for lazy loading
** help
*** installing help indices
converting help for package 'gaga'
finding HTML links ... done
buildPatterns html
checkfit html
classpred html
dcgamma html
findgenes html
fitGG html
forwsimDiffExpr html
geneclus html
getpar html
parest html
plotForwSim html
posmeansGG html
powclasspred html
powfindgenes html
print.gagaclus html
print.gagafit html
print.gagahyp html
seqBoundariesGrid html
simGG html
simnewsamples html
** building package indices
** installing vignettes
** testing if installed package can be loaded
In R CMD INSTALL
install for x64
* installing *source* package 'gaga' ...
** libs
C:/Rtools/mingw_64/bin/gcc -I"C:/Users/BIOCBU˜1/BBS-3˜1.8-B/R/include" -DNDEBUG -I"C:/extsoft/include" -O2 -Wall -std=gnu99 -mtune=generic -c cseqdesma.c -o cseqdesma.o
C:/Rtools/mingw_64/bin/gcc -I"C:/Users/BIOCBU˜1/BBS-3˜1.8-B/R/include" -DNDEBUG -I"C:/extsoft/include" -O2 -Wall -std=gnu99 -mtune=generic -c cstat.c -o cstat.o
C:/Rtools/mingw_64/bin/gcc -shared -s -static-libgcc -o gaga.dll tmp.def cseqdesma.o cstat.o -LC:/extsoft/lib/x64 -LC:/extsoft/lib -LC:/Users/BIOCBU˜1/BBS-3˜1.8-B/R/bin/x64 -lR
installing to C:/Users/biocbuild/bbs-3.8-bioc/meat/gaga.buildbin-libdir/gaga/libs/x64
** testing if installed package can be loaded
* MD5 sums
packaged installation of 'gaga' as gaga_2.28.1.zip
* DONE (gaga)
In R CMD INSTALL
In R CMD INSTALL