| Back to Multiple platform build/check report for BioC 3.8 |
|
This page was generated on 2019-04-13 11:20:57 -0400 (Sat, 13 Apr 2019).
| Package 547/1649 | Hostname | OS / Arch | INSTALL | BUILD | CHECK | BUILD BIN | ||||||
| flowStats 3.40.1 Greg Finak
| malbec1 | Linux (Ubuntu 16.04.6 LTS) / x86_64 | OK | OK | OK | |||||||
| tokay1 | Windows Server 2012 R2 Standard / x64 | OK | OK | WARNINGS | [ OK ] | |||||||
| merida1 | OS X 10.11.6 El Capitan / x86_64 | OK | OK | OK | OK |
| Package: flowStats |
| Version: 3.40.1 |
| Command: rm -rf flowStats.buildbin-libdir && mkdir flowStats.buildbin-libdir && C:\Users\biocbuild\bbs-3.8-bioc\R\bin\R.exe CMD INSTALL --merge-multiarch --build --library=flowStats.buildbin-libdir flowStats_3.40.1.tar.gz |
| StartedAt: 2019-04-13 07:16:15 -0400 (Sat, 13 Apr 2019) |
| EndedAt: 2019-04-13 07:16:51 -0400 (Sat, 13 Apr 2019) |
| EllapsedTime: 36.1 seconds |
| RetCode: 0 |
| Status: OK |
| PackageFile: flowStats_3.40.1.zip |
| PackageFileSize: 4.594 MiB |
##############################################################################
##############################################################################
###
### Running command:
###
### rm -rf flowStats.buildbin-libdir && mkdir flowStats.buildbin-libdir && C:\Users\biocbuild\bbs-3.8-bioc\R\bin\R.exe CMD INSTALL --merge-multiarch --build --library=flowStats.buildbin-libdir flowStats_3.40.1.tar.gz
###
##############################################################################
##############################################################################
install for i386
* installing *source* package 'flowStats' ...
** R
** data
** inst
** byte-compile and prepare package for lazy loading
** help
*** installing help indices
converting help for package 'flowStats'
finding HTML links ... done
BackGating html
ITN html
addName-methods html
autoGate html
binByRef html
calcPBChiSquare html
calcPearsonChi html
curv1Filter-class html
finding level-2 HTML links ... done
curv2Filter-class html
curvPeaks html
density1d html
fdPar html
flowStats-package html
gate_singlet html
gaussNorm html
gpaSet html
iProcrustes html
idFeaturesByBackgating html
landmarkMatrix html
lymphGate html
normQA html
normalize html
Rd warning: C:/Users/biocbuild/bbs-3.8-bioc/tmpdir/RtmpY1bAtL/R.INSTALL40c1a8355ca/flowStats/man/normalize.Rd:58: file link 'ncdfFlowSet' in package 'ncdfFlow' does not exist and so has been treated as a topic
overton_like html
plotBins html
proBin html
quadrantGate html
rangeGate html
warpSet html
** building package indices
** installing vignettes
** testing if installed package can be loaded
In R CMD INSTALL
install for x64
* installing *source* package 'flowStats' ...
** testing if installed package can be loaded
* MD5 sums
packaged installation of 'flowStats' as flowStats_3.40.1.zip
* DONE (flowStats)
In R CMD INSTALL
In R CMD INSTALL