| Back to Multiple platform build/check report for BioC 3.8 |
|
This page was generated on 2019-04-13 11:22:12 -0400 (Sat, 13 Apr 2019).
| Package 540/1649 | Hostname | OS / Arch | INSTALL | BUILD | CHECK | BUILD BIN | ||||||
| flowPeaks 1.28.1 Yongchao Ge
| malbec1 | Linux (Ubuntu 16.04.6 LTS) / x86_64 | OK | OK | OK | |||||||
| tokay1 | Windows Server 2012 R2 Standard / x64 | OK | OK | OK | [ OK ] | |||||||
| merida1 | OS X 10.11.6 El Capitan / x86_64 | OK | OK | OK | OK |
| Package: flowPeaks |
| Version: 1.28.1 |
| Command: rm -rf flowPeaks.buildbin-libdir && mkdir flowPeaks.buildbin-libdir && C:\Users\biocbuild\bbs-3.8-bioc\R\bin\R.exe CMD INSTALL --merge-multiarch --build --library=flowPeaks.buildbin-libdir flowPeaks_1.28.1.tar.gz |
| StartedAt: 2019-04-13 07:16:04 -0400 (Sat, 13 Apr 2019) |
| EndedAt: 2019-04-13 07:16:38 -0400 (Sat, 13 Apr 2019) |
| EllapsedTime: 34.3 seconds |
| RetCode: 0 |
| Status: OK |
| PackageFile: flowPeaks_1.28.1.zip |
| PackageFileSize: 2.436 MiB |
##############################################################################
##############################################################################
###
### Running command:
###
### rm -rf flowPeaks.buildbin-libdir && mkdir flowPeaks.buildbin-libdir && C:\Users\biocbuild\bbs-3.8-bioc\R\bin\R.exe CMD INSTALL --merge-multiarch --build --library=flowPeaks.buildbin-libdir flowPeaks_1.28.1.tar.gz
###
##############################################################################
##############################################################################
install for i386
* installing *source* package 'flowPeaks' ...
** libs
rm -f flowPeaks.dll Rpack.o Rregistrate.o VoronoiDiagramGenerator.o flowPeaks.o func_collect.o func_collect_supp.o gvector_gmatrix.o kd_tree.o kmns.o
"C:/Users/BIOCBU˜1/BBS-3˜1.8-B/R/bin/i386/Rscript.exe" "../tools/winlibs.R"
C:/Rtools/mingw_32/bin/g++ -I"C:/Users/BIOCBU˜1/BBS-3˜1.8-B/R/include" -DNDEBUG -I"C:/extsoft/include" -I/src/include -I../windows/gsl-master/include/gsl -O2 -Wall -mtune=generic -c Rpack.cpp -o Rpack.o
Rpack.cpp: In function 'void Rpack_relevel(int*, int*, int*, int*, int*, int*)':
Rpack.cpp:141:18: warning: comparison between signed and unsigned integer expressions [-Wsign-compare]
if(levels.size()<(i+1)){
^
C:/Rtools/mingw_32/bin/g++ -I"C:/Users/BIOCBU˜1/BBS-3˜1.8-B/R/include" -DNDEBUG -I"C:/extsoft/include" -I/src/include -I../windows/gsl-master/include/gsl -O2 -Wall -mtune=generic -c Rregistrate.cpp -o Rregistrate.o
C:/Rtools/mingw_32/bin/g++ -I"C:/Users/BIOCBU˜1/BBS-3˜1.8-B/R/include" -DNDEBUG -I"C:/extsoft/include" -I/src/include -I../windows/gsl-master/include/gsl -O2 -Wall -mtune=generic -c VoronoiDiagramGenerator.cpp -o VoronoiDiagramGenerator.o
C:/Rtools/mingw_32/bin/g++ -I"C:/Users/BIOCBU˜1/BBS-3˜1.8-B/R/include" -DNDEBUG -I"C:/extsoft/include" -I/src/include -I../windows/gsl-master/include/gsl -O2 -Wall -mtune=generic -c flowPeaks.cpp -o flowPeaks.o
C:/Rtools/mingw_32/bin/g++ -I"C:/Users/BIOCBU˜1/BBS-3˜1.8-B/R/include" -DNDEBUG -I"C:/extsoft/include" -I/src/include -I../windows/gsl-master/include/gsl -O2 -Wall -mtune=generic -c func_collect.cpp -o func_collect.o
C:/Rtools/mingw_32/bin/g++ -I"C:/Users/BIOCBU˜1/BBS-3˜1.8-B/R/include" -DNDEBUG -I"C:/extsoft/include" -I/src/include -I../windows/gsl-master/include/gsl -O2 -Wall -mtune=generic -c func_collect_supp.cpp -o func_collect_supp.o
C:/Rtools/mingw_32/bin/g++ -I"C:/Users/BIOCBU˜1/BBS-3˜1.8-B/R/include" -DNDEBUG -I"C:/extsoft/include" -I/src/include -I../windows/gsl-master/include/gsl -O2 -Wall -mtune=generic -c gvector_gmatrix.cpp -o gvector_gmatrix.o
C:/Rtools/mingw_32/bin/g++ -I"C:/Users/BIOCBU˜1/BBS-3˜1.8-B/R/include" -DNDEBUG -I"C:/extsoft/include" -I/src/include -I../windows/gsl-master/include/gsl -O2 -Wall -mtune=generic -c kd_tree.cpp -o kd_tree.o
C:/Rtools/mingw_32/bin/g++ -I"C:/Users/BIOCBU˜1/BBS-3˜1.8-B/R/include" -DNDEBUG -I"C:/extsoft/include" -I/src/include -I../windows/gsl-master/include/gsl -O2 -Wall -mtune=generic -c kmns.cpp -o kmns.o
C:/Rtools/mingw_32/bin/g++ -shared -s -static-libgcc -o flowPeaks.dll tmp.def Rpack.o Rregistrate.o VoronoiDiagramGenerator.o flowPeaks.o func_collect.o func_collect_supp.o gvector_gmatrix.o kd_tree.o kmns.o -L../windows/gsl-master/lib/i386 -lgsl -lgslcblas -lm -LC:/extsoft/lib/i386 -LC:/extsoft/lib -LC:/Users/BIOCBU˜1/BBS-3˜1.8-B/R/bin/i386 -lR
installing to C:/Users/biocbuild/bbs-3.8-bioc/meat/flowPeaks.buildbin-libdir/flowPeaks/libs/i386
** R
** data
** inst
** byte-compile and prepare package for lazy loading
** help
*** installing help indices
converting help for package 'flowPeaks'
finding HTML links ... done
adjust.flowPeaks html
assign.flowPeaks html
barcode html
concave html
evalCluster html
flowPeaks html
plot.flowPeaks html
print.flowPeaks html
summary.flowPeaks html
** building package indices
** installing vignettes
** testing if installed package can be loaded
In R CMD INSTALL
install for x64
* installing *source* package 'flowPeaks' ...
** libs
rm -f flowPeaks.dll Rpack.o Rregistrate.o VoronoiDiagramGenerator.o flowPeaks.o func_collect.o func_collect_supp.o gvector_gmatrix.o kd_tree.o kmns.o
"C:/Users/BIOCBU˜1/BBS-3˜1.8-B/R/bin/x64/Rscript.exe" "../tools/winlibs.R"
C:/Rtools/mingw_64/bin/g++ -I"C:/Users/BIOCBU˜1/BBS-3˜1.8-B/R/include" -DNDEBUG -I"C:/extsoft/include" -I/src/include -I../windows/gsl-master/include/gsl -O2 -Wall -mtune=generic -c Rpack.cpp -o Rpack.o
Rpack.cpp: In function 'void Rpack_relevel(int*, int*, int*, int*, int*, int*)':
Rpack.cpp:141:18: warning: comparison between signed and unsigned integer expressions [-Wsign-compare]
if(levels.size()<(i+1)){
^
C:/Rtools/mingw_64/bin/g++ -I"C:/Users/BIOCBU˜1/BBS-3˜1.8-B/R/include" -DNDEBUG -I"C:/extsoft/include" -I/src/include -I../windows/gsl-master/include/gsl -O2 -Wall -mtune=generic -c Rregistrate.cpp -o Rregistrate.o
C:/Rtools/mingw_64/bin/g++ -I"C:/Users/BIOCBU˜1/BBS-3˜1.8-B/R/include" -DNDEBUG -I"C:/extsoft/include" -I/src/include -I../windows/gsl-master/include/gsl -O2 -Wall -mtune=generic -c VoronoiDiagramGenerator.cpp -o VoronoiDiagramGenerator.o
C:/Rtools/mingw_64/bin/g++ -I"C:/Users/BIOCBU˜1/BBS-3˜1.8-B/R/include" -DNDEBUG -I"C:/extsoft/include" -I/src/include -I../windows/gsl-master/include/gsl -O2 -Wall -mtune=generic -c flowPeaks.cpp -o flowPeaks.o
C:/Rtools/mingw_64/bin/g++ -I"C:/Users/BIOCBU˜1/BBS-3˜1.8-B/R/include" -DNDEBUG -I"C:/extsoft/include" -I/src/include -I../windows/gsl-master/include/gsl -O2 -Wall -mtune=generic -c func_collect.cpp -o func_collect.o
C:/Rtools/mingw_64/bin/g++ -I"C:/Users/BIOCBU˜1/BBS-3˜1.8-B/R/include" -DNDEBUG -I"C:/extsoft/include" -I/src/include -I../windows/gsl-master/include/gsl -O2 -Wall -mtune=generic -c func_collect_supp.cpp -o func_collect_supp.o
C:/Rtools/mingw_64/bin/g++ -I"C:/Users/BIOCBU˜1/BBS-3˜1.8-B/R/include" -DNDEBUG -I"C:/extsoft/include" -I/src/include -I../windows/gsl-master/include/gsl -O2 -Wall -mtune=generic -c gvector_gmatrix.cpp -o gvector_gmatrix.o
C:/Rtools/mingw_64/bin/g++ -I"C:/Users/BIOCBU˜1/BBS-3˜1.8-B/R/include" -DNDEBUG -I"C:/extsoft/include" -I/src/include -I../windows/gsl-master/include/gsl -O2 -Wall -mtune=generic -c kd_tree.cpp -o kd_tree.o
C:/Rtools/mingw_64/bin/g++ -I"C:/Users/BIOCBU˜1/BBS-3˜1.8-B/R/include" -DNDEBUG -I"C:/extsoft/include" -I/src/include -I../windows/gsl-master/include/gsl -O2 -Wall -mtune=generic -c kmns.cpp -o kmns.o
C:/Rtools/mingw_64/bin/g++ -shared -s -static-libgcc -o flowPeaks.dll tmp.def Rpack.o Rregistrate.o VoronoiDiagramGenerator.o flowPeaks.o func_collect.o func_collect_supp.o gvector_gmatrix.o kd_tree.o kmns.o -L../windows/gsl-master/lib/x64 -lgsl -lgslcblas -lm -LC:/extsoft/lib/x64 -LC:/extsoft/lib -LC:/Users/BIOCBU˜1/BBS-3˜1.8-B/R/bin/x64 -lR
installing to C:/Users/biocbuild/bbs-3.8-bioc/meat/flowPeaks.buildbin-libdir/flowPeaks/libs/x64
** testing if installed package can be loaded
* MD5 sums
packaged installation of 'flowPeaks' as flowPeaks_1.28.1.zip
* DONE (flowPeaks)
In R CMD INSTALL
In R CMD INSTALL