| Back to Multiple platform build/check report for BioC 3.8 |
|
This page was generated on 2019-04-16 11:50:20 -0400 (Tue, 16 Apr 2019).
| Package 537/1649 | Hostname | OS / Arch | INSTALL | BUILD | CHECK | BUILD BIN | ||||||
| flowMatch 1.18.1 Ariful Azad
| malbec1 | Linux (Ubuntu 16.04.6 LTS) / x86_64 | [ OK ] | OK | OK | |||||||
| merida1 | OS X 10.11.6 El Capitan / x86_64 | OK | OK | OK | OK |
| Package: flowMatch |
| Version: 1.18.1 |
| Command: /home/biocbuild/bbs-3.8-bioc/R/bin/R CMD INSTALL flowMatch |
| StartedAt: 2019-04-15 18:05:36 -0400 (Mon, 15 Apr 2019) |
| EndedAt: 2019-04-15 18:06:05 -0400 (Mon, 15 Apr 2019) |
| EllapsedTime: 28.8 seconds |
| RetCode: 0 |
| Status: OK |
##############################################################################
##############################################################################
###
### Running command:
###
### /home/biocbuild/bbs-3.8-bioc/R/bin/R CMD INSTALL flowMatch
###
##############################################################################
##############################################################################
* installing to library ‘/home/biocbuild/bbs-3.8-bioc/R/library’
* installing *source* package ‘flowMatch’ ...
** libs
g++ -I"/home/biocbuild/bbs-3.8-bioc/R/include" -DNDEBUG -I"/home/biocbuild/bbs-3.8-bioc/R/library/Rcpp/include" -I/usr/local/include -fpic -g -O2 -Wall -c BipartiteGraph.cpp -o BipartiteGraph.o
g++ -I"/home/biocbuild/bbs-3.8-bioc/R/include" -DNDEBUG -I"/home/biocbuild/bbs-3.8-bioc/R/library/Rcpp/include" -I/usr/local/include -fpic -g -O2 -Wall -c MinWghtEdgCoverBipartite.cpp -o MinWghtEdgCoverBipartite.o
MinWghtEdgCoverBipartite.cpp: In function ‘void update_height(mclust&, std::vector<std::vector<templatePair> >, std::vector<std::vector<BipartiteGraph> >, double)’:
MinWghtEdgCoverBipartite.cpp:271:16: warning: comparison between signed and unsigned integer expressions [-Wsign-compare]
for(int i=0; i<tree.height.size(); i++)
^
MinWghtEdgCoverBipartite.cpp: In function ‘void computeDegConsistencyNew(std::vector<std::vector<templatePair> >&, std::vector<std::vector<BipartiteGraph> >&, double, double)’:
MinWghtEdgCoverBipartite.cpp:487:10: warning: variable ‘delta_cx_cy’ set but not used [-Wunused-but-set-variable]
int delta_cx_cy = 0;
^
g++ -I"/home/biocbuild/bbs-3.8-bioc/R/include" -DNDEBUG -I"/home/biocbuild/bbs-3.8-bioc/R/library/Rcpp/include" -I/usr/local/include -fpic -g -O2 -Wall -c flowMatch.cpp -o flowMatch.o
flowMatch.cpp: In function ‘Rcpp::List computeMEC(Rcpp::NumericMatrix, double)’:
flowMatch.cpp:43:16: warning: comparison between signed and unsigned integer expressions [-Wsign-compare]
for(int i=0; i<mec.sCoverVecVec.size(); i++)
^
flowMatch.cpp:45:17: warning: comparison between signed and unsigned integer expressions [-Wsign-compare]
for(int j=0; j<mec.sCoverVecVec[i].size(); j++)
^
flowMatch.cpp:53:16: warning: comparison between signed and unsigned integer expressions [-Wsign-compare]
for(int i=0; i<mec.tCoverVecVec.size(); i++)
^
flowMatch.cpp:55:17: warning: comparison between signed and unsigned integer expressions [-Wsign-compare]
for(int j=0; j<mec.tCoverVecVec[i].size(); j++)
^
g++ -shared -L/home/biocbuild/bbs-3.8-bioc/R/lib -L/usr/local/lib -o flowMatch.so BipartiteGraph.o MinWghtEdgCoverBipartite.o flowMatch.o -L/home/biocbuild/bbs-3.8-bioc/R/lib -lR
installing to /home/biocbuild/bbs-3.8-bioc/R/library/flowMatch/libs
** R
** byte-compile and prepare package for lazy loading
** help
*** installing help indices
** building package indices
** installing vignettes
** testing if installed package can be loaded
* DONE (flowMatch)