| Back to Multiple platform build/check report for BioC 3.8 |
|
This page was generated on 2019-04-13 11:23:56 -0400 (Sat, 13 Apr 2019).
| Package 529/1649 | Hostname | OS / Arch | INSTALL | BUILD | CHECK | BUILD BIN | ||||||
| flowClean 1.20.0 Kipper Fletez-Brant
| malbec1 | Linux (Ubuntu 16.04.6 LTS) / x86_64 | OK | OK | WARNINGS | |||||||
| tokay1 | Windows Server 2012 R2 Standard / x64 | OK | OK | WARNINGS | [ OK ] | |||||||
| merida1 | OS X 10.11.6 El Capitan / x86_64 | OK | OK | WARNINGS | OK |
| Package: flowClean |
| Version: 1.20.0 |
| Command: rm -rf flowClean.buildbin-libdir && mkdir flowClean.buildbin-libdir && C:\Users\biocbuild\bbs-3.8-bioc\R\bin\R.exe CMD INSTALL --merge-multiarch --build --library=flowClean.buildbin-libdir flowClean_1.20.0.tar.gz |
| StartedAt: 2019-04-13 07:15:43 -0400 (Sat, 13 Apr 2019) |
| EndedAt: 2019-04-13 07:15:51 -0400 (Sat, 13 Apr 2019) |
| EllapsedTime: 7.9 seconds |
| RetCode: 0 |
| Status: OK |
| PackageFile: flowClean_1.20.0.zip |
| PackageFileSize: 4.676 MiB |
##############################################################################
##############################################################################
###
### Running command:
###
### rm -rf flowClean.buildbin-libdir && mkdir flowClean.buildbin-libdir && C:\Users\biocbuild\bbs-3.8-bioc\R\bin\R.exe CMD INSTALL --merge-multiarch --build --library=flowClean.buildbin-libdir flowClean_1.20.0.tar.gz
###
##############################################################################
##############################################################################
install for i386
* installing *source* package 'flowClean' ...
** R
** data
** inst
** byte-compile and prepare package for lazy loading
** help
*** installing help indices
converting help for package 'flowClean'
finding HTML links ... done
clean html
synPerturbed html
** building package indices
** installing vignettes
** testing if installed package can be loaded
In R CMD INSTALL
install for x64
* installing *source* package 'flowClean' ...
** testing if installed package can be loaded
* MD5 sums
packaged installation of 'flowClean' as flowClean_1.20.0.zip
* DONE (flowClean)
In R CMD INSTALL
In R CMD INSTALL