| Back to Multiple platform build/check report for BioC 3.8 |
|
This page was generated on 2019-04-13 11:23:28 -0400 (Sat, 13 Apr 2019).
| Package 525/1649 | Hostname | OS / Arch | INSTALL | BUILD | CHECK | BUILD BIN | ||||||
| flowBin 1.18.1 Kieran O'Neill
| malbec1 | Linux (Ubuntu 16.04.6 LTS) / x86_64 | OK | OK | OK | |||||||
| tokay1 | Windows Server 2012 R2 Standard / x64 | [ OK ] | OK | OK | OK | |||||||
| merida1 | OS X 10.11.6 El Capitan / x86_64 | OK | OK | OK | OK |
| Package: flowBin |
| Version: 1.18.1 |
| Command: C:\cygwin\bin\curl.exe -O https://malbec1.bioconductor.org/BBS/3.8/bioc/src/contrib/flowBin_1.18.1.tar.gz && rm -rf flowBin.buildbin-libdir && mkdir flowBin.buildbin-libdir && C:\Users\biocbuild\bbs-3.8-bioc\R\bin\R.exe CMD INSTALL --merge-multiarch --build --library=flowBin.buildbin-libdir flowBin_1.18.1.tar.gz && C:\Users\biocbuild\bbs-3.8-bioc\R\bin\R.exe CMD INSTALL flowBin_1.18.1.zip && rm flowBin_1.18.1.tar.gz flowBin_1.18.1.zip |
| StartedAt: 2019-04-12 19:11:02 -0400 (Fri, 12 Apr 2019) |
| EndedAt: 2019-04-12 19:11:47 -0400 (Fri, 12 Apr 2019) |
| EllapsedTime: 45.4 seconds |
| RetCode: 0 |
| Status: OK |
##############################################################################
##############################################################################
###
### Running command:
###
### C:\cygwin\bin\curl.exe -O https://malbec1.bioconductor.org/BBS/3.8/bioc/src/contrib/flowBin_1.18.1.tar.gz && rm -rf flowBin.buildbin-libdir && mkdir flowBin.buildbin-libdir && C:\Users\biocbuild\bbs-3.8-bioc\R\bin\R.exe CMD INSTALL --merge-multiarch --build --library=flowBin.buildbin-libdir flowBin_1.18.1.tar.gz && C:\Users\biocbuild\bbs-3.8-bioc\R\bin\R.exe CMD INSTALL flowBin_1.18.1.zip && rm flowBin_1.18.1.tar.gz flowBin_1.18.1.zip
###
##############################################################################
##############################################################################
% Total % Received % Xferd Average Speed Time Time Time Current
Dload Upload Total Spent Left Speed
0 0 0 0 0 0 0 0 --:--:-- --:--:-- --:--:-- 0
100 159k 100 159k 0 0 3716k 0 --:--:-- --:--:-- --:--:-- 4084k
install for i386
* installing *source* package 'flowBin' ...
** R
** data
** inst
** byte-compile and prepare package for lazy loading
** help
*** installing help indices
converting help for package 'flowBin'
finding HTML links ... done
BinnedFlowSample html
FlowSample html
amlsample html
checkQNorm html
eventsInBins html
flowBin html
flowFPBin html
getBinExpr html
kMeansBin html
mapBinsKNN html
quantileNormalise html
removeSparseBins html
show-methods html
** building package indices
** installing vignettes
** testing if installed package can be loaded
In R CMD INSTALL
install for x64
* installing *source* package 'flowBin' ...
** testing if installed package can be loaded
* MD5 sums
packaged installation of 'flowBin' as flowBin_1.18.1.zip
* DONE (flowBin)
In R CMD INSTALL
In R CMD INSTALL
* installing to library 'C:/Users/biocbuild/bbs-3.8-bioc/R/library'
package 'flowBin' successfully unpacked and MD5 sums checked
In R CMD INSTALL