| Back to Multiple platform build/check report for BioC 3.8 |
|
This page was generated on 2019-04-13 11:21:55 -0400 (Sat, 13 Apr 2019).
| Package 494/1649 | Hostname | OS / Arch | INSTALL | BUILD | CHECK | BUILD BIN | ||||||
| exomeCopy 1.28.0 Michael Love
| malbec1 | Linux (Ubuntu 16.04.6 LTS) / x86_64 | OK | OK | OK | |||||||
| tokay1 | Windows Server 2012 R2 Standard / x64 | [ OK ] | OK | OK | OK | |||||||
| merida1 | OS X 10.11.6 El Capitan / x86_64 | OK | OK | OK | OK |
| Package: exomeCopy |
| Version: 1.28.0 |
| Command: C:\cygwin\bin\curl.exe -O https://malbec1.bioconductor.org/BBS/3.8/bioc/src/contrib/exomeCopy_1.28.0.tar.gz && rm -rf exomeCopy.buildbin-libdir && mkdir exomeCopy.buildbin-libdir && C:\Users\biocbuild\bbs-3.8-bioc\R\bin\R.exe CMD INSTALL --merge-multiarch --build --library=exomeCopy.buildbin-libdir exomeCopy_1.28.0.tar.gz && C:\Users\biocbuild\bbs-3.8-bioc\R\bin\R.exe CMD INSTALL exomeCopy_1.28.0.zip && rm exomeCopy_1.28.0.tar.gz exomeCopy_1.28.0.zip |
| StartedAt: 2019-04-12 19:39:52 -0400 (Fri, 12 Apr 2019) |
| EndedAt: 2019-04-12 19:40:28 -0400 (Fri, 12 Apr 2019) |
| EllapsedTime: 36.9 seconds |
| RetCode: 0 |
| Status: OK |
##############################################################################
##############################################################################
###
### Running command:
###
### C:\cygwin\bin\curl.exe -O https://malbec1.bioconductor.org/BBS/3.8/bioc/src/contrib/exomeCopy_1.28.0.tar.gz && rm -rf exomeCopy.buildbin-libdir && mkdir exomeCopy.buildbin-libdir && C:\Users\biocbuild\bbs-3.8-bioc\R\bin\R.exe CMD INSTALL --merge-multiarch --build --library=exomeCopy.buildbin-libdir exomeCopy_1.28.0.tar.gz && C:\Users\biocbuild\bbs-3.8-bioc\R\bin\R.exe CMD INSTALL exomeCopy_1.28.0.zip && rm exomeCopy_1.28.0.tar.gz exomeCopy_1.28.0.zip
###
##############################################################################
##############################################################################
% Total % Received % Xferd Average Speed Time Time Time Current
Dload Upload Total Spent Left Speed
0 0 0 0 0 0 0 0 --:--:-- --:--:-- --:--:-- 0
100 80044 100 80044 0 0 2143k 0 --:--:-- --:--:-- --:--:-- 2368k
install for i386
* installing *source* package 'exomeCopy' ...
** libs
C:/Rtools/mingw_32/bin/gcc -I"C:/Users/BIOCBU˜1/BBS-3˜1.8-B/R/include" -DNDEBUG -I"C:/extsoft/include" -O3 -Wall -std=gnu99 -mtune=generic -c exomeCopy.c -o exomeCopy.o
C:/Rtools/mingw_32/bin/gcc -shared -s -static-libgcc -o exomeCopy.dll tmp.def exomeCopy.o -LC:/extsoft/lib/i386 -LC:/extsoft/lib -LC:/Users/BIOCBU˜1/BBS-3˜1.8-B/R/bin/i386 -lR
installing to C:/Users/biocbuild/bbs-3.8-bioc/meat/exomeCopy.buildbin-libdir/exomeCopy/libs/i386
** R
** data
** inst
** byte-compile and prepare package for lazy loading
** help
*** installing help indices
converting help for package 'exomeCopy'
finding HTML links ... done
ExomeCopy-class html
compileCopyCountSegments html
copyCountSegments html
countBamInGRanges html
finding level-2 HTML links ... done
exomeCopy-package html
exomeCopy html
exomecounts html
generateBackground html
getGCcontent html
negLogLike html
plot.exomeCopyObject html
plotCompiledCNV html
subdivideGRanges html
** building package indices
** installing vignettes
** testing if installed package can be loaded
In R CMD INSTALL
install for x64
* installing *source* package 'exomeCopy' ...
** libs
C:/Rtools/mingw_64/bin/gcc -I"C:/Users/BIOCBU˜1/BBS-3˜1.8-B/R/include" -DNDEBUG -I"C:/extsoft/include" -O2 -Wall -std=gnu99 -mtune=generic -c exomeCopy.c -o exomeCopy.o
C:/Rtools/mingw_64/bin/gcc -shared -s -static-libgcc -o exomeCopy.dll tmp.def exomeCopy.o -LC:/extsoft/lib/x64 -LC:/extsoft/lib -LC:/Users/BIOCBU˜1/BBS-3˜1.8-B/R/bin/x64 -lR
installing to C:/Users/biocbuild/bbs-3.8-bioc/meat/exomeCopy.buildbin-libdir/exomeCopy/libs/x64
** testing if installed package can be loaded
* MD5 sums
packaged installation of 'exomeCopy' as exomeCopy_1.28.0.zip
* DONE (exomeCopy)
In R CMD INSTALL
In R CMD INSTALL
* installing to library 'C:/Users/biocbuild/bbs-3.8-bioc/R/library'
package 'exomeCopy' successfully unpacked and MD5 sums checked
In R CMD INSTALL