| Back to Multiple platform build/check report for BioC 3.8 |
|
This page was generated on 2019-04-16 12:03:43 -0400 (Tue, 16 Apr 2019).
| Package 488/1649 | Hostname | OS / Arch | INSTALL | BUILD | CHECK | BUILD BIN | ||||||
| esATAC 1.4.5 Zheng Wei
| malbec1 | Linux (Ubuntu 16.04.6 LTS) / x86_64 | OK | OK | OK | |||||||
| merida1 | OS X 10.11.6 El Capitan / x86_64 | OK | OK | [ OK ] | OK |
| Package: esATAC |
| Version: 1.4.5 |
| Command: /Library/Frameworks/R.framework/Versions/Current/Resources/bin/R CMD check --install=check:esATAC.install-out.txt --library=/Library/Frameworks/R.framework/Versions/Current/Resources/library --no-vignettes --timings esATAC_1.4.5.tar.gz |
| StartedAt: 2019-04-15 23:49:30 -0400 (Mon, 15 Apr 2019) |
| EndedAt: 2019-04-15 23:57:00 -0400 (Mon, 15 Apr 2019) |
| EllapsedTime: 449.9 seconds |
| RetCode: 0 |
| Status: OK |
| CheckDir: esATAC.Rcheck |
| Warnings: 0 |
##############################################################################
##############################################################################
###
### Running command:
###
### /Library/Frameworks/R.framework/Versions/Current/Resources/bin/R CMD check --install=check:esATAC.install-out.txt --library=/Library/Frameworks/R.framework/Versions/Current/Resources/library --no-vignettes --timings esATAC_1.4.5.tar.gz
###
##############################################################################
##############################################################################
* using log directory ‘/Users/biocbuild/bbs-3.8-bioc/meat/esATAC.Rcheck’
* using R version 3.5.3 (2019-03-11)
* using platform: x86_64-apple-darwin15.6.0 (64-bit)
* using session charset: UTF-8
* using option ‘--no-vignettes’
* checking for file ‘esATAC/DESCRIPTION’ ... OK
* checking extension type ... Package
* this is package ‘esATAC’ version ‘1.4.5’
* package encoding: UTF-8
* checking package namespace information ... OK
* checking package dependencies ... OK
* checking if this is a source package ... OK
* checking if there is a namespace ... OK
* checking for hidden files and directories ... NOTE
Found the following hidden files and directories:
.BBSoptions
These were most likely included in error. See section ‘Package
structure’ in the ‘Writing R Extensions’ manual.
* checking for portable file names ... OK
* checking for sufficient/correct file permissions ... OK
* checking whether package ‘esATAC’ can be installed ... OK
* checking installed package size ... NOTE
installed size is 6.5Mb
sub-directories of 1Mb or more:
extdata 5.1Mb
* checking package directory ... OK
* checking ‘build’ directory ... OK
* checking DESCRIPTION meta-information ... OK
* checking top-level files ... OK
* checking for left-over files ... OK
* checking index information ... OK
* checking package subdirectories ... OK
* checking R files for non-ASCII characters ... OK
* checking R files for syntax errors ... OK
* checking whether the package can be loaded ... OK
* checking whether the package can be loaded with stated dependencies ... OK
* checking whether the package can be unloaded cleanly ... OK
* checking whether the namespace can be loaded with stated dependencies ... OK
* checking whether the namespace can be unloaded cleanly ... OK
* checking dependencies in R code ... NOTE
Unexported objects imported by ':::' calls:
‘ShortRead:::.ShortReadQQA’ ‘ShortRead:::.qa_adapterContamination’
See the note in ?`:::` about the use of this operator.
* checking S3 generic/method consistency ... OK
* checking replacement functions ... OK
* checking foreign function calls ... OK
* checking R code for possible problems ... OK
* checking Rd files ... OK
* checking Rd metadata ... OK
* checking Rd cross-references ... OK
* checking for missing documentation entries ... OK
* checking for code/documentation mismatches ... OK
* checking Rd \usage sections ... OK
* checking Rd contents ... OK
* checking for unstated dependencies in examples ... OK
* checking line endings in C/C++/Fortran sources/headers ... OK
* checking line endings in Makefiles ... OK
* checking compilation flags in Makevars ... OK
* checking for GNU extensions in Makefiles ... OK
* checking for portable use of $(BLAS_LIBS) and $(LAPACK_LIBS) ... OK
* checking compiled code ... NOTE
Note: information on .o files is not available
* checking files in ‘vignettes’ ... OK
* checking examples ... OK
Examples with CPU or elapsed time > 5s
user system elapsed
RMotifScanPair 6.933 0.446 7.57
* checking for unstated dependencies in ‘tests’ ... OK
* checking tests ...
Running ‘testthat.R’
OK
* checking for unstated dependencies in vignettes ... OK
* checking package vignettes in ‘inst/doc’ ... OK
* checking running R code from vignettes ... SKIPPED
* checking re-building of vignette outputs ... SKIPPED
* checking PDF version of manual ... OK
* DONE
Status: 4 NOTEs
See
‘/Users/biocbuild/bbs-3.8-bioc/meat/esATAC.Rcheck/00check.log’
for details.
esATAC.Rcheck/00install.out
##############################################################################
##############################################################################
###
### Running command:
###
### /Library/Frameworks/R.framework/Versions/Current/Resources/bin/R CMD INSTALL esATAC
###
##############################################################################
##############################################################################
* installing to library ‘/Library/Frameworks/R.framework/Versions/3.5/Resources/library’
* installing *source* package ‘esATAC’ ...
** libs
clang++ -std=gnu++11 -I"/Library/Frameworks/R.framework/Resources/include" -DNDEBUG -DNDEBUG -DPLF_SYS_LINUX -DR_EVN_FLAG -I"/Library/Frameworks/R.framework/Versions/3.5/Resources/library/Rcpp/include" -I/usr/local/include -fPIC -Wall -g -O2 -c BedLine.cpp -o BedLine.o
clang++ -std=gnu++11 -I"/Library/Frameworks/R.framework/Resources/include" -DNDEBUG -DNDEBUG -DPLF_SYS_LINUX -DR_EVN_FLAG -I"/Library/Frameworks/R.framework/Versions/3.5/Resources/library/Rcpp/include" -I/usr/local/include -fPIC -Wall -g -O2 -c BedUtils.cpp -o BedUtils.o
clang++ -std=gnu++11 -I"/Library/Frameworks/R.framework/Resources/include" -DNDEBUG -DNDEBUG -DPLF_SYS_LINUX -DR_EVN_FLAG -I"/Library/Frameworks/R.framework/Versions/3.5/Resources/library/Rcpp/include" -I/usr/local/include -fPIC -Wall -g -O2 -c ChrDivi.cpp -o ChrDivi.o
clang++ -std=gnu++11 -I"/Library/Frameworks/R.framework/Resources/include" -DNDEBUG -DNDEBUG -DPLF_SYS_LINUX -DR_EVN_FLAG -I"/Library/Frameworks/R.framework/Versions/3.5/Resources/library/Rcpp/include" -I/usr/local/include -fPIC -Wall -g -O2 -c CutCountPre.cpp -o CutCountPre.o
clang++ -std=gnu++11 -I"/Library/Frameworks/R.framework/Resources/include" -DNDEBUG -DNDEBUG -DPLF_SYS_LINUX -DR_EVN_FLAG -I"/Library/Frameworks/R.framework/Versions/3.5/Resources/library/Rcpp/include" -I/usr/local/include -fPIC -Wall -g -O2 -c CutSiteCount.cpp -o CutSiteCount.o
clang++ -std=gnu++11 -I"/Library/Frameworks/R.framework/Resources/include" -DNDEBUG -DNDEBUG -DPLF_SYS_LINUX -DR_EVN_FLAG -I"/Library/Frameworks/R.framework/Versions/3.5/Resources/library/Rcpp/include" -I/usr/local/include -fPIC -Wall -g -O2 -c LibComplexQC.cpp -o LibComplexQC.o
clang++ -std=gnu++11 -I"/Library/Frameworks/R.framework/Resources/include" -DNDEBUG -DNDEBUG -DPLF_SYS_LINUX -DR_EVN_FLAG -I"/Library/Frameworks/R.framework/Versions/3.5/Resources/library/Rcpp/include" -I/usr/local/include -fPIC -Wall -g -O2 -c RcppExports.cpp -o RcppExports.o
clang++ -std=gnu++11 -I"/Library/Frameworks/R.framework/Resources/include" -DNDEBUG -DNDEBUG -DPLF_SYS_LINUX -DR_EVN_FLAG -I"/Library/Frameworks/R.framework/Versions/3.5/Resources/library/Rcpp/include" -I/usr/local/include -fPIC -Wall -g -O2 -c SortBed.cpp -o SortBed.o
clang++ -std=gnu++11 -I"/Library/Frameworks/R.framework/Resources/include" -DNDEBUG -DNDEBUG -DPLF_SYS_LINUX -DR_EVN_FLAG -I"/Library/Frameworks/R.framework/Versions/3.5/Resources/library/Rcpp/include" -I/usr/local/include -fPIC -Wall -g -O2 -c rcpp_wrapper.cpp -o rcpp_wrapper.o
clang++ -std=gnu++11 -I"/Library/Frameworks/R.framework/Resources/include" -DNDEBUG -DNDEBUG -DPLF_SYS_LINUX -DR_EVN_FLAG -I"/Library/Frameworks/R.framework/Versions/3.5/Resources/library/Rcpp/include" -I/usr/local/include -fPIC -Wall -g -O2 -c renamer.cpp -o renamer.o
clang++ -std=gnu++11 -I"/Library/Frameworks/R.framework/Resources/include" -DNDEBUG -DNDEBUG -DPLF_SYS_LINUX -DR_EVN_FLAG -I"/Library/Frameworks/R.framework/Versions/3.5/Resources/library/Rcpp/include" -I/usr/local/include -fPIC -Wall -g -O2 -c sam2bed.cc -o sam2bed.o
sam2bed.cc:111:16: warning: unused variable 'xspm' [-Wunused-variable]
regmatch_t xspm[1];
^
sam2bed.cc:280:16: warning: unused variable 'xspm' [-Wunused-variable]
regmatch_t xspm[1];
^
2 warnings generated.
clang++ -std=gnu++11 -dynamiclib -Wl,-headerpad_max_install_names -undefined dynamic_lookup -single_module -multiply_defined suppress -L/Library/Frameworks/R.framework/Resources/lib -L/usr/local/lib -o esATAC.so BedLine.o BedUtils.o ChrDivi.o CutCountPre.o CutSiteCount.o LibComplexQC.o RcppExports.o SortBed.o rcpp_wrapper.o renamer.o sam2bed.o -F/Library/Frameworks/R.framework/.. -framework R -Wl,-framework -Wl,CoreFoundation
installing to /Library/Frameworks/R.framework/Versions/3.5/Resources/library/esATAC/libs
** R
** inst
** byte-compile and prepare package for lazy loading
** help
*** installing help indices
** building package indices
** installing vignettes
** testing if installed package can be loaded
* DONE (esATAC)
esATAC.Rcheck/tests/testthat.Rout
R version 3.5.3 (2019-03-11) -- "Great Truth"
Copyright (C) 2019 The R Foundation for Statistical Computing
Platform: x86_64-apple-darwin15.6.0 (64-bit)
R is free software and comes with ABSOLUTELY NO WARRANTY.
You are welcome to redistribute it under certain conditions.
Type 'license()' or 'licence()' for distribution details.
R is a collaborative project with many contributors.
Type 'contributors()' for more information and
'citation()' on how to cite R or R packages in publications.
Type 'demo()' for some demos, 'help()' for on-line help, or
'help.start()' for an HTML browser interface to help.
Type 'q()' to quit R.
> library(testthat)
> library(esATAC)
Loading required package: Rsamtools
Loading required package: GenomeInfoDb
Loading required package: BiocGenerics
Loading required package: parallel
Attaching package: 'BiocGenerics'
The following objects are masked from 'package:parallel':
clusterApply, clusterApplyLB, clusterCall, clusterEvalQ,
clusterExport, clusterMap, parApply, parCapply, parLapply,
parLapplyLB, parRapply, parSapply, parSapplyLB
The following objects are masked from 'package:stats':
IQR, mad, sd, var, xtabs
The following objects are masked from 'package:base':
Filter, Find, Map, Position, Reduce, anyDuplicated, append,
as.data.frame, basename, cbind, colMeans, colSums, colnames,
dirname, do.call, duplicated, eval, evalq, get, grep, grepl,
intersect, is.unsorted, lapply, lengths, mapply, match, mget,
order, paste, pmax, pmax.int, pmin, pmin.int, rank, rbind,
rowMeans, rowSums, rownames, sapply, setdiff, sort, table, tapply,
union, unique, unsplit, which, which.max, which.min
Loading required package: S4Vectors
Loading required package: stats4
Attaching package: 'S4Vectors'
The following object is masked from 'package:base':
expand.grid
Loading required package: IRanges
Loading required package: GenomicRanges
Loading required package: Biostrings
Loading required package: XVector
Attaching package: 'Biostrings'
The following object is masked from 'package:base':
strsplit
Loading required package: ShortRead
Loading required package: BiocParallel
Loading required package: GenomicAlignments
Loading required package: SummarizedExperiment
Loading required package: Biobase
Welcome to Bioconductor
Vignettes contain introductory material; view with
'browseVignettes()'. To cite Bioconductor, see
'citation("Biobase")', and for packages 'citation("pkgname")'.
Loading required package: DelayedArray
Loading required package: matrixStats
Attaching package: 'matrixStats'
The following objects are masked from 'package:Biobase':
anyMissing, rowMedians
Attaching package: 'DelayedArray'
The following objects are masked from 'package:matrixStats':
colMaxs, colMins, colRanges, rowMaxs, rowMins, rowRanges
The following object is masked from 'package:Biostrings':
type
The following objects are masked from 'package:base':
aperm, apply
>
> test_check("esATAC")
Opening FASTQ file '/private/tmp/RtmpAsZDZy/baseopr/reads_1.Renamer.fq'
Opening FASTQ file '/private/tmp/RtmpAsZDZy/baseopr/reads_2.Renamer.fq'
Trimming paired end reads ...
Opening FASTQ file '/private/tmp/RtmpAsZDZy/baseopr/reads_1.Renamer.fq'
Opening FASTQ file '/private/tmp/RtmpAsZDZy/baseopr/reads_2.Renamer.fq'
Opening FASTQ file '/private/tmp/RtmpAsZDZy/baseopr/reads_1.Renamer.fq'
Opening FASTQ file '/private/tmp/RtmpAsZDZy/baseopr/reads_2.Renamer.fq'
Trimming paired end reads ...
Opening FASTQ file '/private/tmp/RtmpAsZDZy/baseopr/reads_1.Renamer.fq'
Opening FASTQ file '/private/tmp/RtmpAsZDZy/baseopr/reads_2.Renamer.fq'
Opening FASTQ file '/private/tmp/RtmpAsZDZy/umr/reads_1.Renamer.fq'
Opening FASTQ file '/private/tmp/RtmpAsZDZy/umr/reads_2.Renamer.fq'
Trimming paired end reads ...
Opening FASTQ file '/private/tmp/RtmpAsZDZy/umr/reads_1.Renamer.fq'
Opening FASTQ file '/private/tmp/RtmpAsZDZy/umr/reads_2.Renamer.fq'
F-Seq Version 1.85
Settings:
window=2860
bandwidth=100
threshold = 8.886496
est. fragment size = 0
sequence length = 32
chr20: first=60385, last=13381774
....................
.....................
chr20: Completed in 0.558 seconds.
chr20: Found 1427 peaks.
-----------------------
finish temporary output:/private/tmp/RtmpAsZDZy/sam2bed/Example.SamToBed.bed.0
merge start
merge finish
finish
══ testthat results ═══════════════════════════════════════════════════════════
OK: 92 SKIPPED: 0 FAILED: 0
>
> proc.time()
user system elapsed
34.761 2.015 36.334
esATAC.Rcheck/esATAC-Ex.timings
| name | user | system | elapsed | |
| ATACProc-class | 1.861 | 0.103 | 2.018 | |
| BamToBed | 0.502 | 0.012 | 0.518 | |
| BedToBigWig | 0.090 | 0.006 | 0.098 | |
| BedUtils | 0.332 | 0.021 | 0.356 | |
| Bowtie2Mapping | 1.012 | 0.225 | 0.671 | |
| CutSiteCountR | 0.634 | 0.034 | 0.672 | |
| CutSitePre | 0.349 | 0.014 | 0.424 | |
| FastQC | 0.861 | 0.043 | 0.915 | |
| FragLenDistr | 0.084 | 0.003 | 0.087 | |
| FripQC | 2.937 | 0.210 | 2.643 | |
| LibComplexQC | 0.217 | 0.011 | 0.242 | |
| PeakCallingFseq | 0.439 | 0.022 | 0.471 | |
| PeakQC | 0.598 | 0.024 | 0.699 | |
| RGo | 0 | 0 | 0 | |
| RMotifScan | 0.000 | 0.000 | 0.001 | |
| RMotifScanPair | 6.933 | 0.446 | 7.570 | |
| RPeakAnno | 0.254 | 0.010 | 0.274 | |
| RPeakComp | 0.074 | 0.002 | 0.077 | |
| RSNPs | 0.192 | 0.007 | 0.200 | |
| RemoveAdapter | 0.338 | 0.004 | 0.344 | |
| Renamer | 0.036 | 0.003 | 0.039 | |
| Rsortbam | 0.058 | 0.002 | 0.061 | |
| SamToBam | 0.293 | 0.042 | 0.336 | |
| SamToBed | 0.384 | 0.006 | 0.407 | |
| TSSQC | 2.566 | 0.073 | 2.727 | |
| UnzipAndMerge | 0.012 | 0.002 | 0.013 | |
| atacPipe2 | 0.000 | 0.001 | 0.001 | |
| atacRepsPipe | 0.000 | 0.000 | 0.001 | |
| atacRepsPipe2 | 0.000 | 0.001 | 0.001 | |
| configureValue | 0.001 | 0.000 | 0.001 | |
| esATAC-package | 0 | 0 | 0 | |
| getMotifInfo | 0.012 | 0.001 | 0.013 | |