| Back to Multiple platform build/check report for BioC 3.8 |
|
This page was generated on 2019-04-16 11:49:57 -0400 (Tue, 16 Apr 2019).
| Package 478/1649 | Hostname | OS / Arch | INSTALL | BUILD | CHECK | BUILD BIN | ||||||
| epigenomix 1.22.0 Hans-Ulrich Klein
| malbec1 | Linux (Ubuntu 16.04.6 LTS) / x86_64 | OK | OK | [ OK ] | |||||||
| merida1 | OS X 10.11.6 El Capitan / x86_64 | OK | OK | OK | OK |
| Package: epigenomix |
| Version: 1.22.0 |
| Command: /home/biocbuild/bbs-3.8-bioc/R/bin/R CMD check --install=check:epigenomix.install-out.txt --library=/home/biocbuild/bbs-3.8-bioc/R/library --no-vignettes --timings epigenomix_1.22.0.tar.gz |
| StartedAt: 2019-04-15 23:46:03 -0400 (Mon, 15 Apr 2019) |
| EndedAt: 2019-04-15 23:50:23 -0400 (Mon, 15 Apr 2019) |
| EllapsedTime: 260.3 seconds |
| RetCode: 0 |
| Status: OK |
| CheckDir: epigenomix.Rcheck |
| Warnings: 0 |
##############################################################################
##############################################################################
###
### Running command:
###
### /home/biocbuild/bbs-3.8-bioc/R/bin/R CMD check --install=check:epigenomix.install-out.txt --library=/home/biocbuild/bbs-3.8-bioc/R/library --no-vignettes --timings epigenomix_1.22.0.tar.gz
###
##############################################################################
##############################################################################
* using log directory ‘/home/biocbuild/bbs-3.8-bioc/meat/epigenomix.Rcheck’
* using R version 3.5.3 (2019-03-11)
* using platform: x86_64-pc-linux-gnu (64-bit)
* using session charset: UTF-8
* using option ‘--no-vignettes’
* checking for file ‘epigenomix/DESCRIPTION’ ... OK
* checking extension type ... Package
* this is package ‘epigenomix’ version ‘1.22.0’
* checking package namespace information ... OK
* checking package dependencies ... OK
* checking if this is a source package ... OK
* checking if there is a namespace ... OK
* checking for hidden files and directories ... OK
* checking for portable file names ... OK
* checking for sufficient/correct file permissions ... OK
* checking whether package ‘epigenomix’ can be installed ... OK
* checking installed package size ... OK
* checking package directory ... OK
* checking ‘build’ directory ... OK
* checking DESCRIPTION meta-information ... OK
* checking top-level files ... OK
* checking for left-over files ... OK
* checking index information ... OK
* checking package subdirectories ... OK
* checking R files for non-ASCII characters ... OK
* checking R files for syntax errors ... OK
* checking whether the package can be loaded ... OK
* checking whether the package can be loaded with stated dependencies ... OK
* checking whether the package can be unloaded cleanly ... OK
* checking whether the namespace can be loaded with stated dependencies ... OK
* checking whether the namespace can be unloaded cleanly ... OK
* checking dependencies in R code ... OK
* checking S3 generic/method consistency ... OK
* checking replacement functions ... OK
* checking foreign function calls ... OK
* checking R code for possible problems ... OK
* checking Rd files ... OK
* checking Rd metadata ... OK
* checking Rd cross-references ... OK
* checking for missing documentation entries ... OK
* checking for code/documentation mismatches ... OK
* checking Rd \usage sections ... OK
* checking Rd contents ... OK
* checking for unstated dependencies in examples ... OK
* checking contents of ‘data’ directory ... OK
* checking data for non-ASCII characters ... OK
* checking data for ASCII and uncompressed saves ... OK
* checking files in ‘vignettes’ ... OK
* checking examples ... OK
Examples with CPU or elapsed time > 5s
user system elapsed
plotChains 31.164 0.000 31.203
bayesMixModel 25.584 0.056 25.703
mlMixModel 9.756 0.012 9.779
* checking for unstated dependencies in vignettes ... OK
* checking package vignettes in ‘inst/doc’ ... OK
* checking running R code from vignettes ... SKIPPED
* checking re-building of vignette outputs ... SKIPPED
* checking PDF version of manual ... OK
* DONE
Status: OK
epigenomix.Rcheck/00install.out
############################################################################## ############################################################################## ### ### Running command: ### ### /home/biocbuild/bbs-3.8-bioc/R/bin/R CMD INSTALL epigenomix ### ############################################################################## ############################################################################## * installing to library ‘/home/biocbuild/bbs-3.8-bioc/R/library’ * installing *source* package ‘epigenomix’ ... ** R ** data ** inst ** byte-compile and prepare package for lazy loading ** help *** installing help indices ** building package indices ** installing vignettes ** testing if installed package can be loaded * DONE (epigenomix)
epigenomix.Rcheck/epigenomix-Ex.timings
| name | user | system | elapsed | |
| ChIPseqSet-class | 0.004 | 0.000 | 0.002 | |
| MixModel-class | 0.000 | 0.000 | 0.001 | |
| MixModelBayes-class | 0.004 | 0.000 | 0.001 | |
| MixModelML-class | 0 | 0 | 0 | |
| MixtureComponent-class | 0.000 | 0.000 | 0.001 | |
| bayesMixModel | 25.584 | 0.056 | 25.703 | |
| calculateCrossCorrelation | 1.060 | 0.000 | 1.064 | |
| eSet | 0.020 | 0.000 | 0.021 | |
| fpkm | 0.052 | 0.000 | 0.051 | |
| getAlignmentQuality | 0 | 0 | 0 | |
| integrateData | 0.268 | 0.000 | 0.265 | |
| mappedReads | 0.032 | 0.008 | 0.039 | |
| matchProbeToPromoter | 0.340 | 0.000 | 0.342 | |
| mlMixModel | 9.756 | 0.012 | 9.779 | |
| normalize | 0.188 | 0.000 | 0.188 | |
| normalizeChIP | 0.068 | 0.004 | 0.071 | |
| plotChains | 31.164 | 0.000 | 31.203 | |
| plotClassification | 0.044 | 0.000 | 0.047 | |
| plotComponents | 0.052 | 0.000 | 0.049 | |
| summarizeReads | 0.276 | 0.000 | 0.279 | |
| transToTSS | 0.000 | 0.000 | 0.003 | |