| Back to Multiple platform build/check report for BioC 3.8 |
|
This page was generated on 2019-04-13 11:27:37 -0400 (Sat, 13 Apr 2019).
| Package 479/1649 | Hostname | OS / Arch | INSTALL | BUILD | CHECK | BUILD BIN | ||||||
| epiNEM 1.6.0 Martin Pirkl
| malbec1 | Linux (Ubuntu 16.04.6 LTS) / x86_64 | OK | OK | OK | |||||||
| tokay1 | Windows Server 2012 R2 Standard / x64 | OK | OK | OK | [ OK ] | |||||||
| merida1 | OS X 10.11.6 El Capitan / x86_64 | OK | OK | OK | OK |
| Package: epiNEM |
| Version: 1.6.0 |
| Command: rm -rf epiNEM.buildbin-libdir && mkdir epiNEM.buildbin-libdir && C:\Users\biocbuild\bbs-3.8-bioc\R\bin\R.exe CMD INSTALL --merge-multiarch --build --library=epiNEM.buildbin-libdir epiNEM_1.6.0.tar.gz |
| StartedAt: 2019-04-13 07:13:54 -0400 (Sat, 13 Apr 2019) |
| EndedAt: 2019-04-13 07:14:05 -0400 (Sat, 13 Apr 2019) |
| EllapsedTime: 11.3 seconds |
| RetCode: 0 |
| Status: OK |
| PackageFile: epiNEM_1.6.0.zip |
| PackageFileSize: 720.2 KiB |
##############################################################################
##############################################################################
###
### Running command:
###
### rm -rf epiNEM.buildbin-libdir && mkdir epiNEM.buildbin-libdir && C:\Users\biocbuild\bbs-3.8-bioc\R\bin\R.exe CMD INSTALL --merge-multiarch --build --library=epiNEM.buildbin-libdir epiNEM_1.6.0.tar.gz
###
##############################################################################
##############################################################################
install for i386
* installing *source* package 'epiNEM' ...
** R
** data
*** moving datasets to lazyload DB
** inst
** byte-compile and prepare package for lazy loading
** help
*** installing help indices
converting help for package 'epiNEM'
finding HTML links ... done
AddLogicGates html
CreateRandomGraph html
CreateTopology html
ExtendTopology html
GenerateData html
HeatmapOP html
MLL html
SimEpiNEM html
createExtendedAdjacency html
epiAnno html
epiNEM html
epiScreen html
plot.epiNEM html
plot.epiScreen html
plot.epiSim html
sameith_GO html
sameith_string html
samscreen html
sim html
wageningen_GO html
wageningen_string html
wagscreen html
** building package indices
** installing vignettes
** testing if installed package can be loaded
In R CMD INSTALL
install for x64
* installing *source* package 'epiNEM' ...
** testing if installed package can be loaded
* MD5 sums
packaged installation of 'epiNEM' as epiNEM_1.6.0.zip
* DONE (epiNEM)
In R CMD INSTALL
In R CMD INSTALL