| Back to Multiple platform build/check report for BioC 3.8 |
|
This page was generated on 2019-04-16 11:58:28 -0400 (Tue, 16 Apr 2019).
| Package 474/1649 | Hostname | OS / Arch | INSTALL | BUILD | CHECK | BUILD BIN | ||||||
| ensembldb 2.6.8 Johannes Rainer
| malbec1 | Linux (Ubuntu 16.04.6 LTS) / x86_64 | OK | OK | OK | |||||||
| merida1 | OS X 10.11.6 El Capitan / x86_64 | OK | [ OK ] | OK | OK |
| Package: ensembldb |
| Version: 2.6.8 |
| Command: /Library/Frameworks/R.framework/Versions/Current/Resources/bin/R CMD build --keep-empty-dirs --no-resave-data ensembldb |
| StartedAt: 2019-04-15 20:21:05 -0400 (Mon, 15 Apr 2019) |
| EndedAt: 2019-04-15 20:24:30 -0400 (Mon, 15 Apr 2019) |
| EllapsedTime: 204.3 seconds |
| RetCode: 0 |
| Status: OK |
| PackageFile: ensembldb_2.6.8.tar.gz |
| PackageFileSize: 3.399 MiB |
##############################################################################
##############################################################################
###
### Running command:
###
### /Library/Frameworks/R.framework/Versions/Current/Resources/bin/R CMD build --keep-empty-dirs --no-resave-data ensembldb
###
##############################################################################
##############################################################################
* checking for file ‘ensembldb/DESCRIPTION’ ... OK
* preparing ‘ensembldb’:
* checking DESCRIPTION meta-information ... OK
* installing the package to build vignettes
* creating vignettes ... OK
Warning: ‘inst/doc’ file
‘coordinate-mapping-use-cases.R’
ignored as vignettes have been rebuilt.
Run R CMD build with --no-build-vignettes to prevent rebuilding.
* checking for LF line-endings in source and make files and shell scripts
* checking for empty or unneeded directories
* building ‘ensembldb_2.6.8.tar.gz’