| Back to Multiple platform build/check report for BioC 3.8 |
|
This page was generated on 2019-04-13 11:26:27 -0400 (Sat, 13 Apr 2019).
| Package 429/1649 | Hostname | OS / Arch | INSTALL | BUILD | CHECK | BUILD BIN | ||||||
| doppelgangR 1.10.1 Levi Waldron
| malbec1 | Linux (Ubuntu 16.04.6 LTS) / x86_64 | OK | OK | OK | |||||||
| tokay1 | Windows Server 2012 R2 Standard / x64 | OK | OK | OK | [ OK ] | |||||||
| merida1 | OS X 10.11.6 El Capitan / x86_64 | OK | OK | OK | OK |
| Package: doppelgangR |
| Version: 1.10.1 |
| Command: rm -rf doppelgangR.buildbin-libdir && mkdir doppelgangR.buildbin-libdir && C:\Users\biocbuild\bbs-3.8-bioc\R\bin\R.exe CMD INSTALL --merge-multiarch --build --library=doppelgangR.buildbin-libdir doppelgangR_1.10.1.tar.gz |
| StartedAt: 2019-04-13 07:12:07 -0400 (Sat, 13 Apr 2019) |
| EndedAt: 2019-04-13 07:12:41 -0400 (Sat, 13 Apr 2019) |
| EllapsedTime: 33.8 seconds |
| RetCode: 0 |
| Status: OK |
| PackageFile: doppelgangR_1.10.1.zip |
| PackageFileSize: 736.7 KiB |
##############################################################################
##############################################################################
###
### Running command:
###
### rm -rf doppelgangR.buildbin-libdir && mkdir doppelgangR.buildbin-libdir && C:\Users\biocbuild\bbs-3.8-bioc\R\bin\R.exe CMD INSTALL --merge-multiarch --build --library=doppelgangR.buildbin-libdir doppelgangR_1.10.1.tar.gz
###
##############################################################################
##############################################################################
install for i386
* installing *source* package 'doppelgangR' ...
** R
** inst
** byte-compile and prepare package for lazy loading
** help
*** installing help indices
converting help for package 'doppelgangR'
finding HTML links ... done
DoppelGang-class html
colFinder html
corFinder html
doppelgangR-package html
doppelgangR html
dst html
mst.mle html
outlierFinder html
phenoDist html
phenoFinder html
plot-methods html
smokingGunFinder html
vectorHammingDist html
vectorWeightedDist html
** building package indices
** installing vignettes
** testing if installed package can be loaded
In R CMD INSTALL
install for x64
* installing *source* package 'doppelgangR' ...
** testing if installed package can be loaded
* MD5 sums
packaged installation of 'doppelgangR' as doppelgangR_1.10.1.zip
* DONE (doppelgangR)
In R CMD INSTALL
In R CMD INSTALL