| Back to Multiple platform build/check report for BioC 3.8 |
|
This page was generated on 2019-04-13 11:22:02 -0400 (Sat, 13 Apr 2019).
| Package 383/1649 | Hostname | OS / Arch | INSTALL | BUILD | CHECK | BUILD BIN | ||||||
| deepSNV 1.28.0 Moritz Gerstung
| malbec1 | Linux (Ubuntu 16.04.6 LTS) / x86_64 | OK | OK | OK | |||||||
| tokay1 | Windows Server 2012 R2 Standard / x64 | OK | OK | OK | [ OK ] | |||||||
| merida1 | OS X 10.11.6 El Capitan / x86_64 | OK | OK | OK | OK |
| Package: deepSNV |
| Version: 1.28.0 |
| Command: rm -rf deepSNV.buildbin-libdir && mkdir deepSNV.buildbin-libdir && C:\Users\biocbuild\bbs-3.8-bioc\R\bin\R.exe CMD INSTALL --merge-multiarch --build --library=deepSNV.buildbin-libdir deepSNV_1.28.0.tar.gz |
| StartedAt: 2019-04-13 07:09:14 -0400 (Sat, 13 Apr 2019) |
| EndedAt: 2019-04-13 07:10:15 -0400 (Sat, 13 Apr 2019) |
| EllapsedTime: 61.1 seconds |
| RetCode: 0 |
| Status: OK |
| PackageFile: deepSNV_1.28.0.zip |
| PackageFileSize: 3.088 MiB |
##############################################################################
##############################################################################
###
### Running command:
###
### rm -rf deepSNV.buildbin-libdir && mkdir deepSNV.buildbin-libdir && C:\Users\biocbuild\bbs-3.8-bioc\R\bin\R.exe CMD INSTALL --merge-multiarch --build --library=deepSNV.buildbin-libdir deepSNV_1.28.0.tar.gz
###
##############################################################################
##############################################################################
install for i386
* installing *source* package 'deepSNV' ...
**********************************************
WARNING: this package has a configure script
It probably needs manual configuration
**********************************************
** libs
C:/Rtools/mingw_32/bin/g++ -I"C:/Users/BIOCBU˜1/BBS-3˜1.8-B/R/include" -DNDEBUG -I"C:/Users/biocbuild/bbs-3.8-bioc/R/library/Rhtslib/include" -I"C:/extsoft/include" -O2 -Wall -mtune=generic -c bam2R.cpp -o bam2R.o
bam2R.cpp: In function 'int bam2R(char**, char**, int*, int*, int*, int*, int*, int*, int*, int*, int*, int*)':
bam2R.cpp:96:13: warning: unused variable 'iter' [-Wunused-variable]
hts_itr_t *iter = NULL;
^
bam2R.cpp:99:6: warning: unused variable 'c' [-Wunused-variable]
int c = 0;
^
C:/Rtools/mingw_32/bin/gcc -I"C:/Users/BIOCBU˜1/BBS-3˜1.8-B/R/include" -DNDEBUG -I"C:/Users/biocbuild/bbs-3.8-bioc/R/library/Rhtslib/include" -I"C:/extsoft/include" -O3 -Wall -std=gnu99 -mtune=generic -c betabinom.c -o betabinom.o
betabinom.c: In function 'pbb':
betabinom.c:27:9: warning: unused variable 'log' [-Wunused-variable]
int i, log=0;
^
C:/Rtools/mingw_32/bin/g++ -shared -s -static-libgcc -o deepSNV.dll tmp.def bam2R.o betabinom.o -LC:/Users/biocbuild/bbs-3.8-bioc/R/library/Rhtslib/usrlib/i386 -lhts -lz -lm -lws2_32 -lpthread -LC:/extsoft/lib/i386 -LC:/extsoft/lib -LC:/Users/BIOCBU˜1/BBS-3˜1.8-B/R/bin/i386 -lR
installing to C:/Users/biocbuild/bbs-3.8-bioc/meat/deepSNV.buildbin-libdir/deepSNV/libs/i386
** R
** data
** inst
** byte-compile and prepare package for lazy loading
** help
*** installing help indices
converting help for package 'deepSNV'
finding HTML links ... done
Extract-methods html
RCC html
RF html
bam2R html
betabinLRT html
bf2Vcf html
finding level-2 HTML links ... done
consensusSequence-methods html
control-methods html
coordinates-methods html
counts html
dbetabinom html
deepSNV-class html
deepSNV-methods html
deepSNV-package html
estimateDirichlet-methods html
estimateDispersion-methods html
estimateRho html
loadAllData html
makePrior html
manhattanPlot html
mcChunk html
normalize-methods html
p.combine html
p.val-methods html
pbetabinom html
phiX html
pi html
plot.deepSNV html
qvals2Vcf html
repeatMask-methods html
shearwater html
show-deepSNV-method html
summary-methods html
test-methods html
trueSNVs html
** building package indices
** installing vignettes
** testing if installed package can be loaded
In R CMD INSTALL
install for x64
* installing *source* package 'deepSNV' ...
**********************************************
WARNING: this package has a configure script
It probably needs manual configuration
**********************************************
** libs
C:/Rtools/mingw_64/bin/g++ -I"C:/Users/BIOCBU˜1/BBS-3˜1.8-B/R/include" -DNDEBUG -I"C:/Users/biocbuild/bbs-3.8-bioc/R/library/Rhtslib/include" -I"C:/extsoft/include" -O2 -Wall -mtune=generic -c bam2R.cpp -o bam2R.o
bam2R.cpp: In function 'int bam2R(char**, char**, int*, int*, int*, int*, int*, int*, int*, int*, int*, int*)':
bam2R.cpp:96:13: warning: unused variable 'iter' [-Wunused-variable]
hts_itr_t *iter = NULL;
^
bam2R.cpp:99:6: warning: unused variable 'c' [-Wunused-variable]
int c = 0;
^
C:/Rtools/mingw_64/bin/gcc -I"C:/Users/BIOCBU˜1/BBS-3˜1.8-B/R/include" -DNDEBUG -I"C:/Users/biocbuild/bbs-3.8-bioc/R/library/Rhtslib/include" -I"C:/extsoft/include" -O2 -Wall -std=gnu99 -mtune=generic -c betabinom.c -o betabinom.o
betabinom.c: In function 'pbb':
betabinom.c:27:9: warning: unused variable 'log' [-Wunused-variable]
int i, log=0;
^
C:/Rtools/mingw_64/bin/g++ -shared -s -static-libgcc -o deepSNV.dll tmp.def bam2R.o betabinom.o -LC:/Users/biocbuild/bbs-3.8-bioc/R/library/Rhtslib/usrlib/x64 -lhts -lz -lm -lws2_32 -lpthread -LC:/extsoft/lib/x64 -LC:/extsoft/lib -LC:/Users/BIOCBU˜1/BBS-3˜1.8-B/R/bin/x64 -lR
installing to C:/Users/biocbuild/bbs-3.8-bioc/meat/deepSNV.buildbin-libdir/deepSNV/libs/x64
** testing if installed package can be loaded
* MD5 sums
packaged installation of 'deepSNV' as deepSNV_1.28.0.zip
* DONE (deepSNV)
In R CMD INSTALL
In R CMD INSTALL