| Back to Multiple platform build/check report for BioC 3.8 |
|
This page was generated on 2019-04-13 11:19:16 -0400 (Sat, 13 Apr 2019).
| Package 367/1649 | Hostname | OS / Arch | INSTALL | BUILD | CHECK | BUILD BIN | ||||||
| daMA 1.54.0 Jobst Landgrebe
| malbec1 | Linux (Ubuntu 16.04.6 LTS) / x86_64 | OK | OK | OK | |||||||
| tokay1 | Windows Server 2012 R2 Standard / x64 | OK | OK | OK | [ OK ] | |||||||
| merida1 | OS X 10.11.6 El Capitan / x86_64 | OK | OK | OK | OK |
| Package: daMA |
| Version: 1.54.0 |
| Command: rm -rf daMA.buildbin-libdir && mkdir daMA.buildbin-libdir && C:\Users\biocbuild\bbs-3.8-bioc\R\bin\R.exe CMD INSTALL --merge-multiarch --build --library=daMA.buildbin-libdir daMA_1.54.0.tar.gz |
| StartedAt: 2019-04-13 07:08:34 -0400 (Sat, 13 Apr 2019) |
| EndedAt: 2019-04-13 07:08:45 -0400 (Sat, 13 Apr 2019) |
| EllapsedTime: 11.5 seconds |
| RetCode: 0 |
| Status: OK |
| PackageFile: daMA_1.54.0.zip |
| PackageFileSize: 4.073 MiB |
##############################################################################
##############################################################################
###
### Running command:
###
### rm -rf daMA.buildbin-libdir && mkdir daMA.buildbin-libdir && C:\Users\biocbuild\bbs-3.8-bioc\R\bin\R.exe CMD INSTALL --merge-multiarch --build --library=daMA.buildbin-libdir daMA_1.54.0.tar.gz
###
##############################################################################
##############################################################################
install for i386
* installing *source* package 'daMA' ...
** R
** data
** byte-compile and prepare package for lazy loading
** help
*** installing help indices
converting help for package 'daMA'
finding HTML links ... done
analyseMA html
cinfo html
cinfoB.AB html
cmat html
cmatB.AB html
core html
data.3x2 html
designMA html
designs.basic html
designs.composite html
id.3x2 html
** building package indices
** testing if installed package can be loaded
In R CMD INSTALL
install for x64
* installing *source* package 'daMA' ...
** testing if installed package can be loaded
* MD5 sums
packaged installation of 'daMA' as daMA_1.54.0.zip
* DONE (daMA)
In R CMD INSTALL
In R CMD INSTALL