| Back to Multiple platform build/check report for BioC 3.8 |
|
This page was generated on 2019-04-16 11:59:39 -0400 (Tue, 16 Apr 2019).
| Package 438/1649 | Hostname | OS / Arch | INSTALL | BUILD | CHECK | BUILD BIN | ||||||
| dSimer 1.8.0 Peng Ni
| malbec1 | Linux (Ubuntu 16.04.6 LTS) / x86_64 | OK | OK | OK | |||||||
| merida1 | OS X 10.11.6 El Capitan / x86_64 | OK | OK | [ OK ] | OK |
| Package: dSimer |
| Version: 1.8.0 |
| Command: /Library/Frameworks/R.framework/Versions/Current/Resources/bin/R CMD check --install=check:dSimer.install-out.txt --library=/Library/Frameworks/R.framework/Versions/Current/Resources/library --no-vignettes --timings dSimer_1.8.0.tar.gz |
| StartedAt: 2019-04-15 23:39:19 -0400 (Mon, 15 Apr 2019) |
| EndedAt: 2019-04-15 23:43:50 -0400 (Mon, 15 Apr 2019) |
| EllapsedTime: 271.1 seconds |
| RetCode: 0 |
| Status: OK |
| CheckDir: dSimer.Rcheck |
| Warnings: 0 |
##############################################################################
##############################################################################
###
### Running command:
###
### /Library/Frameworks/R.framework/Versions/Current/Resources/bin/R CMD check --install=check:dSimer.install-out.txt --library=/Library/Frameworks/R.framework/Versions/Current/Resources/library --no-vignettes --timings dSimer_1.8.0.tar.gz
###
##############################################################################
##############################################################################
* using log directory ‘/Users/biocbuild/bbs-3.8-bioc/meat/dSimer.Rcheck’
* using R version 3.5.3 (2019-03-11)
* using platform: x86_64-apple-darwin15.6.0 (64-bit)
* using session charset: UTF-8
* using option ‘--no-vignettes’
* checking for file ‘dSimer/DESCRIPTION’ ... OK
* checking extension type ... Package
* this is package ‘dSimer’ version ‘1.8.0’
* checking package namespace information ... OK
* checking package dependencies ... OK
* checking if this is a source package ... OK
* checking if there is a namespace ... OK
* checking for hidden files and directories ... OK
* checking for portable file names ... OK
* checking for sufficient/correct file permissions ... OK
* checking whether package ‘dSimer’ can be installed ... OK
* checking installed package size ... OK
* checking package directory ... OK
* checking ‘build’ directory ... OK
* checking DESCRIPTION meta-information ... OK
* checking top-level files ... OK
* checking for left-over files ... OK
* checking index information ... OK
* checking package subdirectories ... OK
* checking R files for non-ASCII characters ... OK
* checking R files for syntax errors ... OK
* checking whether the package can be loaded ... OK
* checking whether the package can be loaded with stated dependencies ... OK
* checking whether the package can be unloaded cleanly ... OK
* checking whether the namespace can be loaded with stated dependencies ... OK
* checking whether the namespace can be unloaded cleanly ... OK
* checking dependencies in R code ... OK
* checking S3 generic/method consistency ... OK
* checking replacement functions ... OK
* checking foreign function calls ... OK
* checking R code for possible problems ... OK
* checking Rd files ... OK
* checking Rd metadata ... OK
* checking Rd cross-references ... OK
* checking for missing documentation entries ... OK
* checking for code/documentation mismatches ... OK
* checking Rd \usage sections ... OK
* checking Rd contents ... OK
* checking for unstated dependencies in examples ... OK
* checking contents of ‘data’ directory ... OK
* checking data for non-ASCII characters ... OK
* checking data for ASCII and uncompressed saves ... OK
* checking line endings in C/C++/Fortran sources/headers ... OK
* checking compiled code ... NOTE
Note: information on .o files is not available
* checking files in ‘vignettes’ ... OK
* checking examples ... OK
Examples with CPU or elapsed time > 5s
user system elapsed
get_GOterm2GeneAssos 45.187 7.770 53.410
FunSim 20.079 1.735 21.956
plot_net 16.749 0.137 17.027
plot_heatmap 16.248 0.153 16.530
PSB 15.793 0.316 16.237
HypergeometricTest 14.673 0.072 14.872
x2y_conv2_y2x 7.795 0.039 7.903
BOG 5.272 0.018 5.334
* checking for unstated dependencies in vignettes ... OK
* checking package vignettes in ‘inst/doc’ ... OK
* checking running R code from vignettes ... SKIPPED
* checking re-building of vignette outputs ... SKIPPED
* checking PDF version of manual ... OK
* DONE
Status: 1 NOTE
See
‘/Users/biocbuild/bbs-3.8-bioc/meat/dSimer.Rcheck/00check.log’
for details.
dSimer.Rcheck/00install.out
############################################################################## ############################################################################## ### ### Running command: ### ### /Library/Frameworks/R.framework/Versions/Current/Resources/bin/R CMD INSTALL dSimer ### ############################################################################## ############################################################################## * installing to library ‘/Library/Frameworks/R.framework/Versions/3.5/Resources/library’ * installing *source* package ‘dSimer’ ... ** libs clang++ -I"/Library/Frameworks/R.framework/Resources/include" -DNDEBUG -I"/Library/Frameworks/R.framework/Versions/3.5/Resources/library/Rcpp/include" -I/usr/local/include -fPIC -Wall -g -O2 -c BOG.cpp -o BOG.o clang++ -I"/Library/Frameworks/R.framework/Resources/include" -DNDEBUG -I"/Library/Frameworks/R.framework/Versions/3.5/Resources/library/Rcpp/include" -I/usr/local/include -fPIC -Wall -g -O2 -c GO2GeneAssos.cpp -o GO2GeneAssos.o clang++ -I"/Library/Frameworks/R.framework/Resources/include" -DNDEBUG -I"/Library/Frameworks/R.framework/Versions/3.5/Resources/library/Rcpp/include" -I/usr/local/include -fPIC -Wall -g -O2 -c ICod.cpp -o ICod.o clang++ -I"/Library/Frameworks/R.framework/Resources/include" -DNDEBUG -I"/Library/Frameworks/R.framework/Versions/3.5/Resources/library/Rcpp/include" -I/usr/local/include -fPIC -Wall -g -O2 -c PSB.cpp -o PSB.o clang -I"/Library/Frameworks/R.framework/Resources/include" -DNDEBUG -I"/Library/Frameworks/R.framework/Versions/3.5/Resources/library/Rcpp/include" -I/usr/local/include -fPIC -Wall -g -O2 -c R_dSimer_init.c -o R_dSimer_init.o clang++ -I"/Library/Frameworks/R.framework/Resources/include" -DNDEBUG -I"/Library/Frameworks/R.framework/Versions/3.5/Resources/library/Rcpp/include" -I/usr/local/include -fPIC -Wall -g -O2 -c RcppExports.cpp -o RcppExports.o clang++ -I"/Library/Frameworks/R.framework/Resources/include" -DNDEBUG -I"/Library/Frameworks/R.framework/Versions/3.5/Resources/library/Rcpp/include" -I/usr/local/include -fPIC -Wall -g -O2 -c Sun.cpp -o Sun.o clang++ -dynamiclib -Wl,-headerpad_max_install_names -undefined dynamic_lookup -single_module -multiply_defined suppress -L/Library/Frameworks/R.framework/Resources/lib -L/usr/local/lib -o dSimer.so BOG.o GO2GeneAssos.o ICod.o PSB.o R_dSimer_init.o RcppExports.o Sun.o -F/Library/Frameworks/R.framework/.. -framework R -Wl,-framework -Wl,CoreFoundation installing to /Library/Frameworks/R.framework/Versions/3.5/Resources/library/dSimer/libs ** R ** data ** inst ** byte-compile and prepare package for lazy loading ** help *** installing help indices ** building package indices ** installing vignettes ** testing if installed package can be loaded * DONE (dSimer)
dSimer.Rcheck/dSimer-Ex.timings
| name | user | system | elapsed | |
| BOG | 5.272 | 0.018 | 5.334 | |
| CosineDFV | 0.318 | 0.051 | 0.372 | |
| FunSim | 20.079 | 1.735 | 21.956 | |
| HumanNet_sample | 0.025 | 0.003 | 0.027 | |
| HypergeometricTest | 14.673 | 0.072 | 14.872 | |
| ICod | 1.117 | 0.024 | 1.147 | |
| InformationContent | 0.069 | 0.001 | 0.070 | |
| LLSn2List | 0.092 | 0.007 | 0.101 | |
| Normalize | 0 | 0 | 0 | |
| PPI_HPRD | 0.159 | 0.002 | 0.161 | |
| PSB | 15.793 | 0.316 | 16.237 | |
| Separation | 3.562 | 0.042 | 3.629 | |
| Separation2Similarity | 0.000 | 0.000 | 0.001 | |
| Sun_annotation | 0.056 | 0.002 | 0.058 | |
| Sun_function | 0.002 | 0.000 | 0.003 | |
| Sun_topology | 0.215 | 0.016 | 0.233 | |
| d2g_fundo_entrezid | 0.050 | 0.002 | 0.051 | |
| d2g_fundo_symbol | 0.088 | 0.002 | 0.091 | |
| d2g_separation | 0.075 | 0.002 | 0.078 | |
| d2go_sample | 0.002 | 0.001 | 0.003 | |
| d2s_hsdn | 0.136 | 0.005 | 0.143 | |
| d2s_hsdn_sample | 0.005 | 0.001 | 0.006 | |
| get_GOterm2GeneAssos | 45.187 | 7.770 | 53.410 | |
| go2g_sample | 0.113 | 0.004 | 0.118 | |
| graphlet_sig_hprd | 0.106 | 0.011 | 0.120 | |
| interactome | 0.619 | 0.005 | 0.630 | |
| jaccardindex | 0.002 | 0.000 | 0.003 | |
| orbit_dependency_count | 0.001 | 0.000 | 0.001 | |
| plot_bipartite | 0.195 | 0.002 | 0.199 | |
| plot_heatmap | 16.248 | 0.153 | 16.530 | |
| plot_net | 16.749 | 0.137 | 17.027 | |
| plot_topo | 0.283 | 0.010 | 0.294 | |
| setWeight | 0.002 | 0.001 | 0.003 | |
| weight | 0.001 | 0.000 | 0.002 | |
| x2y_conv2_y2x | 7.795 | 0.039 | 7.903 | |
| x2y_df2list | 0.005 | 0.000 | 0.004 | |