| Back to Multiple platform build/check report for BioC 3.8 |
|
This page was generated on 2019-04-13 11:28:10 -0400 (Sat, 13 Apr 2019).
| Package 363/1649 | Hostname | OS / Arch | INSTALL | BUILD | CHECK | BUILD BIN | ||||||
| cytolib 1.4.1 Mike Jiang
| malbec1 | Linux (Ubuntu 16.04.6 LTS) / x86_64 | OK | OK | OK | |||||||
| tokay1 | Windows Server 2012 R2 Standard / x64 | [ OK ] | OK | OK | OK | |||||||
| merida1 | OS X 10.11.6 El Capitan / x86_64 | OK | OK | OK | OK |
| Package: cytolib |
| Version: 1.4.1 |
| Command: C:\cygwin\bin\curl.exe -O https://malbec1.bioconductor.org/BBS/3.8/bioc/src/contrib/cytolib_1.4.1.tar.gz && rm -rf cytolib.buildbin-libdir && mkdir cytolib.buildbin-libdir && C:\Users\biocbuild\bbs-3.8-bioc\R\bin\R.exe CMD INSTALL --merge-multiarch --build --library=cytolib.buildbin-libdir cytolib_1.4.1.tar.gz && C:\Users\biocbuild\bbs-3.8-bioc\R\bin\R.exe CMD INSTALL cytolib_1.4.1.zip && rm cytolib_1.4.1.tar.gz cytolib_1.4.1.zip |
| StartedAt: 2019-04-12 18:39:07 -0400 (Fri, 12 Apr 2019) |
| EndedAt: 2019-04-12 18:39:21 -0400 (Fri, 12 Apr 2019) |
| EllapsedTime: 14.1 seconds |
| RetCode: 0 |
| Status: OK |
##############################################################################
##############################################################################
###
### Running command:
###
### C:\cygwin\bin\curl.exe -O https://malbec1.bioconductor.org/BBS/3.8/bioc/src/contrib/cytolib_1.4.1.tar.gz && rm -rf cytolib.buildbin-libdir && mkdir cytolib.buildbin-libdir && C:\Users\biocbuild\bbs-3.8-bioc\R\bin\R.exe CMD INSTALL --merge-multiarch --build --library=cytolib.buildbin-libdir cytolib_1.4.1.tar.gz && C:\Users\biocbuild\bbs-3.8-bioc\R\bin\R.exe CMD INSTALL cytolib_1.4.1.zip && rm cytolib_1.4.1.tar.gz cytolib_1.4.1.zip
###
##############################################################################
##############################################################################
% Total % Received % Xferd Average Speed Time Time Time Current
Dload Upload Total Spent Left Speed
0 0 0 0 0 0 0 0 --:--:-- --:--:-- --:--:-- 0
100 43520 100 43520 0 0 807k 0 --:--:-- --:--:-- --:--:-- 867k
install for i386
* installing *source* package 'cytolib' ...
** inst
** help
No man pages found in package 'cytolib'
*** installing help indices
** building package indices
** installing vignettes
** testing if installed package can be loaded
In R CMD INSTALL
install for x64
* installing *source* package 'cytolib' ...
** testing if installed package can be loaded
* MD5 sums
packaged installation of 'cytolib' as cytolib_1.4.1.zip
* DONE (cytolib)
In R CMD INSTALL
In R CMD INSTALL
* installing to library 'C:/Users/biocbuild/bbs-3.8-bioc/R/library'
package 'cytolib' successfully unpacked and MD5 sums checked
In R CMD INSTALL