| Back to Multiple platform build/check report for BioC 3.8 |
|
This page was generated on 2018-06-25 10:07:31 -0400 (Mon, 25 Jun 2018).
| Package 338/1570 | Hostname | OS / Arch | INSTALL | BUILD | CHECK | BUILD BIN | ||||||
| cytofkit 1.13.0 Jinmiao Chen
| malbec1 | Linux (Ubuntu 16.04.1 LTS) / x86_64 | OK | OK | [ OK ] | |||||||
| tokay1 | Windows Server 2012 R2 Standard / x64 | OK | OK | OK | OK | |||||||
| merida1 | OS X 10.11.6 El Capitan / x86_64 | OK | OK | OK | OK |
| Package: cytofkit |
| Version: 1.13.0 |
| Command: /home/biocbuild/bbs-3.8-bioc/R/bin/R CMD check --install=check:cytofkit.install-out.txt --library=/home/biocbuild/bbs-3.8-bioc/R/library --no-vignettes --timings cytofkit_1.13.0.tar.gz |
| StartedAt: 2018-06-24 23:32:32 -0400 (Sun, 24 Jun 2018) |
| EndedAt: 2018-06-24 23:35:49 -0400 (Sun, 24 Jun 2018) |
| EllapsedTime: 196.8 seconds |
| RetCode: 0 |
| Status: OK |
| CheckDir: cytofkit.Rcheck |
| Warnings: 0 |
##############################################################################
##############################################################################
###
### Running command:
###
### /home/biocbuild/bbs-3.8-bioc/R/bin/R CMD check --install=check:cytofkit.install-out.txt --library=/home/biocbuild/bbs-3.8-bioc/R/library --no-vignettes --timings cytofkit_1.13.0.tar.gz
###
##############################################################################
##############################################################################
* using log directory ‘/home/biocbuild/bbs-3.8-bioc/meat/cytofkit.Rcheck’
* using R version 3.5.0 Patched (2018-05-03 r74699)
* using platform: x86_64-pc-linux-gnu (64-bit)
* using session charset: UTF-8
* using option ‘--no-vignettes’
* checking for file ‘cytofkit/DESCRIPTION’ ... OK
* checking extension type ... Package
* this is package ‘cytofkit’ version ‘1.13.0’
* checking package namespace information ... OK
* checking package dependencies ... OK
* checking if this is a source package ... OK
* checking if there is a namespace ... OK
* checking for hidden files and directories ... OK
* checking for portable file names ... OK
* checking for sufficient/correct file permissions ... OK
* checking whether package ‘cytofkit’ can be installed ... OK
* checking installed package size ... OK
* checking package directory ... OK
* checking ‘build’ directory ... OK
* checking DESCRIPTION meta-information ... OK
* checking top-level files ... OK
* checking for left-over files ... OK
* checking index information ... OK
* checking package subdirectories ... OK
* checking R files for non-ASCII characters ... OK
* checking R files for syntax errors ... OK
* checking whether the package can be loaded ... OK
* checking whether the package can be loaded with stated dependencies ... OK
* checking whether the package can be unloaded cleanly ... OK
* checking whether the namespace can be loaded with stated dependencies ... OK
* checking whether the namespace can be unloaded cleanly ... OK
* checking dependencies in R code ... OK
* checking S3 generic/method consistency ... OK
* checking replacement functions ... OK
* checking foreign function calls ... OK
* checking R code for possible problems ... NOTE
cytof_clusterPlot: no visible global function definition for
‘geom_text’
cytof_progressionPlot: no visible global function definition for ‘aes’
cytof_progressionPlot: no visible binding for global variable
‘Pseudotime’
cytof_progressionPlot: no visible binding for global variable ‘cluster’
cytofkitShinyAPP : <anonymous> : C_ScatterPlotInput: no visible global
function definition for ‘scatterPlot’
cytofkitShinyAPP : <anonymous>: no visible global function definition
for ‘heatMap’
cytofkitShinyAPP : <anonymous> : M_markerExpressionPlotInput: no
visible global function definition for ‘scatterPlot’
cytofkitShinyAPP : <anonymous> : M_stackDensityPlotInput: no visible
global function definition for ‘stackDenistyPlot’
cytofkitShinyAPP : <anonymous> : P_markerPlotInput: no visible global
function definition for ‘cytof_expressionTrends’
Undefined global functions or variables:
Pseudotime aes cluster cytof_expressionTrends geom_text heatMap
scatterPlot stackDenistyPlot
* checking Rd files ... OK
* checking Rd metadata ... OK
* checking Rd cross-references ... OK
* checking for missing documentation entries ... OK
* checking for code/documentation mismatches ... OK
* checking Rd \usage sections ... OK
* checking Rd contents ... OK
* checking for unstated dependencies in examples ... OK
* checking line endings in C/C++/Fortran sources/headers ... OK
* checking compiled code ... NOTE
Note: information on .o files is not available
* checking files in ‘vignettes’ ... OK
* checking examples ... OK
Examples with CPU or elapsed time > 5s
user system elapsed
cytof_progression 10.448 0.144 10.59
* checking for unstated dependencies in ‘tests’ ... OK
* checking tests ...
Running ‘runTests.R’
OK
* checking for unstated dependencies in vignettes ... OK
* checking package vignettes in ‘inst/doc’ ... OK
* checking running R code from vignettes ... SKIPPED
* checking re-building of vignette outputs ... SKIPPED
* checking PDF version of manual ... OK
* DONE
Status: 2 NOTEs
See
‘/home/biocbuild/bbs-3.8-bioc/meat/cytofkit.Rcheck/00check.log’
for details.
cytofkit.Rcheck/00install.out
############################################################################## ############################################################################## ### ### Running command: ### ### /home/biocbuild/bbs-3.8-bioc/R/bin/R CMD INSTALL cytofkit ### ############################################################################## ############################################################################## * installing to library ‘/home/biocbuild/bbs-3.8-bioc/R/library’ * installing *source* package ‘cytofkit’ ... ** libs g++ -I"/home/biocbuild/bbs-3.8-bioc/R/include" -DNDEBUG -I"/home/biocbuild/bbs-3.8-bioc/R/library/Rcpp/include" -I/usr/local/include -fpic -g -O2 -Wall -c RcppExports.cpp -o RcppExports.o g++ -I"/home/biocbuild/bbs-3.8-bioc/R/include" -DNDEBUG -I"/home/biocbuild/bbs-3.8-bioc/R/library/Rcpp/include" -I/usr/local/include -fpic -g -O2 -Wall -c jaccard_coeff.cpp -o jaccard_coeff.o g++ -shared -L/home/biocbuild/bbs-3.8-bioc/R/lib -L/usr/local/lib -o cytofkit.so RcppExports.o jaccard_coeff.o -L/home/biocbuild/bbs-3.8-bioc/R/lib -lR installing to /home/biocbuild/bbs-3.8-bioc/R/library/cytofkit/libs ** R ** inst ** byte-compile and prepare package for lazy loading ** help *** installing help indices ** building package indices ** installing vignettes ** testing if installed package can be loaded * DONE (cytofkit)
cytofkit.Rcheck/tests/runTests.Rout
R version 3.5.0 Patched (2018-05-03 r74699) -- "Joy in Playing"
Copyright (C) 2018 The R Foundation for Statistical Computing
Platform: x86_64-pc-linux-gnu (64-bit)
R is free software and comes with ABSOLUTELY NO WARRANTY.
You are welcome to redistribute it under certain conditions.
Type 'license()' or 'licence()' for distribution details.
R is a collaborative project with many contributors.
Type 'contributors()' for more information and
'citation()' on how to cite R or R packages in publications.
Type 'demo()' for some demos, 'help()' for on-line help, or
'help.start()' for an HTML browser interface to help.
Type 'q()' to quit R.
> BiocGenerics:::testPackage("cytofkit")
Running t-SNE...with seed 42 DONE
RUNIT TEST PROTOCOL -- Sun Jun 24 23:35:46 2018
***********************************************
Number of test functions: 1
Number of errors: 0
Number of failures: 0
1 Test Suite :
cytofkit RUnit Tests - 1 test function, 0 errors, 0 failures
Number of test functions: 1
Number of errors: 0
Number of failures: 0
>
> proc.time()
user system elapsed
8.656 0.392 9.065
cytofkit.Rcheck/cytofkit-Ex.timings
| name | user | system | elapsed | |
| ClusterX | 0.02 | 0.00 | 0.02 | |
| DensVM | 2.416 | 0.048 | 2.490 | |
| Rphenograph | 2.184 | 0.000 | 2.187 | |
| cytof_cluster | 1.268 | 0.032 | 1.382 | |
| cytof_clusterMtrx | 0.008 | 0.000 | 0.023 | |
| cytof_clusterPlot | 0.684 | 0.036 | 0.717 | |
| cytof_clusterStat | 0.008 | 0.000 | 0.009 | |
| cytof_colorPlot | 0.204 | 0.028 | 0.229 | |
| cytof_dimReduction | 1.132 | 0.000 | 1.167 | |
| cytof_exprsExtract | 0.596 | 0.024 | 0.618 | |
| cytof_exprsMerge | 1.160 | 0.004 | 1.162 | |
| cytof_heatmap | 0.04 | 0.00 | 0.04 | |
| cytof_progression | 10.448 | 0.144 | 10.590 | |
| cytof_progressionPlot | 1.568 | 0.120 | 1.680 | |
| cytof_writeResults | 0.000 | 0.000 | 0.001 | |
| cytofkit-package | 0.000 | 0.004 | 0.001 | |
| cytofkit | 0.000 | 0.000 | 0.001 | |
| cytofkitShinyAPP | 0.004 | 0.000 | 0.001 | |
| cytofkit_GUI | 0 | 0 | 0 | |
| fixedLogicleParameters_GUI | 0.000 | 0.000 | 0.001 | |
| getParameters_GUI | 0.000 | 0.000 | 0.001 | |
| launchShinyAPP_GUI | 0.000 | 0.000 | 0.001 | |
| spectral1 | 0.000 | 0.000 | 0.001 | |
| spectral2 | 0.004 | 0.000 | 0.001 | |