| Back to Multiple platform build/check report for BioC 3.8 |
|
This page was generated on 2019-04-16 11:51:51 -0400 (Tue, 16 Apr 2019).
| Package 322/1649 | Hostname | OS / Arch | INSTALL | BUILD | CHECK | BUILD BIN | ||||||
| contiBAIT 1.10.1 Kieran O'Neill
| malbec1 | Linux (Ubuntu 16.04.6 LTS) / x86_64 | OK | OK | [ OK ] | |||||||
| merida1 | OS X 10.11.6 El Capitan / x86_64 | OK | OK | OK | OK |
| Package: contiBAIT |
| Version: 1.10.1 |
| Command: /home/biocbuild/bbs-3.8-bioc/R/bin/R CMD check --install=check:contiBAIT.install-out.txt --library=/home/biocbuild/bbs-3.8-bioc/R/library --no-vignettes --timings contiBAIT_1.10.1.tar.gz |
| StartedAt: 2019-04-15 23:09:09 -0400 (Mon, 15 Apr 2019) |
| EndedAt: 2019-04-15 23:14:09 -0400 (Mon, 15 Apr 2019) |
| EllapsedTime: 299.7 seconds |
| RetCode: 0 |
| Status: OK |
| CheckDir: contiBAIT.Rcheck |
| Warnings: 0 |
##############################################################################
##############################################################################
###
### Running command:
###
### /home/biocbuild/bbs-3.8-bioc/R/bin/R CMD check --install=check:contiBAIT.install-out.txt --library=/home/biocbuild/bbs-3.8-bioc/R/library --no-vignettes --timings contiBAIT_1.10.1.tar.gz
###
##############################################################################
##############################################################################
* using log directory ‘/home/biocbuild/bbs-3.8-bioc/meat/contiBAIT.Rcheck’
* using R version 3.5.3 (2019-03-11)
* using platform: x86_64-pc-linux-gnu (64-bit)
* using session charset: UTF-8
* using option ‘--no-vignettes’
* checking for file ‘contiBAIT/DESCRIPTION’ ... OK
* checking extension type ... Package
* this is package ‘contiBAIT’ version ‘1.10.1’
* checking package namespace information ... OK
* checking package dependencies ... OK
* checking if this is a source package ... OK
* checking if there is a namespace ... OK
* checking for hidden files and directories ... OK
* checking for portable file names ... OK
* checking for sufficient/correct file permissions ... OK
* checking whether package ‘contiBAIT’ can be installed ... OK
* checking installed package size ... NOTE
installed size is 5.6Mb
sub-directories of 1Mb or more:
extdata 3.4Mb
libs 1.1Mb
* checking package directory ... OK
* checking ‘build’ directory ... OK
* checking DESCRIPTION meta-information ... OK
* checking top-level files ... OK
* checking for left-over files ... OK
* checking index information ... OK
* checking package subdirectories ... OK
* checking R files for non-ASCII characters ... OK
* checking R files for syntax errors ... OK
* checking whether the package can be loaded ... OK
* checking whether the package can be loaded with stated dependencies ... OK
* checking whether the package can be unloaded cleanly ... OK
* checking whether the namespace can be loaded with stated dependencies ... OK
* checking whether the namespace can be unloaded cleanly ... OK
* checking dependencies in R code ... OK
* checking S3 generic/method consistency ... OK
* checking replacement functions ... OK
* checking foreign function calls ... OK
* checking R code for possible problems ... NOTE
ideogramPlot.func: no visible binding for global variable ‘w’
ideogramPlot.func: no visible binding for global variable ‘w2’
makeChrTable: no visible global function definition for ‘queryHits’
makeChrTable: no visible global function definition for ‘subjectHits’
orderContigsGreedy: no visible global function definition for
‘makeCluster’
orderContigsGreedy: no visible global function definition for
‘clusterCall’
orderContigsGreedy: no visible global function definition for
‘stopCluster’
strandSeqFreqTable: no visible global function definition for
‘queryHits’
strandSeqFreqTable: no visible global function definition for
‘subjectHits’
ideogramPlot,StrandReadMatrix-StrandReadMatrix-ChrTable: no visible
binding for global variable ‘w’
ideogramPlot,StrandReadMatrix-StrandReadMatrix-ChrTable: no visible
binding for global variable ‘w2’
Undefined global functions or variables:
clusterCall makeCluster queryHits stopCluster subjectHits w w2
* checking Rd files ... OK
* checking Rd metadata ... OK
* checking Rd cross-references ... OK
* checking for missing documentation entries ... OK
* checking for code/documentation mismatches ... OK
* checking Rd \usage sections ... OK
* checking Rd contents ... OK
* checking for unstated dependencies in examples ... OK
* checking contents of ‘data’ directory ... OK
* checking data for non-ASCII characters ... OK
* checking data for ASCII and uncompressed saves ... OK
* checking line endings in C/C++/Fortran sources/headers ... OK
* checking line endings in Makefiles ... OK
* checking compilation flags in Makevars ... OK
* checking for GNU extensions in Makefiles ... OK
* checking for portable use of $(BLAS_LIBS) and $(LAPACK_LIBS) ... OK
* checking compiled code ... NOTE
Note: information on .o files is not available
* checking files in ‘vignettes’ ... OK
* checking examples ... OK
Examples with CPU or elapsed time > 5s
user system elapsed
contiBAIT 5.664 0.152 6.089
* checking for unstated dependencies in vignettes ... OK
* checking package vignettes in ‘inst/doc’ ... OK
* checking running R code from vignettes ... SKIPPED
* checking re-building of vignette outputs ... SKIPPED
* checking PDF version of manual ... OK
* DONE
Status: 3 NOTEs
See
‘/home/biocbuild/bbs-3.8-bioc/meat/contiBAIT.Rcheck/00check.log’
for details.
contiBAIT.Rcheck/00install.out
############################################################################## ############################################################################## ### ### Running command: ### ### /home/biocbuild/bbs-3.8-bioc/R/bin/R CMD INSTALL contiBAIT ### ############################################################################## ############################################################################## * installing to library ‘/home/biocbuild/bbs-3.8-bioc/R/library’ * installing *source* package ‘contiBAIT’ ... ** libs g++ -I"/home/biocbuild/bbs-3.8-bioc/R/include" -DNDEBUG -I"/home/biocbuild/bbs-3.8-bioc/R/library/Rcpp/include" -I"/home/biocbuild/bbs-3.8-bioc/R/library/BH/include" -I/usr/local/include -fpic -g -O2 -Wall -c buildLinkageGroups.cpp -o buildLinkageGroups.o g++ -I"/home/biocbuild/bbs-3.8-bioc/R/include" -DNDEBUG -I"/home/biocbuild/bbs-3.8-bioc/R/library/Rcpp/include" -I"/home/biocbuild/bbs-3.8-bioc/R/library/BH/include" -I/usr/local/include -fpic -g -O2 -Wall -c computeSim.cpp -o computeSim.o g++ -I"/home/biocbuild/bbs-3.8-bioc/R/include" -DNDEBUG -I"/home/biocbuild/bbs-3.8-bioc/R/library/Rcpp/include" -I"/home/biocbuild/bbs-3.8-bioc/R/library/BH/include" -I/usr/local/include -fpic -g -O2 -Wall -c orderContigsGreedy.cpp -o orderContigsGreedy.o g++ -shared -L/home/biocbuild/bbs-3.8-bioc/R/lib -L/usr/local/lib -o contiBAIT.so buildLinkageGroups.o computeSim.o orderContigsGreedy.o -lm -L/home/biocbuild/bbs-3.8-bioc/R/lib -lR installing to /home/biocbuild/bbs-3.8-bioc/R/library/contiBAIT/libs ** R ** data ** inst ** byte-compile and prepare package for lazy loading ** help *** installing help indices ** building package indices ** installing vignettes ** testing if installed package can be loaded * DONE (contiBAIT)
contiBAIT.Rcheck/contiBAIT-Ex.timings
| name | user | system | elapsed | |
| BAIT | 0 | 0 | 0 | |
| ContigOrdering | 0.000 | 0.000 | 0.001 | |
| LibraryGroupList | 0.008 | 0.000 | 0.009 | |
| LinkageGroupList | 0.000 | 0.000 | 0.001 | |
| StrandFreqMatrix | 0.028 | 0.004 | 0.032 | |
| StrandReadMatrix | 0.008 | 0.004 | 0.011 | |
| StrandStateMatrix | 0.004 | 0.000 | 0.002 | |
| barplotLinkageGroupCalls-LinkageGroupList-ChrTable-method | 0.404 | 0.000 | 0.403 | |
| clusterContigs-StrandStateMatrix-method | 0.016 | 0.000 | 0.017 | |
| contiBAIT | 5.664 | 0.152 | 6.089 | |
| findSimilarLibraries | 0.376 | 0.268 | 0.709 | |
| ideogramPlot-StrandReadMatrix-StrandReadMatrix-ChrTable-method | 2.620 | 0.088 | 2.711 | |
| makeBoxPlot | 0.036 | 0.000 | 0.036 | |
| makeChrTable | 1.612 | 0.108 | 1.722 | |
| orderAllLinkageGroups | 1.396 | 0.016 | 1.412 | |
| plotContigOrder | 0.344 | 0.004 | 0.350 | |
| plotLGDistances-LinkageGroupList-StrandStateMatrix-method | 0.1 | 0.0 | 0.1 | |
| plotWCdistribution-StrandFreqMatrix-method | 0.052 | 0.000 | 0.052 | |
| preprocessStrandTable-StrandFreqMatrix-method | 0.172 | 0.000 | 0.171 | |
| reorientAndMergeLGs | 0.088 | 0.000 | 0.089 | |
| strandSeqFreqTable | 3.712 | 0.008 | 3.725 | |
| thoroughBed | 0.044 | 0.000 | 0.042 | |
| writeBed | 0 | 0 | 0 | |