| Back to Multiple platform build/check report for BioC 3.8 |
|
This page was generated on 2019-04-13 11:29:33 -0400 (Sat, 13 Apr 2019).
| Package 328/1649 | Hostname | OS / Arch | INSTALL | BUILD | CHECK | BUILD BIN | ||||||
| coRdon 1.0.3 Anamaria Elek
| malbec1 | Linux (Ubuntu 16.04.6 LTS) / x86_64 | OK | OK | OK | |||||||
| tokay1 | Windows Server 2012 R2 Standard / x64 | OK | OK | OK | [ OK ] | |||||||
| merida1 | OS X 10.11.6 El Capitan / x86_64 | OK | OK | OK | OK |
| Package: coRdon |
| Version: 1.0.3 |
| Command: rm -rf coRdon.buildbin-libdir && mkdir coRdon.buildbin-libdir && C:\Users\biocbuild\bbs-3.8-bioc\R\bin\R.exe CMD INSTALL --merge-multiarch --build --library=coRdon.buildbin-libdir coRdon_1.0.3.tar.gz |
| StartedAt: 2019-04-13 07:07:20 -0400 (Sat, 13 Apr 2019) |
| EndedAt: 2019-04-13 07:07:41 -0400 (Sat, 13 Apr 2019) |
| EllapsedTime: 21.5 seconds |
| RetCode: 0 |
| Status: OK |
| PackageFile: coRdon_1.0.3.zip |
| PackageFileSize: 1.298 MiB |
##############################################################################
##############################################################################
###
### Running command:
###
### rm -rf coRdon.buildbin-libdir && mkdir coRdon.buildbin-libdir && C:\Users\biocbuild\bbs-3.8-bioc\R\bin\R.exe CMD INSTALL --merge-multiarch --build --library=coRdon.buildbin-libdir coRdon_1.0.3.tar.gz
###
##############################################################################
##############################################################################
install for i386
* installing *source* package 'coRdon' ...
** R
** data
*** moving datasets to lazyload DB
** inst
** byte-compile and prepare package for lazy loading
** help
*** installing help indices
converting help for package 'coRdon'
finding HTML links ... done
HD59 html
HD59_KO html
HD59_PATHWAYS html
LD94 html
LD94_KO html
LD94_PATHWAYS html
RPKOs html
bplot html
coRdon html
codonTable-class html
codonUsage-expressivity html
codonUsage html
crossTab-class html
enrichBarplot html
enrichMAplot html
enrichMatrix html
enrichment html
genCode-class html
intraBplot html
length-codonTable html
length-crossTab html
readSet html
reduceCrossTab html
show-codonTable html
show-crossTab html
subset html
** building package indices
** installing vignettes
** testing if installed package can be loaded
In R CMD INSTALL
install for x64
* installing *source* package 'coRdon' ...
** testing if installed package can be loaded
* MD5 sums
packaged installation of 'coRdon' as coRdon_1.0.3.zip
* DONE (coRdon)
In R CMD INSTALL
In R CMD INSTALL