| Back to Multiple platform build/check report for BioC 3.8 |
|
This page was generated on 2019-04-16 11:58:15 -0400 (Tue, 16 Apr 2019).
| Package 308/1649 | Hostname | OS / Arch | INSTALL | BUILD | CHECK | BUILD BIN | ||||||
| coMET 1.14.0 Tiphaine Martin
| malbec1 | Linux (Ubuntu 16.04.6 LTS) / x86_64 | OK | OK | OK | |||||||
| merida1 | OS X 10.11.6 El Capitan / x86_64 | OK | OK | OK | [ OK ] |
| Package: coMET |
| Version: 1.14.0 |
| Command: rm -rf coMET.buildbin-libdir && mkdir coMET.buildbin-libdir && /Users/biocbuild/BBS/utils/build-universal.sh coMET_1.14.0.tar.gz /Library/Frameworks/R.framework/Versions/Current/Resources/bin/R coMET.buildbin-libdir |
| StartedAt: 2019-04-16 03:52:42 -0400 (Tue, 16 Apr 2019) |
| EndedAt: 2019-04-16 03:53:23 -0400 (Tue, 16 Apr 2019) |
| EllapsedTime: 41.1 seconds |
| RetCode: 0 |
| Status: OK |
| PackageFile: coMET_1.14.0.tgz |
| PackageFileSize: 16.68 MiB |
############################################################################## ############################################################################## ### ### Running command: ### ### rm -rf coMET.buildbin-libdir && mkdir coMET.buildbin-libdir && /Users/biocbuild/BBS/utils/build-universal.sh coMET_1.14.0.tar.gz /Library/Frameworks/R.framework/Versions/Current/Resources/bin/R coMET.buildbin-libdir ### ############################################################################## ############################################################################## >>>>>>> >>>>>>> INSTALLATION WITH 'R CMD INSTALL --preclean --no-multiarch --library=coMET.buildbin-libdir coMET_1.14.0.tar.gz' >>>>>>> * installing *source* package ‘coMET’ ... ** R ** data ** inst ** byte-compile and prepare package for lazy loading ** help *** installing help indices ** building package indices ** installing vignettes ** testing if installed package can be loaded * DONE (coMET)