| Back to Multiple platform build/check report for BioC 3.8 |
|
This page was generated on 2019-04-13 11:22:36 -0400 (Sat, 13 Apr 2019).
| Package 270/1649 | Hostname | OS / Arch | INSTALL | BUILD | CHECK | BUILD BIN | ||||||
| clipper 1.22.0 Paolo Martini
| malbec1 | Linux (Ubuntu 16.04.6 LTS) / x86_64 | OK | OK | OK | |||||||
| tokay1 | Windows Server 2012 R2 Standard / x64 | OK | OK | [ OK ] | OK | |||||||
| merida1 | OS X 10.11.6 El Capitan / x86_64 | OK | OK | OK | OK |
| Package: clipper |
| Version: 1.22.0 |
| Command: C:\Users\biocbuild\bbs-3.8-bioc\R\bin\R.exe CMD check --force-multiarch --install=check:clipper.install-out.txt --library=C:\Users\biocbuild\bbs-3.8-bioc\R\library --no-vignettes --timings clipper_1.22.0.tar.gz |
| StartedAt: 2019-04-13 01:15:33 -0400 (Sat, 13 Apr 2019) |
| EndedAt: 2019-04-13 01:34:59 -0400 (Sat, 13 Apr 2019) |
| EllapsedTime: 1166.5 seconds |
| RetCode: 0 |
| Status: OK |
| CheckDir: clipper.Rcheck |
| Warnings: 0 |
##############################################################################
##############################################################################
###
### Running command:
###
### C:\Users\biocbuild\bbs-3.8-bioc\R\bin\R.exe CMD check --force-multiarch --install=check:clipper.install-out.txt --library=C:\Users\biocbuild\bbs-3.8-bioc\R\library --no-vignettes --timings clipper_1.22.0.tar.gz
###
##############################################################################
##############################################################################
* using log directory 'C:/Users/biocbuild/bbs-3.8-bioc/meat/clipper.Rcheck'
* using R version 3.5.3 (2019-03-11)
* using platform: x86_64-w64-mingw32 (64-bit)
* using session charset: ISO8859-1
* using option '--no-vignettes'
* checking for file 'clipper/DESCRIPTION' ... OK
* this is package 'clipper' version '1.22.0'
* checking package namespace information ... OK
* checking package dependencies ...Warning: unable to access index for repository https://CRAN.R-project.org/src/contrib:
cannot open URL 'https://CRAN.R-project.org/src/contrib/PACKAGES'
OK
* checking if this is a source package ... OK
* checking if there is a namespace ... OK
* checking for hidden files and directories ... OK
* checking for portable file names ... OK
* checking whether package 'clipper' can be installed ... OK
* checking installed package size ... OK
* checking package directory ... OK
* checking 'build' directory ... OK
* checking DESCRIPTION meta-information ... OK
* checking top-level files ... OK
* checking for left-over files ... OK
* checking index information ... OK
* checking package subdirectories ... OK
* checking R files for non-ASCII characters ... OK
* checking R files for syntax errors ... OK
* loading checks for arch 'i386'
** checking whether the package can be loaded ... OK
** checking whether the package can be loaded with stated dependencies ... OK
** checking whether the package can be unloaded cleanly ... OK
** checking whether the namespace can be loaded with stated dependencies ... OK
** checking whether the namespace can be unloaded cleanly ... OK
* loading checks for arch 'x64'
** checking whether the package can be loaded ... OK
** checking whether the package can be loaded with stated dependencies ... OK
** checking whether the package can be unloaded cleanly ... OK
** checking whether the namespace can be loaded with stated dependencies ... OK
** checking whether the namespace can be unloaded cleanly ... OK
* checking dependencies in R code ... OK
* checking S3 generic/method consistency ... OK
* checking replacement functions ... OK
* checking foreign function calls ... OK
* checking R code for possible problems ... OK
* checking Rd files ... OK
* checking Rd metadata ... OK
* checking Rd cross-references ... OK
* checking for missing documentation entries ... OK
* checking for code/documentation mismatches ... OK
* checking Rd \usage sections ... OK
* checking Rd contents ... OK
* checking for unstated dependencies in examples ... OK
* checking files in 'vignettes' ... OK
* checking examples ...
** running examples for arch 'i386' ... OK
Examples with CPU or elapsed time > 5s
user system elapsed
clipper 41.22 11.25 52.47
cliqueMixedTest 40.92 0.49 41.40
easyClip 40.28 1.08 41.44
clipperAllRoots 40.06 0.03 40.09
pathwayTest 37.05 0.61 37.65
deleteEdge 35.38 0.06 35.44
cliqueMeanTest 34.48 0.70 35.19
cliquePairedTest 34.44 0.50 34.94
getJunctionTreePaths 34.36 0.40 34.76
getGraphEntryGenes 34.59 0.05 34.64
cliqueVarianceTest 33.62 0.11 33.75
** running examples for arch 'x64' ... OK
Examples with CPU or elapsed time > 5s
user system elapsed
cliquePairedTest 44.70 0.08 44.78
cliqueMixedTest 43.46 0.08 43.61
cliqueVarianceTest 40.19 0.04 40.23
easyClip 38.99 0.10 39.11
clipper 35.68 0.76 36.46
clipperAllRoots 35.82 0.07 35.89
cliqueMeanTest 35.11 0.23 35.36
getGraphEntryGenes 33.53 0.10 33.62
pathwayTest 33.25 0.06 33.33
deleteEdge 33.10 0.04 33.12
getJunctionTreePaths 27.47 0.09 27.56
* checking for unstated dependencies in 'tests' ... OK
* checking tests ...
** running tests for arch 'i386' ...
Running 'runTests.R'
OK
** running tests for arch 'x64' ...
Running 'runTests.R'
OK
* checking for unstated dependencies in vignettes ... OK
* checking package vignettes in 'inst/doc' ... OK
* checking running R code from vignettes ... SKIPPED
* checking re-building of vignette outputs ... SKIPPED
* checking PDF version of manual ... OK
* DONE
Status: OK
clipper.Rcheck/00install.out
##############################################################################
##############################################################################
###
### Running command:
###
### C:\cygwin\bin\curl.exe -O https://malbec1.bioconductor.org/BBS/3.8/bioc/src/contrib/clipper_1.22.0.tar.gz && rm -rf clipper.buildbin-libdir && mkdir clipper.buildbin-libdir && C:\Users\biocbuild\bbs-3.8-bioc\R\bin\R.exe CMD INSTALL --merge-multiarch --build --library=clipper.buildbin-libdir clipper_1.22.0.tar.gz && C:\Users\biocbuild\bbs-3.8-bioc\R\bin\R.exe CMD INSTALL clipper_1.22.0.zip && rm clipper_1.22.0.tar.gz clipper_1.22.0.zip
###
##############################################################################
##############################################################################
% Total % Received % Xferd Average Speed Time Time Time Current
Dload Upload Total Spent Left Speed
0 0 0 0 0 0 0 0 --:--:-- --:--:-- --:--:-- 0
100 418k 100 418k 0 0 10.2M 0 --:--:-- --:--:-- --:--:-- 11.3M
install for i386
* installing *source* package 'clipper' ...
** R
** inst
** byte-compile and prepare package for lazy loading
No methods found in package 'GenomicRanges' for request: 'c' when loading 'qpgraph'
** help
*** installing help indices
converting help for package 'clipper'
finding HTML links ... done
clipper html
clipperAllRoots html
cliqueMeanTest html
cliqueMixedTest html
cliquePairedTest html
cliqueVarianceTest html
deleteEdge html
easyClip html
easyLook html
getGraphEntryGenes html
getJunctionTreePaths html
nameCliques html
pathwayTest html
plotInCytoscape html
prunePaths html
** building package indices
** installing vignettes
** testing if installed package can be loaded
No methods found in package 'GenomicRanges' for request: 'c' when loading 'qpgraph'
In R CMD INSTALL
install for x64
* installing *source* package 'clipper' ...
** testing if installed package can be loaded
No methods found in package 'GenomicRanges' for request: 'c' when loading 'qpgraph'
* MD5 sums
packaged installation of 'clipper' as clipper_1.22.0.zip
* DONE (clipper)
In R CMD INSTALL
In R CMD INSTALL
* installing to library 'C:/Users/biocbuild/bbs-3.8-bioc/R/library'
package 'clipper' successfully unpacked and MD5 sums checked
In R CMD INSTALL
|
clipper.Rcheck/tests_i386/runTests.Rout
R version 3.5.3 (2019-03-11) -- "Great Truth"
Copyright (C) 2019 The R Foundation for Statistical Computing
Platform: i386-w64-mingw32/i386 (32-bit)
R is free software and comes with ABSOLUTELY NO WARRANTY.
You are welcome to redistribute it under certain conditions.
Type 'license()' or 'licence()' for distribution details.
R is a collaborative project with many contributors.
Type 'contributors()' for more information and
'citation()' on how to cite R or R packages in publications.
Type 'demo()' for some demos, 'help()' for on-line help, or
'help.start()' for an HTML browser interface to help.
Type 'q()' to quit R.
> BiocGenerics:::testPackage("clipper")
Attaching package: 'BiocGenerics'
The following objects are masked from 'package:parallel':
clusterApply, clusterApplyLB, clusterCall, clusterEvalQ,
clusterExport, clusterMap, parApply, parCapply, parLapply,
parLapplyLB, parRapply, parSapply, parSapplyLB
The following objects are masked from 'package:Matrix':
colMeans, colSums, rowMeans, rowSums, which
The following objects are masked from 'package:stats':
IQR, mad, sd, var, xtabs
The following objects are masked from 'package:base':
Filter, Find, Map, Position, Reduce, anyDuplicated, append,
as.data.frame, basename, cbind, colMeans, colSums, colnames,
dirname, do.call, duplicated, eval, evalq, get, grep, grepl,
intersect, is.unsorted, lapply, lengths, mapply, match, mget,
order, paste, pmax, pmax.int, pmin, pmin.int, rank, rbind,
rowMeans, rowSums, rownames, sapply, setdiff, sort, table, tapply,
union, unique, unsplit, which, which.max, which.min
No methods found in package 'GenomicRanges' for request: 'c' when loading 'qpgraph'
RUNIT TEST PROTOCOL -- Sat Apr 13 01:34:42 2019
***********************************************
Number of test functions: 10
Number of errors: 0
Number of failures: 0
1 Test Suite :
clipper RUnit Tests - 10 test functions, 0 errors, 0 failures
Number of test functions: 10
Number of errors: 0
Number of failures: 0
>
> pattern="^test_.*\\.R$"
>
> proc.time()
user system elapsed
9.35 0.92 10.32
|
clipper.Rcheck/tests_x64/runTests.Rout
R version 3.5.3 (2019-03-11) -- "Great Truth"
Copyright (C) 2019 The R Foundation for Statistical Computing
Platform: x86_64-w64-mingw32/x64 (64-bit)
R is free software and comes with ABSOLUTELY NO WARRANTY.
You are welcome to redistribute it under certain conditions.
Type 'license()' or 'licence()' for distribution details.
R is a collaborative project with many contributors.
Type 'contributors()' for more information and
'citation()' on how to cite R or R packages in publications.
Type 'demo()' for some demos, 'help()' for on-line help, or
'help.start()' for an HTML browser interface to help.
Type 'q()' to quit R.
> BiocGenerics:::testPackage("clipper")
Attaching package: 'BiocGenerics'
The following objects are masked from 'package:parallel':
clusterApply, clusterApplyLB, clusterCall, clusterEvalQ,
clusterExport, clusterMap, parApply, parCapply, parLapply,
parLapplyLB, parRapply, parSapply, parSapplyLB
The following objects are masked from 'package:Matrix':
colMeans, colSums, rowMeans, rowSums, which
The following objects are masked from 'package:stats':
IQR, mad, sd, var, xtabs
The following objects are masked from 'package:base':
Filter, Find, Map, Position, Reduce, anyDuplicated, append,
as.data.frame, basename, cbind, colMeans, colSums, colnames,
dirname, do.call, duplicated, eval, evalq, get, grep, grepl,
intersect, is.unsorted, lapply, lengths, mapply, match, mget,
order, paste, pmax, pmax.int, pmin, pmin.int, rank, rbind,
rowMeans, rowSums, rownames, sapply, setdiff, sort, table, tapply,
union, unique, unsplit, which, which.max, which.min
No methods found in package 'GenomicRanges' for request: 'c' when loading 'qpgraph'
RUNIT TEST PROTOCOL -- Sat Apr 13 01:34:54 2019
***********************************************
Number of test functions: 10
Number of errors: 0
Number of failures: 0
1 Test Suite :
clipper RUnit Tests - 10 test functions, 0 errors, 0 failures
Number of test functions: 10
Number of errors: 0
Number of failures: 0
>
> pattern="^test_.*\\.R$"
>
> proc.time()
user system elapsed
11.71 0.35 12.07
|
|
clipper.Rcheck/examples_i386/clipper-Ex.timings
|
clipper.Rcheck/examples_x64/clipper-Ex.timings
|