| Back to Multiple platform build/check report for BioC 3.8 |
|
This page was generated on 2019-04-13 11:21:03 -0400 (Sat, 13 Apr 2019).
| Package 269/1649 | Hostname | OS / Arch | INSTALL | BUILD | CHECK | BUILD BIN | ||||||
| clippda 1.32.0 Stephen Nyangoma
| malbec1 | Linux (Ubuntu 16.04.6 LTS) / x86_64 | OK | OK | WARNINGS | |||||||
| tokay1 | Windows Server 2012 R2 Standard / x64 | OK | OK | WARNINGS | [ OK ] | |||||||
| merida1 | OS X 10.11.6 El Capitan / x86_64 | OK | OK | WARNINGS | OK |
| Package: clippda |
| Version: 1.32.0 |
| Command: rm -rf clippda.buildbin-libdir && mkdir clippda.buildbin-libdir && C:\Users\biocbuild\bbs-3.8-bioc\R\bin\R.exe CMD INSTALL --merge-multiarch --build --library=clippda.buildbin-libdir clippda_1.32.0.tar.gz |
| StartedAt: 2019-04-13 07:03:59 -0400 (Sat, 13 Apr 2019) |
| EndedAt: 2019-04-13 07:04:26 -0400 (Sat, 13 Apr 2019) |
| EllapsedTime: 27.0 seconds |
| RetCode: 0 |
| Status: OK |
| PackageFile: clippda_1.32.0.zip |
| PackageFileSize: 1023 KiB |
##############################################################################
##############################################################################
###
### Running command:
###
### rm -rf clippda.buildbin-libdir && mkdir clippda.buildbin-libdir && C:\Users\biocbuild\bbs-3.8-bioc\R\bin\R.exe CMD INSTALL --merge-multiarch --build --library=clippda.buildbin-libdir clippda_1.32.0.tar.gz
###
##############################################################################
##############################################################################
install for i386
* installing *source* package 'clippda' ...
** R
** data
** inst
** byte-compile and prepare package for lazy loading
** help
*** installing help indices
converting help for package 'clippda'
finding HTML links ... done
ZvaluescasesVcontrolsPlots html
ZvaluesfrommultinomPlots html
aclinicalProteomicsData-class html
aclinicalProteomicsData-methods html
betweensampleVariance-methods html
betweensampleVariance html
checkNo.replicates html
clippda-package html
f html
fisherInformation-methods html
fisherInformation html
liverRawData html
liver_pheno html
liverdata html
mostSimilarTwo html
negativeIntensitiesCorrection html
phenoDataFrame html
pheno_urine html
preProcRepeatedPeakData html
proteomicsExprsData-methods html
proteomicsExprsData html
proteomicspData-methods html
proteomicspData html
replicateCorrelations-methods html
replicateCorrelations html
sampleClusteredData html
sampleSize-methods html
sampleSize html
sampleSize3DscatterPlots html
sampleSizeContourPlots html
sampleSizeParameters-methods html
sampleSizeParameters html
sample_technicalVariance-methods html
sample_technicalVariance html
show-methods html
spectrumFilter html
ztwo html
** building package indices
** installing vignettes
** testing if installed package can be loaded
In R CMD INSTALL
install for x64
* installing *source* package 'clippda' ...
** testing if installed package can be loaded
* MD5 sums
packaged installation of 'clippda' as clippda_1.32.0.zip
* DONE (clippda)
In R CMD INSTALL
In R CMD INSTALL