| Back to Multiple platform build/check report for BioC 3.8 |
|
This page was generated on 2019-04-16 11:56:57 -0400 (Tue, 16 Apr 2019).
| Package 268/1649 | Hostname | OS / Arch | INSTALL | BUILD | CHECK | BUILD BIN | ||||||
| cleaver 1.20.0 Sebastian Gibb
| malbec1 | Linux (Ubuntu 16.04.6 LTS) / x86_64 | OK | OK | OK | |||||||
| merida1 | OS X 10.11.6 El Capitan / x86_64 | OK | OK | OK | [ OK ] |
| Package: cleaver |
| Version: 1.20.0 |
| Command: rm -rf cleaver.buildbin-libdir && mkdir cleaver.buildbin-libdir && /Users/biocbuild/BBS/utils/build-universal.sh cleaver_1.20.0.tar.gz /Library/Frameworks/R.framework/Versions/Current/Resources/bin/R cleaver.buildbin-libdir |
| StartedAt: 2019-04-16 03:50:53 -0400 (Tue, 16 Apr 2019) |
| EndedAt: 2019-04-16 03:51:39 -0400 (Tue, 16 Apr 2019) |
| EllapsedTime: 45.8 seconds |
| RetCode: 0 |
| Status: OK |
| PackageFile: cleaver_1.20.0.tgz |
| PackageFileSize: 230.2 KiB |
############################################################################## ############################################################################## ### ### Running command: ### ### rm -rf cleaver.buildbin-libdir && mkdir cleaver.buildbin-libdir && /Users/biocbuild/BBS/utils/build-universal.sh cleaver_1.20.0.tar.gz /Library/Frameworks/R.framework/Versions/Current/Resources/bin/R cleaver.buildbin-libdir ### ############################################################################## ############################################################################## >>>>>>> >>>>>>> INSTALLATION WITH 'R CMD INSTALL --preclean --no-multiarch --library=cleaver.buildbin-libdir cleaver_1.20.0.tar.gz' >>>>>>> * installing *source* package ‘cleaver’ ... ** R ** inst ** byte-compile and prepare package for lazy loading ** help *** installing help indices ** building package indices ** installing vignettes ** testing if installed package can be loaded * DONE (cleaver)