| Back to Multiple platform build/check report for BioC 3.8 |
|
This page was generated on 2019-04-16 12:01:40 -0400 (Tue, 16 Apr 2019).
| Package 261/1649 | Hostname | OS / Arch | INSTALL | BUILD | CHECK | BUILD BIN | ||||||
| chromVAR 1.4.1 Alicia Schep
| malbec1 | Linux (Ubuntu 16.04.6 LTS) / x86_64 | OK | OK | OK | |||||||
| merida1 | OS X 10.11.6 El Capitan / x86_64 | OK | OK | [ OK ] | OK |
| Package: chromVAR |
| Version: 1.4.1 |
| Command: /Library/Frameworks/R.framework/Versions/Current/Resources/bin/R CMD check --install=check:chromVAR.install-out.txt --library=/Library/Frameworks/R.framework/Versions/Current/Resources/library --no-vignettes --timings chromVAR_1.4.1.tar.gz |
| StartedAt: 2019-04-15 22:59:57 -0400 (Mon, 15 Apr 2019) |
| EndedAt: 2019-04-15 23:06:50 -0400 (Mon, 15 Apr 2019) |
| EllapsedTime: 412.5 seconds |
| RetCode: 0 |
| Status: OK |
| CheckDir: chromVAR.Rcheck |
| Warnings: 0 |
##############################################################################
##############################################################################
###
### Running command:
###
### /Library/Frameworks/R.framework/Versions/Current/Resources/bin/R CMD check --install=check:chromVAR.install-out.txt --library=/Library/Frameworks/R.framework/Versions/Current/Resources/library --no-vignettes --timings chromVAR_1.4.1.tar.gz
###
##############################################################################
##############################################################################
* using log directory ‘/Users/biocbuild/bbs-3.8-bioc/meat/chromVAR.Rcheck’
* using R version 3.5.3 (2019-03-11)
* using platform: x86_64-apple-darwin15.6.0 (64-bit)
* using session charset: UTF-8
* using option ‘--no-vignettes’
* checking for file ‘chromVAR/DESCRIPTION’ ... OK
* checking extension type ... Package
* this is package ‘chromVAR’ version ‘1.4.1’
* checking package namespace information ... OK
* checking package dependencies ... OK
* checking if this is a source package ... OK
* checking if there is a namespace ... OK
* checking for hidden files and directories ... OK
* checking for portable file names ... OK
* checking for sufficient/correct file permissions ... OK
* checking whether package ‘chromVAR’ can be installed ... OK
* checking installed package size ... OK
* checking package directory ... OK
* checking ‘build’ directory ... OK
* checking DESCRIPTION meta-information ... OK
* checking top-level files ... OK
* checking for left-over files ... OK
* checking index information ... OK
* checking package subdirectories ... OK
* checking R files for non-ASCII characters ... OK
* checking R files for syntax errors ... OK
* checking whether the package can be loaded ... OK
* checking whether the package can be loaded with stated dependencies ... OK
* checking whether the package can be unloaded cleanly ... OK
* checking whether the namespace can be loaded with stated dependencies ... OK
* checking whether the namespace can be unloaded cleanly ... OK
* checking dependencies in R code ... OK
* checking S3 generic/method consistency ... OK
* checking replacement functions ... OK
* checking foreign function calls ... OK
* checking R code for possible problems ... OK
* checking Rd files ... OK
* checking Rd metadata ... OK
* checking Rd cross-references ... OK
* checking for missing documentation entries ... OK
* checking for code/documentation mismatches ... OK
* checking Rd \usage sections ... OK
* checking Rd contents ... OK
* checking for unstated dependencies in examples ... OK
* checking contents of ‘data’ directory ... OK
* checking data for non-ASCII characters ... OK
* checking data for ASCII and uncompressed saves ... OK
* checking line endings in C/C++/Fortran sources/headers ... OK
* checking line endings in Makefiles ... OK
* checking compilation flags in Makevars ... OK
* checking for GNU extensions in Makefiles ... OK
* checking for portable use of $(BLAS_LIBS) and $(LAPACK_LIBS) ... OK
* checking compiled code ... NOTE
Note: information on .o files is not available
* checking files in ‘vignettes’ ... OK
* checking examples ... OK
Examples with CPU or elapsed time > 5s
user system elapsed
deviationsCovariability 25.746 0.481 26.624
getJasparMotifs 8.074 0.142 8.299
pwmDistance 7.410 0.126 7.622
* checking for unstated dependencies in ‘tests’ ... OK
* checking tests ...
Running ‘testthat.R’
OK
* checking for unstated dependencies in vignettes ... OK
* checking package vignettes in ‘inst/doc’ ... OK
* checking running R code from vignettes ... SKIPPED
* checking re-building of vignette outputs ... SKIPPED
* checking PDF version of manual ... OK
* DONE
Status: 1 NOTE
See
‘/Users/biocbuild/bbs-3.8-bioc/meat/chromVAR.Rcheck/00check.log’
for details.
chromVAR.Rcheck/00install.out
############################################################################## ############################################################################## ### ### Running command: ### ### /Library/Frameworks/R.framework/Versions/Current/Resources/bin/R CMD INSTALL chromVAR ### ############################################################################## ############################################################################## * installing to library ‘/Library/Frameworks/R.framework/Versions/3.5/Resources/library’ * installing *source* package ‘chromVAR’ ... ** libs clang++ -std=gnu++11 -I"/Library/Frameworks/R.framework/Resources/include" -DNDEBUG -I"/Library/Frameworks/R.framework/Versions/3.5/Resources/library/Rcpp/include" -I"/Library/Frameworks/R.framework/Versions/3.5/Resources/library/RcppArmadillo/include" -I/usr/local/include -fPIC -Wall -g -O2 -c RcppExports.cpp -o RcppExports.o clang++ -std=gnu++11 -I"/Library/Frameworks/R.framework/Resources/include" -DNDEBUG -I"/Library/Frameworks/R.framework/Versions/3.5/Resources/library/Rcpp/include" -I"/Library/Frameworks/R.framework/Versions/3.5/Resources/library/RcppArmadillo/include" -I/usr/local/include -fPIC -Wall -g -O2 -c pwm_similarity.cpp -o pwm_similarity.o clang++ -std=gnu++11 -I"/Library/Frameworks/R.framework/Resources/include" -DNDEBUG -I"/Library/Frameworks/R.framework/Versions/3.5/Resources/library/Rcpp/include" -I"/Library/Frameworks/R.framework/Versions/3.5/Resources/library/RcppArmadillo/include" -I/usr/local/include -fPIC -Wall -g -O2 -c utils.cpp -o utils.o clang++ -std=gnu++11 -dynamiclib -Wl,-headerpad_max_install_names -undefined dynamic_lookup -single_module -multiply_defined suppress -L/Library/Frameworks/R.framework/Resources/lib -L/usr/local/lib -o chromVAR.so RcppExports.o pwm_similarity.o utils.o -L/Library/Frameworks/R.framework/Resources/lib -lRlapack -L/Library/Frameworks/R.framework/Resources/lib -lRblas -L/usr/local/gfortran/lib/gcc/x86_64-apple-darwin15/6.1.0 -L/usr/local/gfortran/lib -lgfortran -lquadmath -lm -F/Library/Frameworks/R.framework/.. -framework R -Wl,-framework -Wl,CoreFoundation installing to /Library/Frameworks/R.framework/Versions/3.5/Resources/library/chromVAR/libs ** R ** data *** moving datasets to lazyload DB ** inst ** byte-compile and prepare package for lazy loading ** help *** installing help indices ** building package indices ** installing vignettes ** testing if installed package can be loaded * DONE (chromVAR)
chromVAR.Rcheck/tests/testthat.Rout
R version 3.5.3 (2019-03-11) -- "Great Truth"
Copyright (C) 2019 The R Foundation for Statistical Computing
Platform: x86_64-apple-darwin15.6.0 (64-bit)
R is free software and comes with ABSOLUTELY NO WARRANTY.
You are welcome to redistribute it under certain conditions.
Type 'license()' or 'licence()' for distribution details.
R is a collaborative project with many contributors.
Type 'contributors()' for more information and
'citation()' on how to cite R or R packages in publications.
Type 'demo()' for some demos, 'help()' for on-line help, or
'help.start()' for an HTML browser interface to help.
Type 'q()' to quit R.
> library(testthat)
> library(chromVAR)
> BiocParallel::register(BiocParallel::SerialParam())
> test_check("chromVAR")
══ testthat results ═══════════════════════════════════════════════════════════
OK: 65 SKIPPED: 0 FAILED: 0
>
> proc.time()
user system elapsed
25.124 1.270 26.673
chromVAR.Rcheck/chromVAR-Ex.timings
| name | user | system | elapsed | |
| addGCBias | 0.886 | 0.029 | 0.925 | |
| annotationMatches | 0.021 | 0.002 | 0.023 | |
| chromVAR_theme | 0.036 | 0.003 | 0.038 | |
| computeDeviations | 3.089 | 0.122 | 3.250 | |
| computeExpectations | 0.035 | 0.001 | 0.035 | |
| computeVariability | 4.460 | 0.118 | 4.618 | |
| counts | 0.015 | 0.001 | 0.016 | |
| deviationScores | 0.008 | 0.001 | 0.008 | |
| deviations | 0.007 | 0.000 | 0.007 | |
| deviationsCovariability | 25.746 | 0.481 | 26.624 | |
| deviationsTsne | 0.116 | 0.002 | 0.121 | |
| differentialDeviations | 0.018 | 0.001 | 0.019 | |
| differentialVariability | 0.040 | 0.001 | 0.040 | |
| example_counts | 0.001 | 0.001 | 0.003 | |
| filterPeaks | 0.300 | 0.014 | 0.317 | |
| filterSamples | 0.083 | 0.009 | 0.094 | |
| filterSamplesPlot | 0.159 | 0.009 | 0.174 | |
| getAnnotations | 0.502 | 0.009 | 0.516 | |
| getBackgroundPeaks | 0.996 | 0.093 | 1.109 | |
| getCisGroups | 0.103 | 0.000 | 0.105 | |
| getCounts | 4.101 | 0.288 | 4.455 | |
| getFragmentsPerPeak | 0.015 | 0.001 | 0.016 | |
| getFragmentsPerSample | 0.016 | 0.001 | 0.017 | |
| getJasparMotifs | 8.074 | 0.142 | 8.299 | |
| getPeaks | 0.117 | 0.002 | 0.120 | |
| getPermutedData | 2.721 | 0.132 | 2.890 | |
| getSampleCorrelation | 0.021 | 0.001 | 0.022 | |
| getSampleDepths | 0.156 | 0.006 | 0.168 | |
| getSampleDistance | 0.021 | 0.000 | 0.022 | |
| getTotalFragments | 0.016 | 0.000 | 0.016 | |
| makeBiasBins | 0.059 | 0.001 | 0.059 | |
| makePermutedSets | 1.294 | 0.069 | 1.377 | |
| matchKmers | 1.551 | 0.068 | 1.646 | |
| mini_counts | 0.001 | 0.001 | 0.003 | |
| mini_dev | 0.002 | 0.001 | 0.003 | |
| mini_ix | 0.002 | 0.001 | 0.003 | |
| plotVariability | 4.844 | 0.064 | 4.960 | |
| pwmDistance | 7.410 | 0.126 | 7.622 | |
| rbind-chromVARDeviations-method | 0.046 | 0.001 | 0.046 | |