| Back to Multiple platform build/check report for BioC 3.8 |
|
This page was generated on 2019-04-13 11:22:26 -0400 (Sat, 13 Apr 2019).
| Package 255/1649 | Hostname | OS / Arch | INSTALL | BUILD | CHECK | BUILD BIN | ||||||
| chroGPS 2.0.1 Oscar Reina
| malbec1 | Linux (Ubuntu 16.04.6 LTS) / x86_64 | OK | OK | OK | |||||||
| tokay1 | Windows Server 2012 R2 Standard / x64 | OK | OK | [ OK ] | OK | |||||||
| merida1 | OS X 10.11.6 El Capitan / x86_64 | OK | OK | OK | OK |
| Package: chroGPS |
| Version: 2.0.1 |
| Command: C:\Users\biocbuild\bbs-3.8-bioc\R\bin\R.exe CMD check --force-multiarch --install=check:chroGPS.install-out.txt --library=C:\Users\biocbuild\bbs-3.8-bioc\R\library --no-vignettes --timings chroGPS_2.0.1.tar.gz |
| StartedAt: 2019-04-13 01:11:28 -0400 (Sat, 13 Apr 2019) |
| EndedAt: 2019-04-13 01:18:25 -0400 (Sat, 13 Apr 2019) |
| EllapsedTime: 417.4 seconds |
| RetCode: 0 |
| Status: OK |
| CheckDir: chroGPS.Rcheck |
| Warnings: 0 |
##############################################################################
##############################################################################
###
### Running command:
###
### C:\Users\biocbuild\bbs-3.8-bioc\R\bin\R.exe CMD check --force-multiarch --install=check:chroGPS.install-out.txt --library=C:\Users\biocbuild\bbs-3.8-bioc\R\library --no-vignettes --timings chroGPS_2.0.1.tar.gz
###
##############################################################################
##############################################################################
* using log directory 'C:/Users/biocbuild/bbs-3.8-bioc/meat/chroGPS.Rcheck'
* using R version 3.5.3 (2019-03-11)
* using platform: x86_64-w64-mingw32 (64-bit)
* using session charset: ISO8859-1
* using option '--no-vignettes'
* checking for file 'chroGPS/DESCRIPTION' ... OK
* checking extension type ... Package
* this is package 'chroGPS' version '2.0.1'
* checking package namespace information ... OK
* checking package dependencies ...Warning: unable to access index for repository https://CRAN.R-project.org/src/contrib:
cannot open URL 'https://CRAN.R-project.org/src/contrib/PACKAGES'
OK
* checking if this is a source package ... OK
* checking if there is a namespace ... OK
* checking for hidden files and directories ... OK
* checking for portable file names ... OK
* checking whether package 'chroGPS' can be installed ... OK
* checking installed package size ... OK
* checking package directory ... OK
* checking 'build' directory ... OK
* checking DESCRIPTION meta-information ... OK
* checking top-level files ... OK
* checking for left-over files ... OK
* checking index information ... OK
* checking package subdirectories ... OK
* checking R files for non-ASCII characters ... OK
* checking R files for syntax errors ... OK
* loading checks for arch 'i386'
** checking whether the package can be loaded ... OK
** checking whether the package can be loaded with stated dependencies ... OK
** checking whether the package can be unloaded cleanly ... OK
** checking whether the namespace can be loaded with stated dependencies ... OK
** checking whether the namespace can be unloaded cleanly ... OK
* loading checks for arch 'x64'
** checking whether the package can be loaded ... OK
** checking whether the package can be loaded with stated dependencies ... OK
** checking whether the package can be unloaded cleanly ... OK
** checking whether the namespace can be loaded with stated dependencies ... OK
** checking whether the namespace can be unloaded cleanly ... OK
* checking dependencies in R code ... OK
* checking S3 generic/method consistency ... OK
* checking replacement functions ... OK
* checking foreign function calls ... OK
* checking R code for possible problems ... NOTE
chisqdist : <anonymous>: no visible global function definition for
'RleList'
chisqdist : <anonymous> : <anonymous>: no visible global function
definition for 'Rle'
Undefined global functions or variables:
Rle RleList
* checking Rd files ... OK
* checking Rd metadata ... OK
* checking Rd cross-references ... OK
* checking for missing documentation entries ... OK
* checking for code/documentation mismatches ... OK
* checking Rd \usage sections ... OK
* checking Rd contents ... OK
* checking for unstated dependencies in examples ... OK
* checking contents of 'data' directory ... OK
* checking data for non-ASCII characters ... OK
* checking data for ASCII and uncompressed saves ... OK
* checking installed files from 'inst/doc' ... OK
* checking files in 'vignettes' ... OK
* checking examples ...
** running examples for arch 'i386' ... OK
Examples with CPU or elapsed time > 5s
user system elapsed
rankFactorsbyProfile 96.44 0.5 96.94
** running examples for arch 'x64' ... OK
Examples with CPU or elapsed time > 5s
user system elapsed
rankFactorsbyProfile 89.35 0.51 89.88
* checking for unstated dependencies in vignettes ... NOTE
'library' or 'require' call not declared from: 'gtools'
* checking package vignettes in 'inst/doc' ... OK
* checking running R code from vignettes ... SKIPPED
* checking re-building of vignette outputs ... SKIPPED
* checking PDF version of manual ... OK
* DONE
Status: 2 NOTEs
See
'C:/Users/biocbuild/bbs-3.8-bioc/meat/chroGPS.Rcheck/00check.log'
for details.
chroGPS.Rcheck/00install.out
##############################################################################
##############################################################################
###
### Running command:
###
### C:\cygwin\bin\curl.exe -O https://malbec1.bioconductor.org/BBS/3.8/bioc/src/contrib/chroGPS_2.0.1.tar.gz && rm -rf chroGPS.buildbin-libdir && mkdir chroGPS.buildbin-libdir && C:\Users\biocbuild\bbs-3.8-bioc\R\bin\R.exe CMD INSTALL --merge-multiarch --build --library=chroGPS.buildbin-libdir chroGPS_2.0.1.tar.gz && C:\Users\biocbuild\bbs-3.8-bioc\R\bin\R.exe CMD INSTALL chroGPS_2.0.1.zip && rm chroGPS_2.0.1.tar.gz chroGPS_2.0.1.zip
###
##############################################################################
##############################################################################
% Total % Received % Xferd Average Speed Time Time Time Current
Dload Upload Total Spent Left Speed
0 0 0 0 0 0 0 0 --:--:-- --:--:-- --:--:-- 0
100 3981k 100 3981k 0 0 39.6M 0 --:--:-- --:--:-- --:--:-- 41.3M
install for i386
* installing *source* package 'chroGPS' ...
** R
** data
** inst
** byte-compile and prepare package for lazy loading
** help
*** installing help indices
converting help for package 'chroGPS'
finding HTML links ... done
addVar html
adjustPeaks html
bg3 html
boostMDS html
clusGPS-class html
clusGPS html
combineGenesMatrix html
diffFactors html
diffGenes html
distGPS-class html
distGPS html
domainDist html
geneSetGPS html
getURL html
gff2RDList html
gps2xgmml html
mds-class html
mds html
mergeClusters html
mergeReplicates html
procrustesAdj html
profileClusters html
rankFactorsbyDomain html
rankFactorsbyProfile html
s2 html
splitDistGPS-class html
** building package indices
** installing vignettes
'chroGPS.Rnw'
** testing if installed package can be loaded
In R CMD INSTALL
install for x64
* installing *source* package 'chroGPS' ...
** testing if installed package can be loaded
* MD5 sums
packaged installation of 'chroGPS' as chroGPS_2.0.1.zip
* DONE (chroGPS)
In R CMD INSTALL
In R CMD INSTALL
* installing to library 'C:/Users/biocbuild/bbs-3.8-bioc/R/library'
package 'chroGPS' successfully unpacked and MD5 sums checked
In R CMD INSTALL
|
chroGPS.Rcheck/examples_i386/chroGPS-Ex.timings
|
chroGPS.Rcheck/examples_x64/chroGPS-Ex.timings
|