| Back to Multiple platform build/check report for BioC 3.8 |
|
This page was generated on 2019-04-13 11:22:40 -0400 (Sat, 13 Apr 2019).
| Package 240/1649 | Hostname | OS / Arch | INSTALL | BUILD | CHECK | BUILD BIN | ||||||
| chimera 1.24.0 Raffaele A Calogero
| malbec1 | Linux (Ubuntu 16.04.6 LTS) / x86_64 | OK | OK | OK | |||||||
| tokay1 | Windows Server 2012 R2 Standard / x64 | OK | OK | OK | [ OK ] | |||||||
| merida1 | OS X 10.11.6 El Capitan / x86_64 | OK | OK | OK | OK |
| Package: chimera |
| Version: 1.24.0 |
| Command: rm -rf chimera.buildbin-libdir && mkdir chimera.buildbin-libdir && C:\Users\biocbuild\bbs-3.8-bioc\R\bin\R.exe CMD INSTALL --merge-multiarch --build --library=chimera.buildbin-libdir chimera_1.24.0.tar.gz |
| StartedAt: 2019-04-13 07:02:24 -0400 (Sat, 13 Apr 2019) |
| EndedAt: 2019-04-13 07:03:25 -0400 (Sat, 13 Apr 2019) |
| EllapsedTime: 61.3 seconds |
| RetCode: 0 |
| Status: OK |
| PackageFile: chimera_1.24.0.zip |
| PackageFileSize: 2.994 MiB |
##############################################################################
##############################################################################
###
### Running command:
###
### rm -rf chimera.buildbin-libdir && mkdir chimera.buildbin-libdir && C:\Users\biocbuild\bbs-3.8-bioc\R\bin\R.exe CMD INSTALL --merge-multiarch --build --library=chimera.buildbin-libdir chimera_1.24.0.tar.gz
###
##############################################################################
##############################################################################
install for i386
* installing *source* package 'chimera' ...
** libs
C:/Rtools/mingw_32/bin/g++ -I"C:/Users/BIOCBU˜1/BBS-3˜1.8-B/R/include" -DNDEBUG -I"C:/extsoft/include" -O2 -Wall -mtune=generic -c StarParser.cpp -o StarParser.o
C:/Rtools/mingw_32/bin/g++ -shared -s -static-libgcc -o chimera.dll tmp.def StarParser.o -LC:/extsoft/lib/i386 -LC:/extsoft/lib -LC:/Users/BIOCBU˜1/BBS-3˜1.8-B/R/bin/i386 -lR
installing to C:/Users/biocbuild/bbs-3.8-bioc/meat/chimera.buildbin-libdir/chimera/libs/i386
** R
** inst
** byte-compile and prepare package for lazy loading
** help
*** installing help indices
converting help for package 'chimera'
finding HTML links ... done
MHmakeRandomString html
bam2fastq html
breakpointOverlaps html
chimera-package html
chimeraSeqSet html
chimeraSeqs html
class.fSet html
defuseTPTN html
filterList html
filterSamReads html
fusionName html
fusionPeptides html
gapfillerInstallation html
gapfillerRun html
gapfillerWrap html
importFusionData html
is.fSet html
newfSet html
oncofuseInstallation html
oncofuseRun html
picardInstallation html
plotCoverage html
prettyPrint html
removingErrorLine html
starInstallation html
starReads html
starRun html
subreadRun html
supportingReads html
tophatInstallation html
tophatRun html
validateSamFile html
** building package indices
** installing vignettes
** testing if installed package can be loaded
In R CMD INSTALL
install for x64
* installing *source* package 'chimera' ...
** libs
C:/Rtools/mingw_64/bin/g++ -I"C:/Users/BIOCBU˜1/BBS-3˜1.8-B/R/include" -DNDEBUG -I"C:/extsoft/include" -O2 -Wall -mtune=generic -c StarParser.cpp -o StarParser.o
C:/Rtools/mingw_64/bin/g++ -shared -s -static-libgcc -o chimera.dll tmp.def StarParser.o -LC:/extsoft/lib/x64 -LC:/extsoft/lib -LC:/Users/BIOCBU˜1/BBS-3˜1.8-B/R/bin/x64 -lR
installing to C:/Users/biocbuild/bbs-3.8-bioc/meat/chimera.buildbin-libdir/chimera/libs/x64
** testing if installed package can be loaded
* MD5 sums
packaged installation of 'chimera' as chimera_1.24.0.zip
* DONE (chimera)
In R CMD INSTALL
In R CMD INSTALL