| Back to Multiple platform build/check report for BioC 3.8 |
|
This page was generated on 2019-04-13 11:21:10 -0400 (Sat, 13 Apr 2019).
| Package 235/1649 | Hostname | OS / Arch | INSTALL | BUILD | CHECK | BUILD BIN | ||||||
| charm 2.28.0 Peter Murakami
| malbec1 | Linux (Ubuntu 16.04.6 LTS) / x86_64 | OK | OK | WARNINGS | |||||||
| tokay1 | Windows Server 2012 R2 Standard / x64 | [ OK ] | OK | WARNINGS | OK | |||||||
| merida1 | OS X 10.11.6 El Capitan / x86_64 | OK | OK | WARNINGS | OK |
| Package: charm |
| Version: 2.28.0 |
| Command: C:\cygwin\bin\curl.exe -O https://malbec1.bioconductor.org/BBS/3.8/bioc/src/contrib/charm_2.28.0.tar.gz && rm -rf charm.buildbin-libdir && mkdir charm.buildbin-libdir && C:\Users\biocbuild\bbs-3.8-bioc\R\bin\R.exe CMD INSTALL --merge-multiarch --build --library=charm.buildbin-libdir charm_2.28.0.tar.gz && C:\Users\biocbuild\bbs-3.8-bioc\R\bin\R.exe CMD INSTALL charm_2.28.0.zip && rm charm_2.28.0.tar.gz charm_2.28.0.zip |
| StartedAt: 2019-04-12 19:59:45 -0400 (Fri, 12 Apr 2019) |
| EndedAt: 2019-04-12 20:00:52 -0400 (Fri, 12 Apr 2019) |
| EllapsedTime: 66.8 seconds |
| RetCode: 0 |
| Status: OK |
##############################################################################
##############################################################################
###
### Running command:
###
### C:\cygwin\bin\curl.exe -O https://malbec1.bioconductor.org/BBS/3.8/bioc/src/contrib/charm_2.28.0.tar.gz && rm -rf charm.buildbin-libdir && mkdir charm.buildbin-libdir && C:\Users\biocbuild\bbs-3.8-bioc\R\bin\R.exe CMD INSTALL --merge-multiarch --build --library=charm.buildbin-libdir charm_2.28.0.tar.gz && C:\Users\biocbuild\bbs-3.8-bioc\R\bin\R.exe CMD INSTALL charm_2.28.0.zip && rm charm_2.28.0.tar.gz charm_2.28.0.zip
###
##############################################################################
##############################################################################
% Total % Received % Xferd Average Speed Time Time Time Current
Dload Upload Total Spent Left Speed
0 0 0 0 0 0 0 0 --:--:-- --:--:-- --:--:-- 0
100 85704 100 85704 0 0 199k 0 --:--:-- --:--:-- --:--:-- 201k
install for i386
* installing *source* package 'charm' ...
** R
** inst
** byte-compile and prepare package for lazy loading
** help
*** installing help indices
converting help for package 'charm'
finding HTML links ... done
bgAdjust html
clusterMaker html
cmdsplot html
controlQC html
countGC html
cpgdensity html
dmrFdr html
dmrFind html
dmrFinder html
dmrPlot html
getControlIndex html
maxDensity html
methPercent html
methp html
normalizeBetweenSamples html
normalizeWithinSamples html
plotDMRs html
plotDensity html
plotRegions html
pmQuality html
qcReport html
qval html
readCharm html
regionMatch html
regionPlot html
spatialAdjust html
validatePd html
** building package indices
** installing vignettes
** testing if installed package can be loaded
In R CMD INSTALL
install for x64
* installing *source* package 'charm' ...
** testing if installed package can be loaded
* MD5 sums
packaged installation of 'charm' as charm_2.28.0.zip
* DONE (charm)
In R CMD INSTALL
In R CMD INSTALL
* installing to library 'C:/Users/biocbuild/bbs-3.8-bioc/R/library'
package 'charm' successfully unpacked and MD5 sums checked
In R CMD INSTALL