| Back to Multiple platform build/check report for BioC 3.8 |
|
This page was generated on 2019-04-13 11:19:56 -0400 (Sat, 13 Apr 2019).
| Package 230/1649 | Hostname | OS / Arch | INSTALL | BUILD | CHECK | BUILD BIN | ||||||
| cghMCR 1.40.0 J. Zhang
| malbec1 | Linux (Ubuntu 16.04.6 LTS) / x86_64 | OK | OK | WARNINGS | |||||||
| tokay1 | Windows Server 2012 R2 Standard / x64 | OK | OK | WARNINGS | [ OK ] | |||||||
| merida1 | OS X 10.11.6 El Capitan / x86_64 | OK | OK | WARNINGS | OK |
| Package: cghMCR |
| Version: 1.40.0 |
| Command: rm -rf cghMCR.buildbin-libdir && mkdir cghMCR.buildbin-libdir && C:\Users\biocbuild\bbs-3.8-bioc\R\bin\R.exe CMD INSTALL --merge-multiarch --build --library=cghMCR.buildbin-libdir cghMCR_1.40.0.tar.gz |
| StartedAt: 2019-04-13 07:01:58 -0400 (Sat, 13 Apr 2019) |
| EndedAt: 2019-04-13 07:02:52 -0400 (Sat, 13 Apr 2019) |
| EllapsedTime: 54.0 seconds |
| RetCode: 0 |
| Status: OK |
| PackageFile: cghMCR_1.40.0.zip |
| PackageFileSize: 36.27 MiB |
##############################################################################
##############################################################################
###
### Running command:
###
### rm -rf cghMCR.buildbin-libdir && mkdir cghMCR.buildbin-libdir && C:\Users\biocbuild\bbs-3.8-bioc\R\bin\R.exe CMD INSTALL --merge-multiarch --build --library=cghMCR.buildbin-libdir cghMCR_1.40.0.tar.gz
###
##############################################################################
##############################################################################
install for i386
* installing *source* package 'cghMCR' ...
** R
** data
** inst
** byte-compile and prepare package for lazy loading
** help
*** installing help indices
converting help for package 'cghMCR'
finding HTML links ... done
SGOL-class html
cghMCR-class html
cghMCR html
mergeMCRProbes html
methods html
plot.DNAcopy html
** building package indices
** installing vignettes
** testing if installed package can be loaded
In R CMD INSTALL
install for x64
* installing *source* package 'cghMCR' ...
** testing if installed package can be loaded
* MD5 sums
packaged installation of 'cghMCR' as cghMCR_1.40.0.zip
* DONE (cghMCR)
In R CMD INSTALL
In R CMD INSTALL